BEGIN:VCALENDAR
VERSION:2.0
PRODID:-//Islamic Center of Fremont - ECPv6.15.20//NONSGML v1.0//EN
CALSCALE:GREGORIAN
METHOD:PUBLISH
X-WR-CALNAME:Islamic Center of Fremont
X-ORIGINAL-URL:https://icfbayarea.com
X-WR-CALDESC:Events for Islamic Center of Fremont
REFRESH-INTERVAL;VALUE=DURATION:PT1H
X-Robots-Tag:noindex
X-PUBLISHED-TTL:PT1H
BEGIN:VTIMEZONE
TZID:America/Los_Angeles
BEGIN:DAYLIGHT
TZOFFSETFROM:-0800
TZOFFSETTO:-0700
TZNAME:PDT
DTSTART:20250309T100000
END:DAYLIGHT
BEGIN:STANDARD
TZOFFSETFROM:-0700
TZOFFSETTO:-0800
TZNAME:PST
DTSTART:20251102T090000
END:STANDARD
BEGIN:DAYLIGHT
TZOFFSETFROM:-0800
TZOFFSETTO:-0700
TZNAME:PDT
DTSTART:20260308T100000
END:DAYLIGHT
BEGIN:STANDARD
TZOFFSETFROM:-0700
TZOFFSETTO:-0800
TZNAME:PST
DTSTART:20261101T090000
END:STANDARD
BEGIN:DAYLIGHT
TZOFFSETFROM:-0800
TZOFFSETTO:-0700
TZNAME:PDT
DTSTART:20270314T100000
END:DAYLIGHT
BEGIN:STANDARD
TZOFFSETFROM:-0700
TZOFFSETTO:-0800
TZNAME:PST
DTSTART:20271107T090000
END:STANDARD
END:VTIMEZONE
BEGIN:VEVENT
DTSTART;TZID=America/Los_Angeles:20260212T193000
DTEND;TZID=America/Los_Angeles:20260212T210000
DTSTAMP:20260423T154308
CREATED:20260206T231751Z
LAST-MODIFIED:20260213T041805Z
UID:42712-1770924600-1770930000@icfbayarea.com
SUMMARY:Ramadan Preparation Workshop
DESCRIPTION:As we approach the blessed month of Ramadan\, we will be holding a Ramadan Preparation Workshop after ʿIshāʾ at 7:30 PM. (Online MZ) \nIn these sessions\, we will discuss:    •    the virtues and blessings of Ramadan    •    Qur’an recitation and fasting    •    important do’s and don’ts to keep in mind during Ramadan \nSession will be held online\, and there will be time for questions and discussion\, in shā’ Allāh. \nYou can join using the following link:https://chat.whatsapp.com/J5DwXn6zbnQAZGGG764SQB?mode=gi_t \nWe look forward to having you join us as we prepare ourselves spiritually and practically for this blessed month.
URL:https://icfbayarea.com/event/ramadan-preparation-workshop/
LOCATION:Masjid Zakariya (ICF-Albrae) and Online
END:VEVENT
END:VCALENDAR