BEGIN:VCALENDAR
VERSION:2.0
PRODID:-//Islamic Center of Fremont - ECPv6.15.20//NONSGML v1.0//EN
CALSCALE:GREGORIAN
METHOD:PUBLISH
X-WR-CALNAME:Islamic Center of Fremont
X-ORIGINAL-URL:https://icfbayarea.com
X-WR-CALDESC:Events for Islamic Center of Fremont
REFRESH-INTERVAL;VALUE=DURATION:PT1H
X-Robots-Tag:noindex
X-PUBLISHED-TTL:PT1H
BEGIN:VTIMEZONE
TZID:America/Los_Angeles
BEGIN:DAYLIGHT
TZOFFSETFROM:-0800
TZOFFSETTO:-0700
TZNAME:PDT
DTSTART:20250309T100000
END:DAYLIGHT
BEGIN:STANDARD
TZOFFSETFROM:-0700
TZOFFSETTO:-0800
TZNAME:PST
DTSTART:20251102T090000
END:STANDARD
BEGIN:DAYLIGHT
TZOFFSETFROM:-0800
TZOFFSETTO:-0700
TZNAME:PDT
DTSTART:20260308T100000
END:DAYLIGHT
BEGIN:STANDARD
TZOFFSETFROM:-0700
TZOFFSETTO:-0800
TZNAME:PST
DTSTART:20261101T090000
END:STANDARD
BEGIN:DAYLIGHT
TZOFFSETFROM:-0800
TZOFFSETTO:-0700
TZNAME:PDT
DTSTART:20270314T100000
END:DAYLIGHT
BEGIN:STANDARD
TZOFFSETFROM:-0700
TZOFFSETTO:-0800
TZNAME:PST
DTSTART:20271107T090000
END:STANDARD
END:VTIMEZONE
BEGIN:VEVENT
DTSTART;TZID=America/Los_Angeles:20260409T110000
DTEND;TZID=America/Los_Angeles:20260409T120000
DTSTAMP:20260423T105313
CREATED:20250613T035245Z
LAST-MODIFIED:20250922T053420Z
UID:35773-1775732400-1775736000@icfbayarea.com
SUMMARY:Fitness Class for Sisters
DESCRIPTION:Get fit and stay active!\nhttps://www.simplipayapp.com/spay/?programId=3619\n(E_000003)
URL:https://icfbayarea.com/event/fitness-class-for-sisters-56/
LOCATION:Masjid Zakariya (Gym)
END:VEVENT
END:VCALENDAR