BEGIN:VCALENDAR
VERSION:2.0
PRODID:-//Islamic Center of Fremont - ECPv6.15.20//NONSGML v1.0//EN
CALSCALE:GREGORIAN
METHOD:PUBLISH
X-WR-CALNAME:Islamic Center of Fremont
X-ORIGINAL-URL:https://icfbayarea.com
X-WR-CALDESC:Events for Islamic Center of Fremont
REFRESH-INTERVAL;VALUE=DURATION:PT1H
X-Robots-Tag:noindex
X-PUBLISHED-TTL:PT1H
BEGIN:VTIMEZONE
TZID:America/Los_Angeles
BEGIN:DAYLIGHT
TZOFFSETFROM:-0800
TZOFFSETTO:-0700
TZNAME:PDT
DTSTART:20250309T100000
END:DAYLIGHT
BEGIN:STANDARD
TZOFFSETFROM:-0700
TZOFFSETTO:-0800
TZNAME:PST
DTSTART:20251102T090000
END:STANDARD
BEGIN:DAYLIGHT
TZOFFSETFROM:-0800
TZOFFSETTO:-0700
TZNAME:PDT
DTSTART:20260308T100000
END:DAYLIGHT
BEGIN:STANDARD
TZOFFSETFROM:-0700
TZOFFSETTO:-0800
TZNAME:PST
DTSTART:20261101T090000
END:STANDARD
BEGIN:DAYLIGHT
TZOFFSETFROM:-0800
TZOFFSETTO:-0700
TZNAME:PDT
DTSTART:20270314T100000
END:DAYLIGHT
BEGIN:STANDARD
TZOFFSETFROM:-0700
TZOFFSETTO:-0800
TZNAME:PST
DTSTART:20271107T090000
END:STANDARD
END:VTIMEZONE
BEGIN:VEVENT
DTSTART;TZID=America/Los_Angeles:20260913T173000
DTEND;TZID=America/Los_Angeles:20260913T183000
DTSTAMP:20260423T201724
CREATED:20260211T050250Z
LAST-MODIFIED:20260421T003302Z
UID:10002033-1789320600-1789324200@icfbayarea.com
SUMMARY:Dars-e-Hadith\, Mufti Muddassir Oovais Sahib
DESCRIPTION:
URL:https://icfbayarea.com/event/dars-e-hadith-mufti-muddassir-oovais-sahib-35/
LOCATION:Islamic Center of Fremont (ICF-Irvington)\, 4039 Irvington Ave\, Fremont\, CA\, United States
GEO:37.531181;-121.959565
X-APPLE-STRUCTURED-LOCATION;VALUE=URI;X-ADDRESS=Islamic Center of Fremont (ICF-Irvington) 4039 Irvington Ave Fremont CA United States;X-APPLE-RADIUS=500;X-TITLE=4039 Irvington Ave:geo:-121.959565,37.531181
END:VEVENT
BEGIN:VEVENT
DTSTART;TZID=America/Los_Angeles:20260914T200000
DTEND;TZID=America/Los_Angeles:20260914T210000
DTSTAMP:20260423T201724
CREATED:20260213T053247Z
LAST-MODIFIED:20260421T003302Z
UID:10002034-1789416000-1789419600@icfbayarea.com
SUMMARY:Quranic Arabic Language Online Class
DESCRIPTION:Instructor – Mufti Kamran\nFor more info: Visit courses.icfbayarea.com or email to muftikamran@icfbayarea.com
URL:https://icfbayarea.com/event/quranic-arabic-language-online-class-35/
LOCATION:CA
END:VEVENT
BEGIN:VEVENT
DTSTART;TZID=America/Los_Angeles:20260914T203000
DTEND;TZID=America/Los_Angeles:20260914T220000
DTSTAMP:20260423T201724
CREATED:20260213T053247Z
LAST-MODIFIED:20260421T003302Z
UID:10002035-1789417800-1789423200@icfbayarea.com
SUMMARY:Quranic Literacy Program: Brother's Class
DESCRIPTION:Adult Quran Class for brothers taught by Imam Yahya Mulla. \nFor more information\, please see:  \nQuranic Literacy Program \n\n(E_000060)
URL:https://icfbayarea.com/event/quranic-literacy-program-brothers-class-102/
LOCATION:Islamic Center of Fremont (ICF-Irvington)\, 4039 Irvington Ave\, Fremont\, CA\, United States
GEO:37.531181;-121.959565
X-APPLE-STRUCTURED-LOCATION;VALUE=URI;X-ADDRESS=Islamic Center of Fremont (ICF-Irvington) 4039 Irvington Ave Fremont CA United States;X-APPLE-RADIUS=500;X-TITLE=4039 Irvington Ave:geo:-121.959565,37.531181
END:VEVENT
BEGIN:VEVENT
DTSTART;TZID=America/Los_Angeles:20260915T200000
DTEND;TZID=America/Los_Angeles:20260915T210000
DTSTAMP:20260423T201724
CREATED:20260213T053247Z
LAST-MODIFIED:20260421T003303Z
UID:10002036-1789502400-1789506000@icfbayarea.com
SUMMARY:Fiqh of purification & salah - Mufti Ahsan Osmani
DESCRIPTION:This program is after Isha.
URL:https://icfbayarea.com/event/fiqh-of-purification-salah-mufti-ahsan-osmani-35/
LOCATION:Islamic Center of Fremont (ICF-Irvington)\, 4039 Irvington Ave\, Fremont\, CA\, United States
GEO:37.531181;-121.959565
X-APPLE-STRUCTURED-LOCATION;VALUE=URI;X-ADDRESS=Islamic Center of Fremont (ICF-Irvington) 4039 Irvington Ave Fremont CA United States;X-APPLE-RADIUS=500;X-TITLE=4039 Irvington Ave:geo:-121.959565,37.531181
END:VEVENT
BEGIN:VEVENT
DTSTART;TZID=America/Los_Angeles:20260917T193000
DTEND;TZID=America/Los_Angeles:20260917T203000
DTSTAMP:20260423T201724
CREATED:20260213T214841Z
LAST-MODIFIED:20260421T003303Z
UID:10002037-1789673400-1789677000@icfbayarea.com
SUMMARY:Quranic Compass: Navigating Challenges for Youth by Shaykh Shadman
DESCRIPTION:Join us for an enlightening journey as we delve into the depths of the Quran to address the pressing concerns of today’s youth.\nQuranic Compass is a weekly lecture series that invites you to explore the Islamic aspect of gender interactions\, the Quranic view on LGBTQ+ matters\, atheism\, and other contemporary issues.\nFB: http://facebook.com/MasjidZakariya\nIG: http://instagram.com/icfyouthbayarea\nYT: http://youtube.com/@islamiccenteroffremont\n(E_000059)
URL:https://icfbayarea.com/event/quranic-compass-navigating-challenges-for-youth-by-shaykh-shadman-103/
LOCATION:Masjid Zakariya\, 42412 Albrae St\, Fremont\, CA\, 94538\, United States
END:VEVENT
BEGIN:VEVENT
DTSTART;TZID=America/Los_Angeles:20260917T200000
DTEND;TZID=America/Los_Angeles:20260917T210000
DTSTAMP:20260423T201724
CREATED:20260214T013329Z
LAST-MODIFIED:20260421T003303Z
UID:10002038-1789675200-1789678800@icfbayarea.com
SUMMARY:Quran Tafseer after Maghrib
DESCRIPTION:Listen Live –  https://stream.masjidiapp.com/icfbayaans/listen-live/
URL:https://icfbayarea.com/event/quran-tafseer-after-maghrib-69/
LOCATION:ICF\, 4039 Irvington Avenue\, Fremont\, CA\, 94538\, United States
END:VEVENT
BEGIN:VEVENT
DTSTART;TZID=America/Los_Angeles:20260918T123000
DTEND;TZID=America/Los_Angeles:20260918T133000
DTSTAMP:20260423T201724
CREATED:20260214T070552Z
LAST-MODIFIED:20260421T003303Z
UID:10002039-1789734600-1789738200@icfbayarea.com
SUMMARY:Friday Bayaan at ICF
DESCRIPTION:Friday Bayaan at ICF\nhttps://stream.masjidiapp.com/icfbayaans/listen-live/\n(E_000027)
URL:https://icfbayarea.com/event/friday-bayaan-at-icf-132/
LOCATION:ICF\, 4039 Irvington Avenue\, Fremont\, CA\, 94538\, United States
END:VEVENT
BEGIN:VEVENT
DTSTART;TZID=America/Los_Angeles:20260918T183000
DTEND;TZID=America/Los_Angeles:20260918T200000
DTSTAMP:20260423T201724
CREATED:20260214T213338Z
LAST-MODIFIED:20260421T003303Z
UID:10002040-1789756200-1789761600@icfbayarea.com
SUMMARY:Quranic Literacy Program: Sisters' Class
DESCRIPTION:Adult Quran Class for sisters at Masjid Zakariya.\nFor more information\, please contact: imamshadman@icfbayarea.com\n(E_000067)
URL:https://icfbayarea.com/event/quranic-literacy-program-sisters-class-103/
LOCATION:Masjid Zakariya (ICF-Albrae)\, 42472 Albrae St\, Fremont\, CA\, United States
GEO:37.514829;-121.977139
X-APPLE-STRUCTURED-LOCATION;VALUE=URI;X-ADDRESS=Masjid Zakariya (ICF-Albrae) 42472 Albrae St Fremont CA United States;X-APPLE-RADIUS=500;X-TITLE=42472 Albrae St:geo:-121.977139,37.514829
END:VEVENT
BEGIN:VEVENT
DTSTART;TZID=America/Los_Angeles:20260918T190000
DTEND;TZID=America/Los_Angeles:20260918T230000
DTSTAMP:20260423T201724
CREATED:20260214T231747Z
LAST-MODIFIED:20260421T003303Z
UID:10002041-1789758000-1789772400@icfbayarea.com
SUMMARY:Family Night
DESCRIPTION:(E_000010)
URL:https://icfbayarea.com/event/family-night-105/
LOCATION:Masjid Zakariya\, 42412 Albrae St\, Fremont\, CA\, 94538\, United States
END:VEVENT
BEGIN:VEVENT
DTSTART;TZID=America/Los_Angeles:20260919T100000
DTEND;TZID=America/Los_Angeles:20260919T133000
DTSTAMP:20260423T201724
CREATED:20260216T024816Z
LAST-MODIFIED:20260421T003303Z
UID:10002042-1789812000-1789824600@icfbayarea.com
SUMMARY:Barakah Food Distribution (Sisters)
DESCRIPTION:ICF Sisters Program to distribute grocery packages to the needy\n(E_000011)
URL:https://icfbayarea.com/event/barakah-food-distribution-sisters-48/
LOCATION:Masjid Zakariya (Gym)
END:VEVENT
END:VCALENDAR