BEGIN:VCALENDAR
VERSION:2.0
PRODID:-//Islamic Center of Fremont - ECPv6.15.20//NONSGML v1.0//EN
CALSCALE:GREGORIAN
METHOD:PUBLISH
X-ORIGINAL-URL:https://icfbayarea.com
X-WR-CALDESC:Events for Islamic Center of Fremont
REFRESH-INTERVAL;VALUE=DURATION:PT1H
X-Robots-Tag:noindex
X-PUBLISHED-TTL:PT1H
BEGIN:VTIMEZONE
TZID:America/Los_Angeles
BEGIN:DAYLIGHT
TZOFFSETFROM:-0800
TZOFFSETTO:-0700
TZNAME:PDT
DTSTART:20250309T100000
END:DAYLIGHT
BEGIN:STANDARD
TZOFFSETFROM:-0700
TZOFFSETTO:-0800
TZNAME:PST
DTSTART:20251102T090000
END:STANDARD
BEGIN:DAYLIGHT
TZOFFSETFROM:-0800
TZOFFSETTO:-0700
TZNAME:PDT
DTSTART:20260308T100000
END:DAYLIGHT
BEGIN:STANDARD
TZOFFSETFROM:-0700
TZOFFSETTO:-0800
TZNAME:PST
DTSTART:20261101T090000
END:STANDARD
BEGIN:DAYLIGHT
TZOFFSETFROM:-0800
TZOFFSETTO:-0700
TZNAME:PDT
DTSTART:20270314T100000
END:DAYLIGHT
BEGIN:STANDARD
TZOFFSETFROM:-0700
TZOFFSETTO:-0800
TZNAME:PST
DTSTART:20271107T090000
END:STANDARD
END:VTIMEZONE
BEGIN:VEVENT
DTSTART;TZID=America/Los_Angeles:20260510T173000
DTEND;TZID=America/Los_Angeles:20260510T183000
DTSTAMP:20260423T140705
CREATED:20260117T001650Z
LAST-MODIFIED:20260421T003253Z
UID:10001857-1778434200-1778437800@icfbayarea.com
SUMMARY:Dars-e-Hadith\, Mufti Muddassir Oovais Sahib
DESCRIPTION:
URL:https://icfbayarea.com/event/dars-e-hadith-mufti-muddassir-oovais-sahib-17/
LOCATION:Islamic Center of Fremont (ICF-Irvington)\, 4039 Irvington Ave\, Fremont\, CA\, United States
GEO:37.531181;-121.959565
X-APPLE-STRUCTURED-LOCATION;VALUE=URI;X-ADDRESS=Islamic Center of Fremont (ICF-Irvington) 4039 Irvington Ave Fremont CA United States;X-APPLE-RADIUS=500;X-TITLE=4039 Irvington Ave:geo:-121.959565,37.531181
END:VEVENT
BEGIN:VEVENT
DTSTART;TZID=America/Los_Angeles:20260511T193000
DTEND;TZID=America/Los_Angeles:20260511T213000
DTSTAMP:20260423T140705
CREATED:20250831T122804Z
LAST-MODIFIED:20250909T032733Z
UID:10001752-1778527800-1778535000@icfbayarea.com
SUMMARY:Badminton (For Men)
DESCRIPTION:(E_000025)
URL:https://icfbayarea.com/event/badminton-for-men-71/
LOCATION:Masjid Zakariya (Gym)
END:VEVENT
BEGIN:VEVENT
DTSTART;TZID=America/Los_Angeles:20260511T200000
DTEND;TZID=America/Los_Angeles:20260511T210000
DTSTAMP:20260423T140705
CREATED:20260117T001651Z
LAST-MODIFIED:20260421T003253Z
UID:10001858-1778529600-1778533200@icfbayarea.com
SUMMARY:Quranic Arabic Language Online Class
DESCRIPTION:Instructor – Mufti Kamran\nFor more info: Visit courses.icfbayarea.com or email to muftikamran@icfbayarea.com
URL:https://icfbayarea.com/event/quranic-arabic-language-online-class-17/
LOCATION:CA
END:VEVENT
BEGIN:VEVENT
DTSTART;TZID=America/Los_Angeles:20260511T203000
DTEND;TZID=America/Los_Angeles:20260511T220000
DTSTAMP:20260423T140705
CREATED:20250831T122804Z
LAST-MODIFIED:20260421T003253Z
UID:10001753-1778531400-1778536800@icfbayarea.com
SUMMARY:Quranic Literacy Program: Brother's Class
DESCRIPTION:Adult Quran Class for brothers taught by Imam Yahya Mulla. \nFor more information\, please see:  \nQuranic Literacy Program \n\n(E_000060)
URL:https://icfbayarea.com/event/quranic-literacy-program-brothers-class-84/
LOCATION:Islamic Center of Fremont (ICF-Irvington)\, 4039 Irvington Ave\, Fremont\, CA\, United States
GEO:37.531181;-121.959565
X-APPLE-STRUCTURED-LOCATION;VALUE=URI;X-ADDRESS=Islamic Center of Fremont (ICF-Irvington) 4039 Irvington Ave Fremont CA United States;X-APPLE-RADIUS=500;X-TITLE=4039 Irvington Ave:geo:-121.959565,37.531181
END:VEVENT
BEGIN:VEVENT
DTSTART;TZID=America/Los_Angeles:20260512T200000
DTEND;TZID=America/Los_Angeles:20260512T210000
DTSTAMP:20260423T140705
CREATED:20260117T001651Z
LAST-MODIFIED:20260421T003253Z
UID:10001859-1778616000-1778619600@icfbayarea.com
SUMMARY:Fiqh of purification & salah - Mufti Ahsan Osmani
DESCRIPTION:This program is after Isha.
URL:https://icfbayarea.com/event/fiqh-of-purification-salah-mufti-ahsan-osmani-17/
LOCATION:Islamic Center of Fremont (ICF-Irvington)\, 4039 Irvington Ave\, Fremont\, CA\, United States
GEO:37.531181;-121.959565
X-APPLE-STRUCTURED-LOCATION;VALUE=URI;X-ADDRESS=Islamic Center of Fremont (ICF-Irvington) 4039 Irvington Ave Fremont CA United States;X-APPLE-RADIUS=500;X-TITLE=4039 Irvington Ave:geo:-121.959565,37.531181
END:VEVENT
BEGIN:VEVENT
DTSTART;TZID=America/Los_Angeles:20260513T191500
DTEND;TZID=America/Los_Angeles:20260513T213000
DTSTAMP:20260423T140705
CREATED:20250902T051257Z
LAST-MODIFIED:20250909T032733Z
UID:10001754-1778699700-1778707800@icfbayarea.com
SUMMARY:Table Tennis (For Men)
DESCRIPTION:
URL:https://icfbayarea.com/event/table-tennis-for-men-46/
LOCATION:Masjid Zakariya (Gym)￼
END:VEVENT
BEGIN:VEVENT
DTSTART;TZID=America/Los_Angeles:20260513T193000
DTEND;TZID=America/Los_Angeles:20260513T213000
DTSTAMP:20260423T140705
CREATED:20250904T001408Z
LAST-MODIFIED:20250909T032733Z
UID:10001755-1778700600-1778707800@icfbayarea.com
SUMMARY:Badminton (For Men)
DESCRIPTION:(E_000025)
URL:https://icfbayarea.com/event/badminton-for-men-72/
LOCATION:Masjid Zakariya (Gym)
END:VEVENT
BEGIN:VEVENT
DTSTART;TZID=America/Los_Angeles:20260514T090000
DTEND;TZID=America/Los_Angeles:20260514T100000
DTSTAMP:20260423T140705
CREATED:20250905T204626Z
LAST-MODIFIED:20250909T032733Z
UID:10001756-1778749200-1778752800@icfbayarea.com
SUMMARY:Men's Badminton
DESCRIPTION:
URL:https://icfbayarea.com/event/mens-badminton-37/
LOCATION:Masjid Zakariya (Gym)
END:VEVENT
BEGIN:VEVENT
DTSTART;TZID=America/Los_Angeles:20260514T110000
DTEND;TZID=America/Los_Angeles:20260514T120000
DTSTAMP:20260423T140705
CREATED:20250906T031251Z
LAST-MODIFIED:20250909T032733Z
UID:10001757-1778756400-1778760000@icfbayarea.com
SUMMARY:Fitness Class for Sisters
DESCRIPTION:Get fit and stay active!\nhttps://www.simplipayapp.com/spay/?programId=3619\n(E_000003)
URL:https://icfbayarea.com/event/fitness-class-for-sisters-61/
LOCATION:Masjid Zakariya (Gym)
END:VEVENT
BEGIN:VEVENT
DTSTART;TZID=America/Los_Angeles:20260514T193000
DTEND;TZID=America/Los_Angeles:20260514T203000
DTSTAMP:20260423T140705
CREATED:20260117T001651Z
LAST-MODIFIED:20260421T003253Z
UID:10001861-1778787000-1778790600@icfbayarea.com
SUMMARY:Quranic Compass: Navigating Challenges for Youth by Shaykh Shadman
DESCRIPTION:Join us for an enlightening journey as we delve into the depths of the Quran to address the pressing concerns of today’s youth.\nQuranic Compass is a weekly lecture series that invites you to explore the Islamic aspect of gender interactions\, the Quranic view on LGBTQ+ matters\, atheism\, and other contemporary issues.\nFB: http://facebook.com/MasjidZakariya\nIG: http://instagram.com/icfyouthbayarea\nYT: http://youtube.com/@islamiccenteroffremont\n(E_000059)
URL:https://icfbayarea.com/event/quranic-compass-navigating-challenges-for-youth-by-shaykh-shadman-85/
LOCATION:Masjid Zakariya\, 42412 Albrae St\, Fremont\, CA\, 94538\, United States
END:VEVENT
BEGIN:VEVENT
DTSTART;TZID=America/Los_Angeles:20260514T200000
DTEND;TZID=America/Los_Angeles:20260514T210000
DTSTAMP:20260423T140705
CREATED:20260117T001651Z
LAST-MODIFIED:20260421T003253Z
UID:10001860-1778788800-1778792400@icfbayarea.com
SUMMARY:Quran Tafseer after Maghrib
DESCRIPTION:Listen Live –  https://stream.masjidiapp.com/icfbayaans/listen-live/
URL:https://icfbayarea.com/event/quran-tafseer-after-maghrib-51/
LOCATION:ICF\, 4039 Irvington Avenue\, Fremont\, CA\, 94538\, United States
END:VEVENT
BEGIN:VEVENT
DTSTART;TZID=America/Los_Angeles:20260515T123000
DTEND;TZID=America/Los_Angeles:20260515T133000
DTSTAMP:20260423T140705
CREATED:20260117T001651Z
LAST-MODIFIED:20260421T003253Z
UID:10001862-1778848200-1778851800@icfbayarea.com
SUMMARY:Friday Bayaan at ICF
DESCRIPTION:Friday Bayaan at ICF\nhttps://stream.masjidiapp.com/icfbayaans/listen-live/\n(E_000027)
URL:https://icfbayarea.com/event/friday-bayaan-at-icf-114/
LOCATION:ICF\, 4039 Irvington Avenue\, Fremont\, CA\, 94538\, United States
END:VEVENT
BEGIN:VEVENT
DTSTART;TZID=America/Los_Angeles:20260515T183000
DTEND;TZID=America/Los_Angeles:20260515T200000
DTSTAMP:20260423T140705
CREATED:20260117T001651Z
LAST-MODIFIED:20260421T003253Z
UID:10001863-1778869800-1778875200@icfbayarea.com
SUMMARY:Quranic Literacy Program: Sisters' Class
DESCRIPTION:Adult Quran Class for sisters at Masjid Zakariya.\nFor more information\, please contact: imamshadman@icfbayarea.com\n(E_000067)
URL:https://icfbayarea.com/event/quranic-literacy-program-sisters-class-85/
LOCATION:Masjid Zakariya (ICF-Albrae)\, 42472 Albrae St\, Fremont\, CA\, United States
GEO:37.514829;-121.977139
X-APPLE-STRUCTURED-LOCATION;VALUE=URI;X-ADDRESS=Masjid Zakariya (ICF-Albrae) 42472 Albrae St Fremont CA United States;X-APPLE-RADIUS=500;X-TITLE=42472 Albrae St:geo:-121.977139,37.514829
END:VEVENT
BEGIN:VEVENT
DTSTART;TZID=America/Los_Angeles:20260515T190000
DTEND;TZID=America/Los_Angeles:20260515T230000
DTSTAMP:20260423T140705
CREATED:20260117T001651Z
LAST-MODIFIED:20260421T003253Z
UID:10001864-1778871600-1778886000@icfbayarea.com
SUMMARY:Family Night
DESCRIPTION:(E_000010)
URL:https://icfbayarea.com/event/family-night-87/
LOCATION:Masjid Zakariya\, 42412 Albrae St\, Fremont\, CA\, 94538\, United States
END:VEVENT
BEGIN:VEVENT
DTSTART;TZID=America/Los_Angeles:20260516T100000
DTEND;TZID=America/Los_Angeles:20260516T133000
DTSTAMP:20260423T140705
CREATED:20260117T001651Z
LAST-MODIFIED:20260421T003253Z
UID:10001865-1778925600-1778938200@icfbayarea.com
SUMMARY:Barakah Food Distribution (Sisters)
DESCRIPTION:ICF Sisters Program to distribute grocery packages to the needy\n(E_000011)
URL:https://icfbayarea.com/event/barakah-food-distribution-sisters-40/
LOCATION:Masjid Zakariya (Gym)
END:VEVENT
END:VCALENDAR