BEGIN:VCALENDAR
VERSION:2.0
PRODID:-//Islamic Center of Fremont - ECPv6.15.20//NONSGML v1.0//EN
CALSCALE:GREGORIAN
METHOD:PUBLISH
X-WR-CALNAME:Islamic Center of Fremont
X-ORIGINAL-URL:https://icfbayarea.com
X-WR-CALDESC:Events for Islamic Center of Fremont
REFRESH-INTERVAL;VALUE=DURATION:PT1H
X-Robots-Tag:noindex
X-PUBLISHED-TTL:PT1H
BEGIN:VTIMEZONE
TZID:America/Los_Angeles
BEGIN:DAYLIGHT
TZOFFSETFROM:-0800
TZOFFSETTO:-0700
TZNAME:PDT
DTSTART:20250309T100000
END:DAYLIGHT
BEGIN:STANDARD
TZOFFSETFROM:-0700
TZOFFSETTO:-0800
TZNAME:PST
DTSTART:20251102T090000
END:STANDARD
BEGIN:DAYLIGHT
TZOFFSETFROM:-0800
TZOFFSETTO:-0700
TZNAME:PDT
DTSTART:20260308T100000
END:DAYLIGHT
BEGIN:STANDARD
TZOFFSETFROM:-0700
TZOFFSETTO:-0800
TZNAME:PST
DTSTART:20261101T090000
END:STANDARD
BEGIN:DAYLIGHT
TZOFFSETFROM:-0800
TZOFFSETTO:-0700
TZNAME:PDT
DTSTART:20270314T100000
END:DAYLIGHT
BEGIN:STANDARD
TZOFFSETFROM:-0700
TZOFFSETTO:-0800
TZNAME:PST
DTSTART:20271107T090000
END:STANDARD
END:VTIMEZONE
BEGIN:VEVENT
DTSTART;TZID=America/Los_Angeles:20260301T173000
DTEND;TZID=America/Los_Angeles:20260301T183000
DTSTAMP:20260423T105235
CREATED:20260117T001645Z
LAST-MODIFIED:20260302T021739Z
UID:10001817-1772386200-1772389800@icfbayarea.com
SUMMARY:Dars-e-Hadith\, Mufti Muddassir Oovais Sahib
DESCRIPTION:
URL:https://icfbayarea.com/event/dars-e-hadith-mufti-muddassir-oovais-sahib-7/
LOCATION:Islamic Center of Fremont (ICF-Irvington)\, 4039 Irvington Ave\, Fremont\, CA\, United States
GEO:37.531181;-121.959565
X-APPLE-STRUCTURED-LOCATION;VALUE=URI;X-ADDRESS=Islamic Center of Fremont (ICF-Irvington) 4039 Irvington Ave Fremont CA United States;X-APPLE-RADIUS=500;X-TITLE=4039 Irvington Ave:geo:-121.959565,37.531181
END:VEVENT
BEGIN:VEVENT
DTSTART;TZID=America/Los_Angeles:20260302T193000
DTEND;TZID=America/Los_Angeles:20260302T213000
DTSTAMP:20260423T105235
CREATED:20250308T220232Z
LAST-MODIFIED:20250922T053417Z
UID:10001626-1772479800-1772487000@icfbayarea.com
SUMMARY:Badminton (For Men)
DESCRIPTION:(E_000025)
URL:https://icfbayarea.com/event/badminton-for-men-51/
LOCATION:Masjid Zakariya (Gym)
END:VEVENT
BEGIN:VEVENT
DTSTART;TZID=America/Los_Angeles:20260302T200000
DTEND;TZID=America/Los_Angeles:20260302T210000
DTSTAMP:20260423T105235
CREATED:20260117T001645Z
LAST-MODIFIED:20260303T043346Z
UID:10001818-1772481600-1772485200@icfbayarea.com
SUMMARY:Quranic Arabic Language Online Class
DESCRIPTION:Instructor – Mufti Kamran\nFor more info: Visit courses.icfbayarea.com or email to muftikamran@icfbayarea.com
URL:https://icfbayarea.com/event/quranic-arabic-language-online-class-7/
LOCATION:CA
END:VEVENT
BEGIN:VEVENT
DTSTART;TZID=America/Los_Angeles:20260302T203000
DTEND;TZID=America/Los_Angeles:20260302T220000
DTSTAMP:20260423T105235
CREATED:20250308T043434Z
LAST-MODIFIED:20260303T051744Z
UID:10001625-1772483400-1772488800@icfbayarea.com
SUMMARY:Quranic Literacy Program: Brother's Class
DESCRIPTION:Adult Quran Class for brothers taught by Imam Yahya Mulla. \nFor more information\, please see:  \nQuranic Literacy Program \n\n(E_000060)
URL:https://icfbayarea.com/event/quranic-literacy-program-brothers-class-74/
LOCATION:Islamic Center of Fremont (ICF-Irvington)\, 4039 Irvington Ave\, Fremont\, CA\, United States
GEO:37.531181;-121.959565
X-APPLE-STRUCTURED-LOCATION;VALUE=URI;X-ADDRESS=Islamic Center of Fremont (ICF-Irvington) 4039 Irvington Ave Fremont CA United States;X-APPLE-RADIUS=500;X-TITLE=4039 Irvington Ave:geo:-121.959565,37.531181
END:VEVENT
BEGIN:VEVENT
DTSTART;TZID=America/Los_Angeles:20260303T200000
DTEND;TZID=America/Los_Angeles:20260303T210000
DTSTAMP:20260423T105235
CREATED:20260117T001645Z
LAST-MODIFIED:20260304T044806Z
UID:10001819-1772568000-1772571600@icfbayarea.com
SUMMARY:Fiqh of purification & salah - Mufti Ahsan Osmani
DESCRIPTION:This program is after Isha.
URL:https://icfbayarea.com/event/fiqh-of-purification-salah-mufti-ahsan-osmani-7/
LOCATION:Islamic Center of Fremont (ICF-Irvington)\, 4039 Irvington Ave\, Fremont\, CA\, United States
GEO:37.531181;-121.959565
X-APPLE-STRUCTURED-LOCATION;VALUE=URI;X-ADDRESS=Islamic Center of Fremont (ICF-Irvington) 4039 Irvington Ave Fremont CA United States;X-APPLE-RADIUS=500;X-TITLE=4039 Irvington Ave:geo:-121.959565,37.531181
END:VEVENT
BEGIN:VEVENT
DTSTART;TZID=America/Los_Angeles:20260304T191500
DTEND;TZID=America/Los_Angeles:20260304T213000
DTSTAMP:20260423T105235
CREATED:20250311T050342Z
LAST-MODIFIED:20250922T053417Z
UID:10001627-1772651700-1772659800@icfbayarea.com
SUMMARY:Table Tennis (For Men)
DESCRIPTION:
URL:https://icfbayarea.com/event/table-tennis-for-men-26/
LOCATION:Masjid Zakariya (Gym)￼
END:VEVENT
BEGIN:VEVENT
DTSTART;TZID=America/Los_Angeles:20260304T193000
DTEND;TZID=America/Los_Angeles:20260304T213000
DTSTAMP:20260423T105235
CREATED:20250312T000306Z
LAST-MODIFIED:20250922T053417Z
UID:10001628-1772652600-1772659800@icfbayarea.com
SUMMARY:Badminton (For Men)
DESCRIPTION:(E_000025)
URL:https://icfbayarea.com/event/badminton-for-men-52/
LOCATION:Masjid Zakariya (Gym)
END:VEVENT
BEGIN:VEVENT
DTSTART;TZID=America/Los_Angeles:20260305T090000
DTEND;TZID=America/Los_Angeles:20260305T100000
DTSTAMP:20260423T105235
CREATED:20250314T204807Z
LAST-MODIFIED:20250922T053417Z
UID:10001629-1772701200-1772704800@icfbayarea.com
SUMMARY:Men's Badminton
DESCRIPTION:
URL:https://icfbayarea.com/event/mens-badminton-27/
LOCATION:Masjid Zakariya (Gym)
END:VEVENT
BEGIN:VEVENT
DTSTART;TZID=America/Los_Angeles:20260305T110000
DTEND;TZID=America/Los_Angeles:20260305T120000
DTSTAMP:20260423T105235
CREATED:20250315T030325Z
LAST-MODIFIED:20250922T053417Z
UID:10001630-1772708400-1772712000@icfbayarea.com
SUMMARY:Fitness Class for Sisters
DESCRIPTION:Get fit and stay active!\nhttps://www.simplipayapp.com/spay/?programId=3619\n(E_000003)
URL:https://icfbayarea.com/event/fitness-class-for-sisters-51/
LOCATION:Masjid Zakariya (Gym)
END:VEVENT
BEGIN:VEVENT
DTSTART;TZID=America/Los_Angeles:20260305T190000
DTEND;TZID=America/Los_Angeles:20260305T210000
DTSTAMP:20260423T105235
CREATED:20250909T035730Z
LAST-MODIFIED:20250922T053417Z
UID:10001783-1772737200-1772744400@icfbayarea.com
SUMMARY:Quran Tafseer after Maghrib
DESCRIPTION:Listen Live –  https://stream.masjidiapp.com/icfbayaans/listen-live/
URL:https://icfbayarea.com/event/quran-tafseer-after-maghrib-26/
LOCATION:ICF\, 4039 Irvington Avenue\, Fremont\, CA\, 94538\, United States
END:VEVENT
BEGIN:VEVENT
DTSTART;TZID=America/Los_Angeles:20260305T191500
DTEND;TZID=America/Los_Angeles:20260305T213000
DTSTAMP:20260423T105235
CREATED:20250315T204723Z
LAST-MODIFIED:20250922T053417Z
UID:10001631-1772738100-1772746200@icfbayarea.com
SUMMARY:Table Tennis (For Men)
DESCRIPTION:
URL:https://icfbayarea.com/event/table-tennis-for-men-27/
LOCATION:Masjid Zakariya (Gym)￼
END:VEVENT
BEGIN:VEVENT
DTSTART;TZID=America/Los_Angeles:20260305T193000
DTEND;TZID=America/Los_Angeles:20260305T203000
DTSTAMP:20260423T105235
CREATED:20250318T052113Z
LAST-MODIFIED:20260306T040240Z
UID:10001632-1772739000-1772742600@icfbayarea.com
SUMMARY:Quranic Compass: Navigating Challenges for Youth by Shaykh Shadman
DESCRIPTION:Join us for an enlightening journey as we delve into the depths of the Quran to address the pressing concerns of today’s youth.\nQuranic Compass is a weekly lecture series that invites you to explore the Islamic aspect of gender interactions\, the Quranic view on LGBTQ+ matters\, atheism\, and other contemporary issues.\nFB: http://facebook.com/MasjidZakariya\nIG: http://instagram.com/icfyouthbayarea\nYT: http://youtube.com/@islamiccenteroffremont\n(E_000059)
URL:https://icfbayarea.com/event/quranic-compass-navigating-challenges-for-youth-by-shaykh-shadman-75/
LOCATION:Masjid Zakariya\, 42412 Albrae St\, Fremont\, CA\, 94538\, United States
END:VEVENT
BEGIN:VEVENT
DTSTART;TZID=America/Los_Angeles:20260305T200000
DTEND;TZID=America/Los_Angeles:20260305T210000
DTSTAMP:20260423T105235
CREATED:20260117T001645Z
LAST-MODIFIED:20260306T044829Z
UID:10001820-1772740800-1772744400@icfbayarea.com
SUMMARY:Quran Tafseer after Maghrib
DESCRIPTION:Listen Live –  https://stream.masjidiapp.com/icfbayaans/listen-live/
URL:https://icfbayarea.com/event/quran-tafseer-after-maghrib-41/
LOCATION:ICF\, 4039 Irvington Avenue\, Fremont\, CA\, 94538\, United States
END:VEVENT
BEGIN:VEVENT
DTSTART;TZID=America/Los_Angeles:20260306T123000
DTEND;TZID=America/Los_Angeles:20260306T133000
DTSTAMP:20260423T105235
CREATED:20250321T033755Z
LAST-MODIFIED:20260306T211749Z
UID:10001633-1772800200-1772803800@icfbayarea.com
SUMMARY:Friday Bayaan at ICF
DESCRIPTION:Friday Bayaan at ICF\nhttps://stream.masjidiapp.com/icfbayaans/listen-live/\n(E_000027)
URL:https://icfbayarea.com/event/friday-bayaan-at-icf-104/
LOCATION:ICF\, 4039 Irvington Avenue\, Fremont\, CA\, 94538\, United States
END:VEVENT
BEGIN:VEVENT
DTSTART;TZID=America/Los_Angeles:20260306T183000
DTEND;TZID=America/Los_Angeles:20260306T200000
DTSTAMP:20260423T105235
CREATED:20250322T031932Z
LAST-MODIFIED:20260307T033312Z
UID:10001635-1772821800-1772827200@icfbayarea.com
SUMMARY:Quranic Literacy Program: Sisters' Class
DESCRIPTION:Adult Quran Class for sisters at Masjid Zakariya.\nFor more information\, please contact: imamshadman@icfbayarea.com\n(E_000067)
URL:https://icfbayarea.com/event/quranic-literacy-program-sisters-class-75/
LOCATION:Masjid Zakariya (ICF-Albrae)\, 42472 Albrae St\, Fremont\, CA\, United States
GEO:37.514829;-121.977139
X-APPLE-STRUCTURED-LOCATION;VALUE=URI;X-ADDRESS=Masjid Zakariya (ICF-Albrae) 42472 Albrae St Fremont CA United States;X-APPLE-RADIUS=500;X-TITLE=42472 Albrae St:geo:-121.977139,37.514829
END:VEVENT
BEGIN:VEVENT
DTSTART;TZID=America/Los_Angeles:20260306T190000
DTEND;TZID=America/Los_Angeles:20260306T230000
DTSTAMP:20260423T105235
CREATED:20250321T203420Z
LAST-MODIFIED:20260307T063311Z
UID:10001634-1772823600-1772838000@icfbayarea.com
SUMMARY:Family Night
DESCRIPTION:(E_000010)
URL:https://icfbayarea.com/event/family-night-77/
LOCATION:Masjid Zakariya\, 42412 Albrae St\, Fremont\, CA\, 94538\, United States
END:VEVENT
END:VCALENDAR