BEGIN:VCALENDAR
VERSION:2.0
PRODID:-//Islamic Center of Fremont - ECPv6.15.20//NONSGML v1.0//EN
CALSCALE:GREGORIAN
METHOD:PUBLISH
X-WR-CALNAME:Islamic Center of Fremont
X-ORIGINAL-URL:https://icfbayarea.com
X-WR-CALDESC:Events for Islamic Center of Fremont
REFRESH-INTERVAL;VALUE=DURATION:PT1H
X-Robots-Tag:noindex
X-PUBLISHED-TTL:PT1H
BEGIN:VTIMEZONE
TZID:America/Los_Angeles
BEGIN:DAYLIGHT
TZOFFSETFROM:-0800
TZOFFSETTO:-0700
TZNAME:PDT
DTSTART:20250309T100000
END:DAYLIGHT
BEGIN:STANDARD
TZOFFSETFROM:-0700
TZOFFSETTO:-0800
TZNAME:PST
DTSTART:20251102T090000
END:STANDARD
BEGIN:DAYLIGHT
TZOFFSETFROM:-0800
TZOFFSETTO:-0700
TZNAME:PDT
DTSTART:20260308T100000
END:DAYLIGHT
BEGIN:STANDARD
TZOFFSETFROM:-0700
TZOFFSETTO:-0800
TZNAME:PST
DTSTART:20261101T090000
END:STANDARD
BEGIN:DAYLIGHT
TZOFFSETFROM:-0800
TZOFFSETTO:-0700
TZNAME:PDT
DTSTART:20270314T100000
END:DAYLIGHT
BEGIN:STANDARD
TZOFFSETFROM:-0700
TZOFFSETTO:-0800
TZNAME:PST
DTSTART:20271107T090000
END:STANDARD
END:VTIMEZONE
BEGIN:VEVENT
DTSTART;TZID=America/Los_Angeles:20260118T173000
DTEND;TZID=America/Los_Angeles:20260118T183000
DTSTAMP:20260423T154419
CREATED:20260117T001637Z
LAST-MODIFIED:20260119T020344Z
UID:10001792-1768757400-1768761000@icfbayarea.com
SUMMARY:Dars-e-Hadith\, Mufti Muddassir Oovais Sahib
DESCRIPTION:
URL:https://icfbayarea.com/event/dars-e-hadith-mufti-muddassir-oovais-sahib/
LOCATION:Islamic Center of Fremont (ICF-Irvington)\, 4039 Irvington Ave\, Fremont\, CA\, United States
GEO:37.531181;-121.959565
X-APPLE-STRUCTURED-LOCATION;VALUE=URI;X-ADDRESS=Islamic Center of Fremont (ICF-Irvington) 4039 Irvington Ave Fremont CA United States;X-APPLE-RADIUS=500;X-TITLE=4039 Irvington Ave:geo:-121.959565,37.531181
END:VEVENT
BEGIN:VEVENT
DTSTART;TZID=America/Los_Angeles:20260119T193000
DTEND;TZID=America/Los_Angeles:20260119T213000
DTSTAMP:20260423T154419
CREATED:20250202T154759Z
LAST-MODIFIED:20250922T053413Z
UID:10001581-1768851000-1768858200@icfbayarea.com
SUMMARY:Badminton (For Men)
DESCRIPTION:(E_000025)
URL:https://icfbayarea.com/event/badminton-for-men-39/
LOCATION:Masjid Zakariya (Gym)
END:VEVENT
BEGIN:VEVENT
DTSTART;TZID=America/Los_Angeles:20260119T200000
DTEND;TZID=America/Los_Angeles:20260119T210000
DTSTAMP:20260423T154419
CREATED:20260117T001637Z
LAST-MODIFIED:20260120T044806Z
UID:10001793-1768852800-1768856400@icfbayarea.com
SUMMARY:Quranic Arabic Language Online Class
DESCRIPTION:Instructor – Mufti Kamran\nFor more info: Visit courses.icfbayarea.com or email to muftikamran@icfbayarea.com
URL:https://icfbayarea.com/event/quranic-arabic-language-online-class/
LOCATION:CA
END:VEVENT
BEGIN:VEVENT
DTSTART;TZID=America/Los_Angeles:20260119T203000
DTEND;TZID=America/Los_Angeles:20260119T220000
DTSTAMP:20260423T154419
CREATED:20250123T014848Z
LAST-MODIFIED:20260120T053253Z
UID:10001523-1768854600-1768860000@icfbayarea.com
SUMMARY:Quranic Literacy Program: Brother's Class
DESCRIPTION:Adult Quran Class for brothers taught by Imam Yahya Mulla. \nFor more information\, please see:  \nQuranic Literacy Program \n\n(E_000060)
URL:https://icfbayarea.com/event/quranic-literacy-program-brothers-class-68/
LOCATION:Islamic Center of Fremont (ICF-Irvington)\, 4039 Irvington Ave\, Fremont\, CA\, United States
GEO:37.531181;-121.959565
X-APPLE-STRUCTURED-LOCATION;VALUE=URI;X-ADDRESS=Islamic Center of Fremont (ICF-Irvington) 4039 Irvington Ave Fremont CA United States;X-APPLE-RADIUS=500;X-TITLE=4039 Irvington Ave:geo:-121.959565,37.531181
END:VEVENT
BEGIN:VEVENT
DTSTART;TZID=America/Los_Angeles:20260120T200000
DTEND;TZID=America/Los_Angeles:20260120T210000
DTSTAMP:20260423T154419
CREATED:20260117T001637Z
LAST-MODIFIED:20260121T044800Z
UID:10001794-1768939200-1768942800@icfbayarea.com
SUMMARY:Fiqh of purification & salah - Mufti Ahsan Osmani
DESCRIPTION:This program is after Isha.
URL:https://icfbayarea.com/event/fiqh-of-purification-salah-mufti-ahsan-osmani/
LOCATION:Islamic Center of Fremont (ICF-Irvington)\, 4039 Irvington Ave\, Fremont\, CA\, United States
GEO:37.531181;-121.959565
X-APPLE-STRUCTURED-LOCATION;VALUE=URI;X-ADDRESS=Islamic Center of Fremont (ICF-Irvington) 4039 Irvington Ave Fremont CA United States;X-APPLE-RADIUS=500;X-TITLE=4039 Irvington Ave:geo:-121.959565,37.531181
END:VEVENT
BEGIN:VEVENT
DTSTART;TZID=America/Los_Angeles:20260121T191500
DTEND;TZID=America/Los_Angeles:20260121T213000
DTSTAMP:20260423T154419
CREATED:20250202T154759Z
LAST-MODIFIED:20250922T053413Z
UID:10001583-1769022900-1769031000@icfbayarea.com
SUMMARY:Table Tennis (For Men)
DESCRIPTION:
URL:https://icfbayarea.com/event/table-tennis-for-men-14/
LOCATION:Masjid Zakariya (Gym)￼
END:VEVENT
BEGIN:VEVENT
DTSTART;TZID=America/Los_Angeles:20260121T193000
DTEND;TZID=America/Los_Angeles:20260121T213000
DTSTAMP:20260423T154419
CREATED:20250202T154759Z
LAST-MODIFIED:20250922T053413Z
UID:10001582-1769023800-1769031000@icfbayarea.com
SUMMARY:Badminton (For Men)
DESCRIPTION:(E_000025)
URL:https://icfbayarea.com/event/badminton-for-men-40/
LOCATION:Masjid Zakariya (Gym)
END:VEVENT
BEGIN:VEVENT
DTSTART;TZID=America/Los_Angeles:20260122T090000
DTEND;TZID=America/Los_Angeles:20260122T100000
DTSTAMP:20260423T154419
CREATED:20250202T154800Z
LAST-MODIFIED:20250922T053413Z
UID:10001584-1769072400-1769076000@icfbayarea.com
SUMMARY:Men's Badminton
DESCRIPTION:
URL:https://icfbayarea.com/event/mens-badminton-21/
LOCATION:Masjid Zakariya (Gym)
END:VEVENT
BEGIN:VEVENT
DTSTART;TZID=America/Los_Angeles:20260122T110000
DTEND;TZID=America/Los_Angeles:20260122T120000
DTSTAMP:20260423T154419
CREATED:20250123T014848Z
LAST-MODIFIED:20250922T053413Z
UID:10001527-1769079600-1769083200@icfbayarea.com
SUMMARY:Fitness Class for Sisters
DESCRIPTION:Get fit and stay active!\nhttps://www.simplipayapp.com/spay/?programId=3619\n(E_000003)
URL:https://icfbayarea.com/event/fitness-class-for-sisters-45/
LOCATION:Masjid Zakariya (Gym)
END:VEVENT
BEGIN:VEVENT
DTSTART;TZID=America/Los_Angeles:20260122T190000
DTEND;TZID=America/Los_Angeles:20260122T210000
DTSTAMP:20260423T154419
CREATED:20250909T035723Z
LAST-MODIFIED:20250922T053413Z
UID:10001777-1769108400-1769115600@icfbayarea.com
SUMMARY:Quran Tafseer after Maghrib
DESCRIPTION:Listen Live –  https://stream.masjidiapp.com/icfbayaans/listen-live/
URL:https://icfbayarea.com/event/quran-tafseer-after-maghrib-20/
LOCATION:ICF\, 4039 Irvington Avenue\, Fremont\, CA\, 94538\, United States
END:VEVENT
BEGIN:VEVENT
DTSTART;TZID=America/Los_Angeles:20260122T191500
DTEND;TZID=America/Los_Angeles:20260122T213000
DTSTAMP:20260423T154419
CREATED:20250202T154800Z
LAST-MODIFIED:20250922T053413Z
UID:10001585-1769109300-1769117400@icfbayarea.com
SUMMARY:Table Tennis (For Men)
DESCRIPTION:
URL:https://icfbayarea.com/event/table-tennis-for-men-15/
LOCATION:Masjid Zakariya (Gym)￼
END:VEVENT
BEGIN:VEVENT
DTSTART;TZID=America/Los_Angeles:20260122T193000
DTEND;TZID=America/Los_Angeles:20260122T203000
DTSTAMP:20260423T154419
CREATED:20250123T014848Z
LAST-MODIFIED:20260123T040234Z
UID:10001528-1769110200-1769113800@icfbayarea.com
SUMMARY:Quranic Compass: Navigating Challenges for Youth by Shaykh Shadman
DESCRIPTION:Join us for an enlightening journey as we delve into the depths of the Quran to address the pressing concerns of today’s youth.\nQuranic Compass is a weekly lecture series that invites you to explore the Islamic aspect of gender interactions\, the Quranic view on LGBTQ+ matters\, atheism\, and other contemporary issues.\nFB: http://facebook.com/MasjidZakariya\nIG: http://instagram.com/icfyouthbayarea\nYT: http://youtube.com/@islamiccenteroffremont\n(E_000059)
URL:https://icfbayarea.com/event/quranic-compass-navigating-challenges-for-youth-by-shaykh-shadman-69/
LOCATION:Masjid Zakariya\, 42412 Albrae St\, Fremont\, CA\, 94538\, United States
END:VEVENT
BEGIN:VEVENT
DTSTART;TZID=America/Los_Angeles:20260122T200000
DTEND;TZID=America/Los_Angeles:20260122T210000
DTSTAMP:20260423T154419
CREATED:20260117T001637Z
LAST-MODIFIED:20260123T043409Z
UID:10001795-1769112000-1769115600@icfbayarea.com
SUMMARY:Quran Tafseer after Maghrib
DESCRIPTION:Listen Live –  https://stream.masjidiapp.com/icfbayaans/listen-live/
URL:https://icfbayarea.com/event/quran-tafseer-after-maghrib-35/
LOCATION:ICF\, 4039 Irvington Avenue\, Fremont\, CA\, 94538\, United States
END:VEVENT
BEGIN:VEVENT
DTSTART;TZID=America/Los_Angeles:20260123T123000
DTEND;TZID=America/Los_Angeles:20260123T133000
DTSTAMP:20260423T154419
CREATED:20250123T014848Z
LAST-MODIFIED:20260123T211747Z
UID:10001530-1769171400-1769175000@icfbayarea.com
SUMMARY:Friday Bayaan at ICF
DESCRIPTION:Friday Bayaan at ICF\nhttps://stream.masjidiapp.com/icfbayaans/listen-live/\n(E_000027)
URL:https://icfbayarea.com/event/friday-bayaan-at-icf-98/
LOCATION:ICF\, 4039 Irvington Avenue\, Fremont\, CA\, 94538\, United States
END:VEVENT
BEGIN:VEVENT
DTSTART;TZID=America/Los_Angeles:20260123T183000
DTEND;TZID=America/Los_Angeles:20260123T200000
DTSTAMP:20260423T154419
CREATED:20250123T014848Z
LAST-MODIFIED:20260124T033339Z
UID:10001531-1769193000-1769198400@icfbayarea.com
SUMMARY:Quranic Literacy Program: Sisters' Class
DESCRIPTION:Adult Quran Class for sisters at Masjid Zakariya.\nFor more information\, please contact: imamshadman@icfbayarea.com\n(E_000067)
URL:https://icfbayarea.com/event/quranic-literacy-program-sisters-class-69/
LOCATION:Masjid Zakariya (ICF-Albrae)\, 42472 Albrae St\, Fremont\, CA\, United States
GEO:37.514829;-121.977139
X-APPLE-STRUCTURED-LOCATION;VALUE=URI;X-ADDRESS=Masjid Zakariya (ICF-Albrae) 42472 Albrae St Fremont CA United States;X-APPLE-RADIUS=500;X-TITLE=42472 Albrae St:geo:-121.977139,37.514829
END:VEVENT
BEGIN:VEVENT
DTSTART;TZID=America/Los_Angeles:20260123T190000
DTEND;TZID=America/Los_Angeles:20260123T230000
DTSTAMP:20260423T154419
CREATED:20250123T014848Z
LAST-MODIFIED:20260124T064834Z
UID:10001532-1769194800-1769209200@icfbayarea.com
SUMMARY:Family Night
DESCRIPTION:(E_000010)
URL:https://icfbayarea.com/event/family-night-71/
LOCATION:Masjid Zakariya\, 42412 Albrae St\, Fremont\, CA\, 94538\, United States
END:VEVENT
BEGIN:VEVENT
DTSTART;TZID=America/Los_Angeles:20260124T100000
DTEND;TZID=America/Los_Angeles:20260124T130000
DTSTAMP:20260423T154419
CREATED:20250123T014848Z
LAST-MODIFIED:20260124T204804Z
UID:10001533-1769248800-1769259600@icfbayarea.com
SUMMARY:Salaam Food Pantry - Food Distribution
DESCRIPTION:Numerous people and families from near by low-income and senior housing complexes as well from far locations in the bay area look forward to this monthly event to get much needed food supplies\, warm food and community support.\nhttps://salaamfoodpantry.org/\n(E_000013)
URL:https://icfbayarea.com/event/salaam-food-pantry-food-distribution-16/
LOCATION:ICF (Parking Lot)
END:VEVENT
BEGIN:VEVENT
DTSTART;TZID=America/Los_Angeles:20260124T193000
DTEND;TZID=America/Los_Angeles:20260124T203000
DTSTAMP:20260423T154419
CREATED:20260120T061850Z
LAST-MODIFIED:20260125T040353Z
UID:10002002-1769283000-1769286600@icfbayarea.com
SUMMARY:Talk by Shaykh Azhar Iqbal - After Isha Salah
DESCRIPTION:
URL:https://icfbayarea.com/event/talk-by-shaykh-azhar-iqbal-after-isha-salah/
LOCATION:Masjid Zakariya (ICF-Albrae)\, 42472 Albrae St\, Fremont\, CA\, United States
GEO:37.514829;-121.977139
X-APPLE-STRUCTURED-LOCATION;VALUE=URI;X-ADDRESS=Masjid Zakariya (ICF-Albrae) 42472 Albrae St Fremont CA United States;X-APPLE-RADIUS=500;X-TITLE=42472 Albrae St:geo:-121.977139,37.514829
END:VEVENT
END:VCALENDAR