BEGIN:VCALENDAR
VERSION:2.0
PRODID:-//Islamic Center of Fremont - ECPv6.15.20//NONSGML v1.0//EN
CALSCALE:GREGORIAN
METHOD:PUBLISH
X-ORIGINAL-URL:https://icfbayarea.com
X-WR-CALDESC:Events for Islamic Center of Fremont
REFRESH-INTERVAL;VALUE=DURATION:PT1H
X-Robots-Tag:noindex
X-PUBLISHED-TTL:PT1H
BEGIN:VTIMEZONE
TZID:America/Los_Angeles
BEGIN:DAYLIGHT
TZOFFSETFROM:-0800
TZOFFSETTO:-0700
TZNAME:PDT
DTSTART:20250309T100000
END:DAYLIGHT
BEGIN:STANDARD
TZOFFSETFROM:-0700
TZOFFSETTO:-0800
TZNAME:PST
DTSTART:20251102T090000
END:STANDARD
BEGIN:DAYLIGHT
TZOFFSETFROM:-0800
TZOFFSETTO:-0700
TZNAME:PDT
DTSTART:20260308T100000
END:DAYLIGHT
BEGIN:STANDARD
TZOFFSETFROM:-0700
TZOFFSETTO:-0800
TZNAME:PST
DTSTART:20261101T090000
END:STANDARD
BEGIN:DAYLIGHT
TZOFFSETFROM:-0800
TZOFFSETTO:-0700
TZNAME:PDT
DTSTART:20270314T100000
END:DAYLIGHT
BEGIN:STANDARD
TZOFFSETFROM:-0700
TZOFFSETTO:-0800
TZNAME:PST
DTSTART:20271107T090000
END:STANDARD
END:VTIMEZONE
BEGIN:VEVENT
DTSTART;TZID=America/Los_Angeles:20260101T090000
DTEND;TZID=America/Los_Angeles:20260101T100000
DTSTAMP:20260423T123022
CREATED:20250202T154758Z
LAST-MODIFIED:20250922T053411Z
UID:10001570-1767258000-1767261600@icfbayarea.com
SUMMARY:Men's Badminton
DESCRIPTION:
URL:https://icfbayarea.com/event/mens-badminton-18/
LOCATION:Masjid Zakariya (Gym)
END:VEVENT
BEGIN:VEVENT
DTSTART;TZID=America/Los_Angeles:20260101T110000
DTEND;TZID=America/Los_Angeles:20260101T120000
DTSTAMP:20260423T123022
CREATED:20250122T191822Z
LAST-MODIFIED:20250922T053411Z
UID:10001491-1767265200-1767268800@icfbayarea.com
SUMMARY:Fitness Class for Sisters
DESCRIPTION:Get fit and stay active!\nhttps://www.simplipayapp.com/spay/?programId=3619\n(E_000003)
URL:https://icfbayarea.com/event/fitness-class-for-sisters-42/
LOCATION:Masjid Zakariya (Gym)
END:VEVENT
BEGIN:VEVENT
DTSTART;TZID=America/Los_Angeles:20260101T190000
DTEND;TZID=America/Los_Angeles:20260101T210000
DTSTAMP:20260423T123022
CREATED:20250909T035720Z
LAST-MODIFIED:20250922T053411Z
UID:10001774-1767294000-1767301200@icfbayarea.com
SUMMARY:Quran Tafseer after Maghrib
DESCRIPTION:Listen Live –  https://stream.masjidiapp.com/icfbayaans/listen-live/
URL:https://icfbayarea.com/event/quran-tafseer-after-maghrib-17/
LOCATION:ICF\, 4039 Irvington Avenue\, Fremont\, CA\, 94538\, United States
END:VEVENT
BEGIN:VEVENT
DTSTART;TZID=America/Los_Angeles:20260101T193000
DTEND;TZID=America/Los_Angeles:20260101T203000
DTSTAMP:20260423T123022
CREATED:20250122T191822Z
LAST-MODIFIED:20250922T053411Z
UID:10001492-1767295800-1767299400@icfbayarea.com
SUMMARY:Quranic Compass: Navigating Challenges for Youth by Shaykh Shadman
DESCRIPTION:Join us for an enlightening journey as we delve into the depths of the Quran to address the pressing concerns of today’s youth.\nQuranic Compass is a weekly lecture series that invites you to explore the Islamic aspect of gender interactions\, the Quranic view on LGBTQ+ matters\, atheism\, and other contemporary issues.\nFB: http://facebook.com/MasjidZakariya\nIG: http://instagram.com/icfyouthbayarea\nYT: http://youtube.com/@islamiccenteroffremont\n(E_000059)
URL:https://icfbayarea.com/event/quranic-compass-navigating-challenges-for-youth-by-shaykh-shadman-66/
LOCATION:Masjid Zakariya\, 42412 Albrae St\, Fremont\, CA\, 94538\, United States
END:VEVENT
BEGIN:VEVENT
DTSTART;TZID=America/Los_Angeles:20260102T123000
DTEND;TZID=America/Los_Angeles:20260102T133000
DTSTAMP:20260423T123022
CREATED:20250122T191822Z
LAST-MODIFIED:20250922T053411Z
UID:10001493-1767357000-1767360600@icfbayarea.com
SUMMARY:Friday Bayaan at ICF
DESCRIPTION:Friday Bayaan at ICF\nhttps://stream.masjidiapp.com/icfbayaans/listen-live/\n(E_000027)
URL:https://icfbayarea.com/event/friday-bayaan-at-icf-95/
LOCATION:ICF\, 4039 Irvington Avenue\, Fremont\, CA\, 94538\, United States
END:VEVENT
BEGIN:VEVENT
DTSTART;TZID=America/Los_Angeles:20260102T183000
DTEND;TZID=America/Los_Angeles:20260102T200000
DTSTAMP:20260423T123022
CREATED:20250122T191823Z
LAST-MODIFIED:20250922T053411Z
UID:10001495-1767378600-1767384000@icfbayarea.com
SUMMARY:Quranic Literacy Program: Sisters' Class
DESCRIPTION:Adult Quran Class for sisters at Masjid Zakariya.\nFor more information\, please contact: imamshadman@icfbayarea.com\n(E_000067)
URL:https://icfbayarea.com/event/quranic-literacy-program-sisters-class-66/
LOCATION:Masjid Zakariya (ICF-Albrae)\, 42472 Albrae St\, Fremont\, CA\, United States
GEO:37.514829;-121.977139
X-APPLE-STRUCTURED-LOCATION;VALUE=URI;X-ADDRESS=Masjid Zakariya (ICF-Albrae) 42472 Albrae St Fremont CA United States;X-APPLE-RADIUS=500;X-TITLE=42472 Albrae St:geo:-121.977139,37.514829
END:VEVENT
BEGIN:VEVENT
DTSTART;TZID=America/Los_Angeles:20260102T190000
DTEND;TZID=America/Los_Angeles:20260102T230000
DTSTAMP:20260423T123022
CREATED:20250122T191822Z
LAST-MODIFIED:20250123T011736Z
UID:10001494-1767380400-1767394800@icfbayarea.com
SUMMARY:Family Night
DESCRIPTION:(E_000010)
URL:https://icfbayarea.com/event/family-night-66/
LOCATION:Masjid Zakariya\, 42412 Albrae St\, Fremont\, CA\, 94538\, United States
END:VEVENT
BEGIN:VEVENT
DTSTART;TZID=America/Los_Angeles:20260102T190000
DTEND;TZID=America/Los_Angeles:20260102T230000
DTSTAMP:20260423T123022
CREATED:20250123T014846Z
LAST-MODIFIED:20250922T053412Z
UID:10001511-1767380400-1767394800@icfbayarea.com
SUMMARY:Family Night
DESCRIPTION:(E_000010)
URL:https://icfbayarea.com/event/family-night-68/
LOCATION:Masjid Zakariya\, 42412 Albrae St\, Fremont\, CA\, 94538\, United States
END:VEVENT
BEGIN:VEVENT
DTSTART;TZID=America/Los_Angeles:20260105T193000
DTEND;TZID=America/Los_Angeles:20260105T213000
DTSTAMP:20260423T123022
CREATED:20250202T154758Z
LAST-MODIFIED:20250922T053412Z
UID:10001571-1767641400-1767648600@icfbayarea.com
SUMMARY:Badminton (For Men)
DESCRIPTION:(E_000025)
URL:https://icfbayarea.com/event/badminton-for-men-35/
LOCATION:Masjid Zakariya (Gym)
END:VEVENT
BEGIN:VEVENT
DTSTART;TZID=America/Los_Angeles:20260105T203000
DTEND;TZID=America/Los_Angeles:20260105T220000
DTSTAMP:20260423T123022
CREATED:20250122T191915Z
LAST-MODIFIED:20250922T053412Z
UID:10001496-1767645000-1767650400@icfbayarea.com
SUMMARY:Quranic Literacy Program: Brother's Class
DESCRIPTION:Adult Quran Class for brothers taught by Imam Yahya Mulla. \nFor more information\, please see:  \nQuranic Literacy Program \n\n(E_000060)
URL:https://icfbayarea.com/event/quranic-literacy-program-brothers-class-66/
LOCATION:Islamic Center of Fremont (ICF-Irvington)\, 4039 Irvington Ave\, Fremont\, CA\, United States
GEO:37.531181;-121.959565
X-APPLE-STRUCTURED-LOCATION;VALUE=URI;X-ADDRESS=Islamic Center of Fremont (ICF-Irvington) 4039 Irvington Ave Fremont CA United States;X-APPLE-RADIUS=500;X-TITLE=4039 Irvington Ave:geo:-121.959565,37.531181
END:VEVENT
BEGIN:VEVENT
DTSTART;TZID=America/Los_Angeles:20260107T191500
DTEND;TZID=America/Los_Angeles:20260107T213000
DTSTAMP:20260423T123022
CREATED:20250202T154758Z
LAST-MODIFIED:20250922T053412Z
UID:10001573-1767813300-1767821400@icfbayarea.com
SUMMARY:Table Tennis (For Men)
DESCRIPTION:
URL:https://icfbayarea.com/event/table-tennis-for-men-10/
LOCATION:Masjid Zakariya (Gym)￼
END:VEVENT
BEGIN:VEVENT
DTSTART;TZID=America/Los_Angeles:20260107T193000
DTEND;TZID=America/Los_Angeles:20260107T213000
DTSTAMP:20260423T123022
CREATED:20250202T154758Z
LAST-MODIFIED:20250922T053412Z
UID:10001572-1767814200-1767821400@icfbayarea.com
SUMMARY:Badminton (For Men)
DESCRIPTION:(E_000025)
URL:https://icfbayarea.com/event/badminton-for-men-36/
LOCATION:Masjid Zakariya (Gym)
END:VEVENT
BEGIN:VEVENT
DTSTART;TZID=America/Los_Angeles:20260108T090000
DTEND;TZID=America/Los_Angeles:20260108T100000
DTSTAMP:20260423T123022
CREATED:20250202T154758Z
LAST-MODIFIED:20250922T053412Z
UID:10001574-1767862800-1767866400@icfbayarea.com
SUMMARY:Men's Badminton
DESCRIPTION:
URL:https://icfbayarea.com/event/mens-badminton-19/
LOCATION:Masjid Zakariya (Gym)
END:VEVENT
BEGIN:VEVENT
DTSTART;TZID=America/Los_Angeles:20260108T110000
DTEND;TZID=America/Los_Angeles:20260108T120000
DTSTAMP:20260423T123022
CREATED:20250122T191915Z
LAST-MODIFIED:20250922T053412Z
UID:10001500-1767870000-1767873600@icfbayarea.com
SUMMARY:Fitness Class for Sisters
DESCRIPTION:Get fit and stay active!\nhttps://www.simplipayapp.com/spay/?programId=3619\n(E_000003)
URL:https://icfbayarea.com/event/fitness-class-for-sisters-43/
LOCATION:Masjid Zakariya (Gym)
END:VEVENT
BEGIN:VEVENT
DTSTART;TZID=America/Los_Angeles:20260108T190000
DTEND;TZID=America/Los_Angeles:20260108T210000
DTSTAMP:20260423T123022
CREATED:20250909T035721Z
LAST-MODIFIED:20250922T053412Z
UID:10001775-1767898800-1767906000@icfbayarea.com
SUMMARY:Quran Tafseer after Maghrib
DESCRIPTION:Listen Live –  https://stream.masjidiapp.com/icfbayaans/listen-live/
URL:https://icfbayarea.com/event/quran-tafseer-after-maghrib-18/
LOCATION:ICF\, 4039 Irvington Avenue\, Fremont\, CA\, 94538\, United States
END:VEVENT
BEGIN:VEVENT
DTSTART;TZID=America/Los_Angeles:20260108T191500
DTEND;TZID=America/Los_Angeles:20260108T213000
DTSTAMP:20260423T123022
CREATED:20250202T154758Z
LAST-MODIFIED:20250922T053412Z
UID:10001575-1767899700-1767907800@icfbayarea.com
SUMMARY:Table Tennis (For Men)
DESCRIPTION:
URL:https://icfbayarea.com/event/table-tennis-for-men-11/
LOCATION:Masjid Zakariya (Gym)￼
END:VEVENT
BEGIN:VEVENT
DTSTART;TZID=America/Los_Angeles:20260108T193000
DTEND;TZID=America/Los_Angeles:20260108T203000
DTSTAMP:20260423T123022
CREATED:20250122T191915Z
LAST-MODIFIED:20250922T053412Z
UID:10001502-1767900600-1767904200@icfbayarea.com
SUMMARY:Quranic Compass: Navigating Challenges for Youth by Shaykh Shadman
DESCRIPTION:Join us for an enlightening journey as we delve into the depths of the Quran to address the pressing concerns of today’s youth.\nQuranic Compass is a weekly lecture series that invites you to explore the Islamic aspect of gender interactions\, the Quranic view on LGBTQ+ matters\, atheism\, and other contemporary issues.\nFB: http://facebook.com/MasjidZakariya\nIG: http://instagram.com/icfyouthbayarea\nYT: http://youtube.com/@islamiccenteroffremont\n(E_000059)
URL:https://icfbayarea.com/event/quranic-compass-navigating-challenges-for-youth-by-shaykh-shadman-67/
LOCATION:Masjid Zakariya\, 42412 Albrae St\, Fremont\, CA\, 94538\, United States
END:VEVENT
BEGIN:VEVENT
DTSTART;TZID=America/Los_Angeles:20260109T123000
DTEND;TZID=America/Los_Angeles:20260109T133000
DTSTAMP:20260423T123022
CREATED:20250122T191915Z
LAST-MODIFIED:20250922T053412Z
UID:10001503-1767961800-1767965400@icfbayarea.com
SUMMARY:Friday Bayaan at ICF
DESCRIPTION:Friday Bayaan at ICF\nhttps://stream.masjidiapp.com/icfbayaans/listen-live/\n(E_000027)
URL:https://icfbayarea.com/event/friday-bayaan-at-icf-96/
LOCATION:ICF\, 4039 Irvington Avenue\, Fremont\, CA\, 94538\, United States
END:VEVENT
BEGIN:VEVENT
DTSTART;TZID=America/Los_Angeles:20260109T183000
DTEND;TZID=America/Los_Angeles:20260109T200000
DTSTAMP:20260423T123022
CREATED:20250122T191916Z
LAST-MODIFIED:20250922T053412Z
UID:10001505-1767983400-1767988800@icfbayarea.com
SUMMARY:Quranic Literacy Program: Sisters' Class
DESCRIPTION:Adult Quran Class for sisters at Masjid Zakariya.\nFor more information\, please contact: imamshadman@icfbayarea.com\n(E_000067)
URL:https://icfbayarea.com/event/quranic-literacy-program-sisters-class-67/
LOCATION:Masjid Zakariya (ICF-Albrae)\, 42472 Albrae St\, Fremont\, CA\, United States
GEO:37.514829;-121.977139
X-APPLE-STRUCTURED-LOCATION;VALUE=URI;X-ADDRESS=Masjid Zakariya (ICF-Albrae) 42472 Albrae St Fremont CA United States;X-APPLE-RADIUS=500;X-TITLE=42472 Albrae St:geo:-121.977139,37.514829
END:VEVENT
BEGIN:VEVENT
DTSTART;TZID=America/Los_Angeles:20260109T190000
DTEND;TZID=America/Los_Angeles:20260109T230000
DTSTAMP:20260423T123022
CREATED:20250122T191916Z
LAST-MODIFIED:20250123T011736Z
UID:10001504-1767985200-1767999600@icfbayarea.com
SUMMARY:Family Night
DESCRIPTION:(E_000010)
URL:https://icfbayarea.com/event/family-night-67/
LOCATION:Masjid Zakariya\, 42412 Albrae St\, Fremont\, CA\, 94538\, United States
END:VEVENT
BEGIN:VEVENT
DTSTART;TZID=America/Los_Angeles:20260109T190000
DTEND;TZID=America/Los_Angeles:20260109T230000
DTSTAMP:20260423T123022
CREATED:20250123T014847Z
LAST-MODIFIED:20250922T053412Z
UID:10001513-1767985200-1767999600@icfbayarea.com
SUMMARY:Family Night
DESCRIPTION:(E_000010)
URL:https://icfbayarea.com/event/family-night-69/
LOCATION:Masjid Zakariya\, 42412 Albrae St\, Fremont\, CA\, 94538\, United States
END:VEVENT
BEGIN:VEVENT
DTSTART;TZID=America/Los_Angeles:20260110T100000
DTEND;TZID=America/Los_Angeles:20260110T133000
DTSTAMP:20260423T123022
CREATED:20250122T191916Z
LAST-MODIFIED:20250922T053412Z
UID:10001506-1768039200-1768051800@icfbayarea.com
SUMMARY:Barakah Food Distribution (Sisters)
DESCRIPTION:ICF Sisters Program to distribute grocery packages to the needy\n(E_000011)
URL:https://icfbayarea.com/event/barakah-food-distribution-sisters-31/
LOCATION:Masjid Zakariya (Gym)
END:VEVENT
BEGIN:VEVENT
DTSTART;TZID=America/Los_Angeles:20260112T193000
DTEND;TZID=America/Los_Angeles:20260112T213000
DTSTAMP:20260423T123022
CREATED:20250202T154759Z
LAST-MODIFIED:20250922T053412Z
UID:10001576-1768246200-1768253400@icfbayarea.com
SUMMARY:Badminton (For Men)
DESCRIPTION:(E_000025)
URL:https://icfbayarea.com/event/badminton-for-men-37/
LOCATION:Masjid Zakariya (Gym)
END:VEVENT
BEGIN:VEVENT
DTSTART;TZID=America/Los_Angeles:20260112T203000
DTEND;TZID=America/Los_Angeles:20260112T220000
DTSTAMP:20260423T123022
CREATED:20250122T191916Z
LAST-MODIFIED:20250922T053412Z
UID:10001508-1768249800-1768255200@icfbayarea.com
SUMMARY:Quranic Literacy Program: Brother's Class
DESCRIPTION:Adult Quran Class for brothers taught by Imam Yahya Mulla. \nFor more information\, please see:  \nQuranic Literacy Program \n\n(E_000060)
URL:https://icfbayarea.com/event/quranic-literacy-program-brothers-class-67/
LOCATION:Islamic Center of Fremont (ICF-Irvington)\, 4039 Irvington Ave\, Fremont\, CA\, United States
GEO:37.531181;-121.959565
X-APPLE-STRUCTURED-LOCATION;VALUE=URI;X-ADDRESS=Islamic Center of Fremont (ICF-Irvington) 4039 Irvington Ave Fremont CA United States;X-APPLE-RADIUS=500;X-TITLE=4039 Irvington Ave:geo:-121.959565,37.531181
END:VEVENT
BEGIN:VEVENT
DTSTART;TZID=America/Los_Angeles:20260114T191500
DTEND;TZID=America/Los_Angeles:20260114T213000
DTSTAMP:20260423T123022
CREATED:20250202T154759Z
LAST-MODIFIED:20250922T053412Z
UID:10001578-1768418100-1768426200@icfbayarea.com
SUMMARY:Table Tennis (For Men)
DESCRIPTION:
URL:https://icfbayarea.com/event/table-tennis-for-men-12/
LOCATION:Masjid Zakariya (Gym)￼
END:VEVENT
BEGIN:VEVENT
DTSTART;TZID=America/Los_Angeles:20260114T193000
DTEND;TZID=America/Los_Angeles:20260114T213000
DTSTAMP:20260423T123022
CREATED:20250202T154759Z
LAST-MODIFIED:20250922T053412Z
UID:10001577-1768419000-1768426200@icfbayarea.com
SUMMARY:Badminton (For Men)
DESCRIPTION:(E_000025)
URL:https://icfbayarea.com/event/badminton-for-men-38/
LOCATION:Masjid Zakariya (Gym)
END:VEVENT
BEGIN:VEVENT
DTSTART;TZID=America/Los_Angeles:20260115T090000
DTEND;TZID=America/Los_Angeles:20260115T100000
DTSTAMP:20260423T123022
CREATED:20250202T154759Z
LAST-MODIFIED:20250922T053412Z
UID:10001579-1768467600-1768471200@icfbayarea.com
SUMMARY:Men's Badminton
DESCRIPTION:
URL:https://icfbayarea.com/event/mens-badminton-20/
LOCATION:Masjid Zakariya (Gym)
END:VEVENT
BEGIN:VEVENT
DTSTART;TZID=America/Los_Angeles:20260115T110000
DTEND;TZID=America/Los_Angeles:20260115T120000
DTSTAMP:20260423T123022
CREATED:20250123T014847Z
LAST-MODIFIED:20250922T053412Z
UID:10001515-1768474800-1768478400@icfbayarea.com
SUMMARY:Fitness Class for Sisters
DESCRIPTION:Get fit and stay active!\nhttps://www.simplipayapp.com/spay/?programId=3619\n(E_000003)
URL:https://icfbayarea.com/event/fitness-class-for-sisters-44/
LOCATION:Masjid Zakariya (Gym)
END:VEVENT
BEGIN:VEVENT
DTSTART;TZID=America/Los_Angeles:20260115T190000
DTEND;TZID=America/Los_Angeles:20260115T210000
DTSTAMP:20260423T123022
CREATED:20250909T035722Z
LAST-MODIFIED:20250922T053413Z
UID:10001776-1768503600-1768510800@icfbayarea.com
SUMMARY:Quran Tafseer after Maghrib
DESCRIPTION:Listen Live –  https://stream.masjidiapp.com/icfbayaans/listen-live/
URL:https://icfbayarea.com/event/quran-tafseer-after-maghrib-19/
LOCATION:ICF\, 4039 Irvington Avenue\, Fremont\, CA\, 94538\, United States
END:VEVENT
BEGIN:VEVENT
DTSTART;TZID=America/Los_Angeles:20260115T191500
DTEND;TZID=America/Los_Angeles:20260115T213000
DTSTAMP:20260423T123022
CREATED:20250202T154759Z
LAST-MODIFIED:20250922T053413Z
UID:10001580-1768504500-1768512600@icfbayarea.com
SUMMARY:Table Tennis (For Men)
DESCRIPTION:
URL:https://icfbayarea.com/event/table-tennis-for-men-13/
LOCATION:Masjid Zakariya (Gym)￼
END:VEVENT
END:VCALENDAR