BEGIN:VCALENDAR
VERSION:2.0
PRODID:-//Islamic Center of Fremont - ECPv6.15.20//NONSGML v1.0//EN
CALSCALE:GREGORIAN
METHOD:PUBLISH
X-ORIGINAL-URL:https://icfbayarea.com
X-WR-CALDESC:Events for Islamic Center of Fremont
REFRESH-INTERVAL;VALUE=DURATION:PT1H
X-Robots-Tag:noindex
X-PUBLISHED-TTL:PT1H
BEGIN:VTIMEZONE
TZID:America/Los_Angeles
BEGIN:DAYLIGHT
TZOFFSETFROM:-0800
TZOFFSETTO:-0700
TZNAME:PDT
DTSTART:20250309T100000
END:DAYLIGHT
BEGIN:STANDARD
TZOFFSETFROM:-0700
TZOFFSETTO:-0800
TZNAME:PST
DTSTART:20251102T090000
END:STANDARD
BEGIN:DAYLIGHT
TZOFFSETFROM:-0800
TZOFFSETTO:-0700
TZNAME:PDT
DTSTART:20260308T100000
END:DAYLIGHT
BEGIN:STANDARD
TZOFFSETFROM:-0700
TZOFFSETTO:-0800
TZNAME:PST
DTSTART:20261101T090000
END:STANDARD
BEGIN:DAYLIGHT
TZOFFSETFROM:-0800
TZOFFSETTO:-0700
TZNAME:PDT
DTSTART:20270314T100000
END:DAYLIGHT
BEGIN:STANDARD
TZOFFSETFROM:-0700
TZOFFSETTO:-0800
TZNAME:PST
DTSTART:20271107T090000
END:STANDARD
END:VTIMEZONE
BEGIN:VEVENT
DTSTART;TZID=America/Los_Angeles:20261029T200000
DTEND;TZID=America/Los_Angeles:20261029T210000
DTSTAMP:20260424T071839
CREATED:20260327T083316Z
LAST-MODIFIED:20260421T003306Z
UID:10002097-1793304000-1793307600@icfbayarea.com
SUMMARY:Quran Tafseer after Maghrib
DESCRIPTION:Listen Live –  https://stream.masjidiapp.com/icfbayaans/listen-live/
URL:https://icfbayarea.com/event/quran-tafseer-after-maghrib-75/
LOCATION:ICF\, 4039 Irvington Avenue\, Fremont\, CA\, 94538\, United States
END:VEVENT
BEGIN:VEVENT
DTSTART;TZID=America/Los_Angeles:20261030T123000
DTEND;TZID=America/Los_Angeles:20261030T133000
DTSTAMP:20260424T071839
CREATED:20260328T031946Z
LAST-MODIFIED:20260421T003306Z
UID:10002098-1793363400-1793367000@icfbayarea.com
SUMMARY:Friday Bayaan at ICF
DESCRIPTION:Friday Bayaan at ICF\nhttps://stream.masjidiapp.com/icfbayaans/listen-live/\n(E_000027)
URL:https://icfbayarea.com/event/friday-bayaan-at-icf-138/
LOCATION:ICF\, 4039 Irvington Avenue\, Fremont\, CA\, 94538\, United States
END:VEVENT
BEGIN:VEVENT
DTSTART;TZID=America/Los_Angeles:20261030T183000
DTEND;TZID=America/Los_Angeles:20261030T200000
DTSTAMP:20260424T071839
CREATED:20260328T061752Z
LAST-MODIFIED:20260421T003306Z
UID:10002099-1793385000-1793390400@icfbayarea.com
SUMMARY:Quranic Literacy Program: Sisters' Class
DESCRIPTION:Adult Quran Class for sisters at Masjid Zakariya.\nFor more information\, please contact: imamshadman@icfbayarea.com\n(E_000067)
URL:https://icfbayarea.com/event/quranic-literacy-program-sisters-class-109/
LOCATION:Masjid Zakariya (ICF-Albrae)\, 42472 Albrae St\, Fremont\, CA\, United States
GEO:37.514829;-121.977139
X-APPLE-STRUCTURED-LOCATION;VALUE=URI;X-ADDRESS=Masjid Zakariya (ICF-Albrae) 42472 Albrae St Fremont CA United States;X-APPLE-RADIUS=500;X-TITLE=42472 Albrae St:geo:-121.977139,37.514829
END:VEVENT
BEGIN:VEVENT
DTSTART;TZID=America/Los_Angeles:20261030T190000
DTEND;TZID=America/Los_Angeles:20261030T230000
DTSTAMP:20260424T071839
CREATED:20260328T064857Z
LAST-MODIFIED:20260421T003306Z
UID:10002100-1793386800-1793401200@icfbayarea.com
SUMMARY:Family Night
DESCRIPTION:(E_000010)
URL:https://icfbayarea.com/event/family-night-111/
LOCATION:Masjid Zakariya\, 42412 Albrae St\, Fremont\, CA\, 94538\, United States
END:VEVENT
BEGIN:VEVENT
DTSTART;TZID=America/Los_Angeles:20261101T173000
DTEND;TZID=America/Los_Angeles:20261101T183000
DTSTAMP:20260424T071839
CREATED:20260330T014857Z
LAST-MODIFIED:20260421T003306Z
UID:10002101-1793554200-1793557800@icfbayarea.com
SUMMARY:Dars-e-Hadith\, Mufti Muddassir Oovais Sahib
DESCRIPTION:
URL:https://icfbayarea.com/event/dars-e-hadith-mufti-muddassir-oovais-sahib-42/
LOCATION:Islamic Center of Fremont (ICF-Irvington)\, 4039 Irvington Ave\, Fremont\, CA\, United States
GEO:37.531181;-121.959565
X-APPLE-STRUCTURED-LOCATION;VALUE=URI;X-ADDRESS=Islamic Center of Fremont (ICF-Irvington) 4039 Irvington Ave Fremont CA United States;X-APPLE-RADIUS=500;X-TITLE=4039 Irvington Ave:geo:-121.959565,37.531181
END:VEVENT
BEGIN:VEVENT
DTSTART;TZID=America/Los_Angeles:20261102T200000
DTEND;TZID=America/Los_Angeles:20261102T210000
DTSTAMP:20260424T071839
CREATED:20260331T040421Z
LAST-MODIFIED:20260421T003306Z
UID:10002102-1793649600-1793653200@icfbayarea.com
SUMMARY:Quranic Arabic Language Online Class
DESCRIPTION:Instructor – Mufti Kamran\nFor more info: Visit courses.icfbayarea.com or email to muftikamran@icfbayarea.com
URL:https://icfbayarea.com/event/quranic-arabic-language-online-class-42/
LOCATION:CA
END:VEVENT
BEGIN:VEVENT
DTSTART;TZID=America/Los_Angeles:20261102T203000
DTEND;TZID=America/Los_Angeles:20261102T220000
DTSTAMP:20260424T071839
CREATED:20260331T041914Z
LAST-MODIFIED:20260421T003306Z
UID:10002103-1793651400-1793656800@icfbayarea.com
SUMMARY:Quranic Literacy Program: Brother's Class
DESCRIPTION:Adult Quran Class for brothers taught by Imam Yahya Mulla. \nFor more information\, please see:  \nQuranic Literacy Program \n\n(E_000060)
URL:https://icfbayarea.com/event/quranic-literacy-program-brothers-class-109/
LOCATION:Islamic Center of Fremont (ICF-Irvington)\, 4039 Irvington Ave\, Fremont\, CA\, United States
GEO:37.531181;-121.959565
X-APPLE-STRUCTURED-LOCATION;VALUE=URI;X-ADDRESS=Islamic Center of Fremont (ICF-Irvington) 4039 Irvington Ave Fremont CA United States;X-APPLE-RADIUS=500;X-TITLE=4039 Irvington Ave:geo:-121.959565,37.531181
END:VEVENT
BEGIN:VEVENT
DTSTART;TZID=America/Los_Angeles:20261103T200000
DTEND;TZID=America/Los_Angeles:20261103T210000
DTSTAMP:20260424T071839
CREATED:20260401T040317Z
LAST-MODIFIED:20260421T003306Z
UID:10002104-1793736000-1793739600@icfbayarea.com
SUMMARY:Fiqh of purification & salah - Mufti Ahsan Osmani
DESCRIPTION:This program is after Isha.
URL:https://icfbayarea.com/event/fiqh-of-purification-salah-mufti-ahsan-osmani-42/
LOCATION:Islamic Center of Fremont (ICF-Irvington)\, 4039 Irvington Ave\, Fremont\, CA\, United States
GEO:37.531181;-121.959565
X-APPLE-STRUCTURED-LOCATION;VALUE=URI;X-ADDRESS=Islamic Center of Fremont (ICF-Irvington) 4039 Irvington Ave Fremont CA United States;X-APPLE-RADIUS=500;X-TITLE=4039 Irvington Ave:geo:-121.959565,37.531181
END:VEVENT
BEGIN:VEVENT
DTSTART;TZID=America/Los_Angeles:20261105T193000
DTEND;TZID=America/Los_Angeles:20261105T203000
DTSTAMP:20260424T071839
CREATED:20260403T040428Z
LAST-MODIFIED:20260421T003307Z
UID:10002106-1793907000-1793910600@icfbayarea.com
SUMMARY:Quranic Compass: Navigating Challenges for Youth by Shaykh Shadman
DESCRIPTION:Join us for an enlightening journey as we delve into the depths of the Quran to address the pressing concerns of today’s youth.\nQuranic Compass is a weekly lecture series that invites you to explore the Islamic aspect of gender interactions\, the Quranic view on LGBTQ+ matters\, atheism\, and other contemporary issues.\nFB: http://facebook.com/MasjidZakariya\nIG: http://instagram.com/icfyouthbayarea\nYT: http://youtube.com/@islamiccenteroffremont\n(E_000059)
URL:https://icfbayarea.com/event/quranic-compass-navigating-challenges-for-youth-by-shaykh-shadman-110/
LOCATION:Masjid Zakariya\, 42412 Albrae St\, Fremont\, CA\, 94538\, United States
END:VEVENT
BEGIN:VEVENT
DTSTART;TZID=America/Los_Angeles:20261105T200000
DTEND;TZID=America/Los_Angeles:20261105T210000
DTSTAMP:20260424T071839
CREATED:20260403T033309Z
LAST-MODIFIED:20260421T003306Z
UID:10002105-1793908800-1793912400@icfbayarea.com
SUMMARY:Quran Tafseer after Maghrib
DESCRIPTION:Listen Live –  https://stream.masjidiapp.com/icfbayaans/listen-live/
URL:https://icfbayarea.com/event/quran-tafseer-after-maghrib-76/
LOCATION:ICF\, 4039 Irvington Avenue\, Fremont\, CA\, 94538\, United States
END:VEVENT
BEGIN:VEVENT
DTSTART;TZID=America/Los_Angeles:20261106T123000
DTEND;TZID=America/Los_Angeles:20261106T133000
DTSTAMP:20260424T071839
CREATED:20260403T203414Z
LAST-MODIFIED:20260421T003307Z
UID:10002107-1793968200-1793971800@icfbayarea.com
SUMMARY:Friday Bayaan at ICF
DESCRIPTION:Friday Bayaan at ICF\nhttps://stream.masjidiapp.com/icfbayaans/listen-live/\n(E_000027)
URL:https://icfbayarea.com/event/friday-bayaan-at-icf-139/
LOCATION:ICF\, 4039 Irvington Avenue\, Fremont\, CA\, 94538\, United States
END:VEVENT
BEGIN:VEVENT
DTSTART;TZID=America/Los_Angeles:20261106T183000
DTEND;TZID=America/Los_Angeles:20261106T200000
DTSTAMP:20260424T071839
CREATED:20260404T030334Z
LAST-MODIFIED:20260421T003307Z
UID:10002108-1793989800-1793995200@icfbayarea.com
SUMMARY:Quranic Literacy Program: Sisters' Class
DESCRIPTION:Adult Quran Class for sisters at Masjid Zakariya.\nFor more information\, please contact: imamshadman@icfbayarea.com\n(E_000067)
URL:https://icfbayarea.com/event/quranic-literacy-program-sisters-class-110/
LOCATION:Masjid Zakariya (ICF-Albrae)\, 42472 Albrae St\, Fremont\, CA\, United States
GEO:37.514829;-121.977139
X-APPLE-STRUCTURED-LOCATION;VALUE=URI;X-ADDRESS=Masjid Zakariya (ICF-Albrae) 42472 Albrae St Fremont CA United States;X-APPLE-RADIUS=500;X-TITLE=42472 Albrae St:geo:-121.977139,37.514829
END:VEVENT
BEGIN:VEVENT
DTSTART;TZID=America/Los_Angeles:20261106T190000
DTEND;TZID=America/Los_Angeles:20261106T230000
DTSTAMP:20260424T071839
CREATED:20260404T031757Z
LAST-MODIFIED:20260421T003307Z
UID:10002109-1793991600-1794006000@icfbayarea.com
SUMMARY:Family Night
DESCRIPTION:(E_000010)
URL:https://icfbayarea.com/event/family-night-112/
LOCATION:Masjid Zakariya\, 42412 Albrae St\, Fremont\, CA\, 94538\, United States
END:VEVENT
BEGIN:VEVENT
DTSTART;TZID=America/Los_Angeles:20261108T173000
DTEND;TZID=America/Los_Angeles:20261108T183000
DTSTAMP:20260424T071839
CREATED:20260406T013246Z
LAST-MODIFIED:20260421T003307Z
UID:10002110-1794159000-1794162600@icfbayarea.com
SUMMARY:Dars-e-Hadith\, Mufti Muddassir Oovais Sahib
DESCRIPTION:
URL:https://icfbayarea.com/event/dars-e-hadith-mufti-muddassir-oovais-sahib-43/
LOCATION:Islamic Center of Fremont (ICF-Irvington)\, 4039 Irvington Ave\, Fremont\, CA\, United States
GEO:37.531181;-121.959565
X-APPLE-STRUCTURED-LOCATION;VALUE=URI;X-ADDRESS=Islamic Center of Fremont (ICF-Irvington) 4039 Irvington Ave Fremont CA United States;X-APPLE-RADIUS=500;X-TITLE=4039 Irvington Ave:geo:-121.959565,37.531181
END:VEVENT
BEGIN:VEVENT
DTSTART;TZID=America/Los_Angeles:20261109T200000
DTEND;TZID=America/Los_Angeles:20261109T210000
DTSTAMP:20260424T071839
CREATED:20260407T040404Z
LAST-MODIFIED:20260421T003307Z
UID:10002111-1794254400-1794258000@icfbayarea.com
SUMMARY:Quranic Arabic Language Online Class
DESCRIPTION:Instructor – Mufti Kamran\nFor more info: Visit courses.icfbayarea.com or email to muftikamran@icfbayarea.com
URL:https://icfbayarea.com/event/quranic-arabic-language-online-class-43/
LOCATION:CA
END:VEVENT
BEGIN:VEVENT
DTSTART;TZID=America/Los_Angeles:20261109T203000
DTEND;TZID=America/Los_Angeles:20261109T220000
DTSTAMP:20260424T071839
CREATED:20260407T043248Z
LAST-MODIFIED:20260421T003307Z
UID:10002112-1794256200-1794261600@icfbayarea.com
SUMMARY:Quranic Literacy Program: Brother's Class
DESCRIPTION:Adult Quran Class for brothers taught by Imam Yahya Mulla. \nFor more information\, please see:  \nQuranic Literacy Program \n\n(E_000060)
URL:https://icfbayarea.com/event/quranic-literacy-program-brothers-class-110/
LOCATION:Islamic Center of Fremont (ICF-Irvington)\, 4039 Irvington Ave\, Fremont\, CA\, United States
GEO:37.531181;-121.959565
X-APPLE-STRUCTURED-LOCATION;VALUE=URI;X-ADDRESS=Islamic Center of Fremont (ICF-Irvington) 4039 Irvington Ave Fremont CA United States;X-APPLE-RADIUS=500;X-TITLE=4039 Irvington Ave:geo:-121.959565,37.531181
END:VEVENT
BEGIN:VEVENT
DTSTART;TZID=America/Los_Angeles:20261110T200000
DTEND;TZID=America/Los_Angeles:20261110T210000
DTSTAMP:20260424T071839
CREATED:20260408T040325Z
LAST-MODIFIED:20260421T003307Z
UID:10002113-1794340800-1794344400@icfbayarea.com
SUMMARY:Fiqh of purification & salah - Mufti Ahsan Osmani
DESCRIPTION:This program is after Isha.
URL:https://icfbayarea.com/event/fiqh-of-purification-salah-mufti-ahsan-osmani-43/
LOCATION:Islamic Center of Fremont (ICF-Irvington)\, 4039 Irvington Ave\, Fremont\, CA\, United States
GEO:37.531181;-121.959565
X-APPLE-STRUCTURED-LOCATION;VALUE=URI;X-ADDRESS=Islamic Center of Fremont (ICF-Irvington) 4039 Irvington Ave Fremont CA United States;X-APPLE-RADIUS=500;X-TITLE=4039 Irvington Ave:geo:-121.959565,37.531181
END:VEVENT
BEGIN:VEVENT
DTSTART;TZID=America/Los_Angeles:20261112T193000
DTEND;TZID=America/Los_Angeles:20261112T203000
DTSTAMP:20260424T071839
CREATED:20260410T033323Z
LAST-MODIFIED:20260421T003307Z
UID:10002114-1794511800-1794515400@icfbayarea.com
SUMMARY:Quranic Compass: Navigating Challenges for Youth by Shaykh Shadman
DESCRIPTION:Join us for an enlightening journey as we delve into the depths of the Quran to address the pressing concerns of today’s youth.\nQuranic Compass is a weekly lecture series that invites you to explore the Islamic aspect of gender interactions\, the Quranic view on LGBTQ+ matters\, atheism\, and other contemporary issues.\nFB: http://facebook.com/MasjidZakariya\nIG: http://instagram.com/icfyouthbayarea\nYT: http://youtube.com/@islamiccenteroffremont\n(E_000059)
URL:https://icfbayarea.com/event/quranic-compass-navigating-challenges-for-youth-by-shaykh-shadman-111/
LOCATION:Masjid Zakariya\, 42412 Albrae St\, Fremont\, CA\, 94538\, United States
END:VEVENT
BEGIN:VEVENT
DTSTART;TZID=America/Los_Angeles:20261112T200000
DTEND;TZID=America/Los_Angeles:20261112T210000
DTSTAMP:20260424T071839
CREATED:20260410T034742Z
LAST-MODIFIED:20260421T003307Z
UID:10002115-1794513600-1794517200@icfbayarea.com
SUMMARY:Quran Tafseer after Maghrib
DESCRIPTION:Listen Live –  https://stream.masjidiapp.com/icfbayaans/listen-live/
URL:https://icfbayarea.com/event/quran-tafseer-after-maghrib-77/
LOCATION:ICF\, 4039 Irvington Avenue\, Fremont\, CA\, 94538\, United States
END:VEVENT
BEGIN:VEVENT
DTSTART;TZID=America/Los_Angeles:20261113T123000
DTEND;TZID=America/Los_Angeles:20261113T133000
DTSTAMP:20260424T071839
CREATED:20260410T203258Z
LAST-MODIFIED:20260421T003307Z
UID:10002116-1794573000-1794576600@icfbayarea.com
SUMMARY:Friday Bayaan at ICF
DESCRIPTION:Friday Bayaan at ICF\nhttps://stream.masjidiapp.com/icfbayaans/listen-live/\n(E_000027)
URL:https://icfbayarea.com/event/friday-bayaan-at-icf-140/
LOCATION:ICF\, 4039 Irvington Avenue\, Fremont\, CA\, 94538\, United States
END:VEVENT
BEGIN:VEVENT
DTSTART;TZID=America/Los_Angeles:20261113T183000
DTEND;TZID=America/Los_Angeles:20261113T200000
DTSTAMP:20260424T071839
CREATED:20260411T031746Z
LAST-MODIFIED:20260421T003307Z
UID:10002118-1794594600-1794600000@icfbayarea.com
SUMMARY:Quranic Literacy Program: Sisters' Class
DESCRIPTION:Adult Quran Class for sisters at Masjid Zakariya.\nFor more information\, please contact: imamshadman@icfbayarea.com\n(E_000067)
URL:https://icfbayarea.com/event/quranic-literacy-program-sisters-class-111/
LOCATION:Masjid Zakariya (ICF-Albrae)\, 42472 Albrae St\, Fremont\, CA\, United States
GEO:37.514829;-121.977139
X-APPLE-STRUCTURED-LOCATION;VALUE=URI;X-ADDRESS=Masjid Zakariya (ICF-Albrae) 42472 Albrae St Fremont CA United States;X-APPLE-RADIUS=500;X-TITLE=42472 Albrae St:geo:-121.977139,37.514829
END:VEVENT
BEGIN:VEVENT
DTSTART;TZID=America/Los_Angeles:20261113T190000
DTEND;TZID=America/Los_Angeles:20261113T230000
DTSTAMP:20260424T071839
CREATED:20260411T030414Z
LAST-MODIFIED:20260421T003307Z
UID:10002117-1794596400-1794610800@icfbayarea.com
SUMMARY:Family Night
DESCRIPTION:(E_000010)
URL:https://icfbayarea.com/event/family-night-113/
LOCATION:Masjid Zakariya\, 42412 Albrae St\, Fremont\, CA\, 94538\, United States
END:VEVENT
BEGIN:VEVENT
DTSTART;TZID=America/Los_Angeles:20261114T100000
DTEND;TZID=America/Los_Angeles:20261114T133000
DTSTAMP:20260424T071839
CREATED:20260411T203313Z
LAST-MODIFIED:20260421T003307Z
UID:10002119-1794650400-1794663000@icfbayarea.com
SUMMARY:Barakah Food Distribution (Sisters)
DESCRIPTION:ICF Sisters Program to distribute grocery packages to the needy\n(E_000011)
URL:https://icfbayarea.com/event/barakah-food-distribution-sisters-51/
LOCATION:Masjid Zakariya (Gym)
END:VEVENT
BEGIN:VEVENT
DTSTART;TZID=America/Los_Angeles:20261115T173000
DTEND;TZID=America/Los_Angeles:20261115T183000
DTSTAMP:20260424T071839
CREATED:20260413T013407Z
LAST-MODIFIED:20260421T003307Z
UID:10002120-1794763800-1794767400@icfbayarea.com
SUMMARY:Dars-e-Hadith\, Mufti Muddassir Oovais Sahib
DESCRIPTION:
URL:https://icfbayarea.com/event/dars-e-hadith-mufti-muddassir-oovais-sahib-44/
LOCATION:Islamic Center of Fremont (ICF-Irvington)\, 4039 Irvington Ave\, Fremont\, CA\, United States
GEO:37.531181;-121.959565
X-APPLE-STRUCTURED-LOCATION;VALUE=URI;X-ADDRESS=Islamic Center of Fremont (ICF-Irvington) 4039 Irvington Ave Fremont CA United States;X-APPLE-RADIUS=500;X-TITLE=4039 Irvington Ave:geo:-121.959565,37.531181
END:VEVENT
BEGIN:VEVENT
DTSTART;TZID=America/Los_Angeles:20261116T200000
DTEND;TZID=America/Los_Angeles:20261116T210000
DTSTAMP:20260424T071839
CREATED:20260414T040250Z
LAST-MODIFIED:20260421T003307Z
UID:10002121-1794859200-1794862800@icfbayarea.com
SUMMARY:Quranic Arabic Language Online Class
DESCRIPTION:Instructor – Mufti Kamran\nFor more info: Visit courses.icfbayarea.com or email to muftikamran@icfbayarea.com
URL:https://icfbayarea.com/event/quranic-arabic-language-online-class-44/
LOCATION:CA
END:VEVENT
BEGIN:VEVENT
DTSTART;TZID=America/Los_Angeles:20261116T203000
DTEND;TZID=America/Los_Angeles:20261116T220000
DTSTAMP:20260424T071839
CREATED:20260414T050245Z
LAST-MODIFIED:20260421T003307Z
UID:10002122-1794861000-1794866400@icfbayarea.com
SUMMARY:Quranic Literacy Program: Brother's Class
DESCRIPTION:Adult Quran Class for brothers taught by Imam Yahya Mulla. \nFor more information\, please see:  \nQuranic Literacy Program \n\n(E_000060)
URL:https://icfbayarea.com/event/quranic-literacy-program-brothers-class-111/
LOCATION:Islamic Center of Fremont (ICF-Irvington)\, 4039 Irvington Ave\, Fremont\, CA\, United States
GEO:37.531181;-121.959565
X-APPLE-STRUCTURED-LOCATION;VALUE=URI;X-ADDRESS=Islamic Center of Fremont (ICF-Irvington) 4039 Irvington Ave Fremont CA United States;X-APPLE-RADIUS=500;X-TITLE=4039 Irvington Ave:geo:-121.959565,37.531181
END:VEVENT
BEGIN:VEVENT
DTSTART;TZID=America/Los_Angeles:20261117T200000
DTEND;TZID=America/Los_Angeles:20261117T210000
DTSTAMP:20260424T071839
CREATED:20260415T040406Z
LAST-MODIFIED:20260421T003307Z
UID:10002123-1794945600-1794949200@icfbayarea.com
SUMMARY:Fiqh of purification & salah - Mufti Ahsan Osmani
DESCRIPTION:This program is after Isha.
URL:https://icfbayarea.com/event/fiqh-of-purification-salah-mufti-ahsan-osmani-44/
LOCATION:Islamic Center of Fremont (ICF-Irvington)\, 4039 Irvington Ave\, Fremont\, CA\, United States
GEO:37.531181;-121.959565
X-APPLE-STRUCTURED-LOCATION;VALUE=URI;X-ADDRESS=Islamic Center of Fremont (ICF-Irvington) 4039 Irvington Ave Fremont CA United States;X-APPLE-RADIUS=500;X-TITLE=4039 Irvington Ave:geo:-121.959565,37.531181
END:VEVENT
BEGIN:VEVENT
DTSTART;TZID=America/Los_Angeles:20261119T193000
DTEND;TZID=America/Los_Angeles:20261119T203000
DTSTAMP:20260424T071839
CREATED:20260417T033246Z
LAST-MODIFIED:20260421T003308Z
UID:10002124-1795116600-1795120200@icfbayarea.com
SUMMARY:Quranic Compass: Navigating Challenges for Youth by Shaykh Shadman
DESCRIPTION:Join us for an enlightening journey as we delve into the depths of the Quran to address the pressing concerns of today’s youth.\nQuranic Compass is a weekly lecture series that invites you to explore the Islamic aspect of gender interactions\, the Quranic view on LGBTQ+ matters\, atheism\, and other contemporary issues.\nFB: http://facebook.com/MasjidZakariya\nIG: http://instagram.com/icfyouthbayarea\nYT: http://youtube.com/@islamiccenteroffremont\n(E_000059)
URL:https://icfbayarea.com/event/quranic-compass-navigating-challenges-for-youth-by-shaykh-shadman-112/
LOCATION:Masjid Zakariya\, 42412 Albrae St\, Fremont\, CA\, 94538\, United States
END:VEVENT
BEGIN:VEVENT
DTSTART;TZID=America/Los_Angeles:20261119T200000
DTEND;TZID=America/Los_Angeles:20261119T210000
DTSTAMP:20260424T071839
CREATED:20260417T040303Z
LAST-MODIFIED:20260421T003307Z
UID:10002125-1795118400-1795122000@icfbayarea.com
SUMMARY:Quran Tafseer after Maghrib
DESCRIPTION:Listen Live –  https://stream.masjidiapp.com/icfbayaans/listen-live/
URL:https://icfbayarea.com/event/quran-tafseer-after-maghrib-78/
LOCATION:ICF\, 4039 Irvington Avenue\, Fremont\, CA\, 94538\, United States
END:VEVENT
BEGIN:VEVENT
DTSTART;TZID=America/Los_Angeles:20261120T123000
DTEND;TZID=America/Los_Angeles:20261120T133000
DTSTAMP:20260424T071839
CREATED:20260417T203249Z
LAST-MODIFIED:20260421T003308Z
UID:10002126-1795177800-1795181400@icfbayarea.com
SUMMARY:Friday Bayaan at ICF
DESCRIPTION:Friday Bayaan at ICF\nhttps://stream.masjidiapp.com/icfbayaans/listen-live/\n(E_000027)
URL:https://icfbayarea.com/event/friday-bayaan-at-icf-141/
LOCATION:ICF\, 4039 Irvington Avenue\, Fremont\, CA\, 94538\, United States
END:VEVENT
END:VCALENDAR