BEGIN:VCALENDAR
VERSION:2.0
PRODID:-//Islamic Center of Fremont - ECPv6.15.20//NONSGML v1.0//EN
CALSCALE:GREGORIAN
METHOD:PUBLISH
X-ORIGINAL-URL:https://icfbayarea.com
X-WR-CALDESC:Events for Islamic Center of Fremont
REFRESH-INTERVAL;VALUE=DURATION:PT1H
X-Robots-Tag:noindex
X-PUBLISHED-TTL:PT1H
BEGIN:VTIMEZONE
TZID:America/Los_Angeles
BEGIN:DAYLIGHT
TZOFFSETFROM:-0800
TZOFFSETTO:-0700
TZNAME:PDT
DTSTART:20240310T100000
END:DAYLIGHT
BEGIN:STANDARD
TZOFFSETFROM:-0700
TZOFFSETTO:-0800
TZNAME:PST
DTSTART:20241103T090000
END:STANDARD
BEGIN:DAYLIGHT
TZOFFSETFROM:-0800
TZOFFSETTO:-0700
TZNAME:PDT
DTSTART:20250309T100000
END:DAYLIGHT
BEGIN:STANDARD
TZOFFSETFROM:-0700
TZOFFSETTO:-0800
TZNAME:PST
DTSTART:20251102T090000
END:STANDARD
BEGIN:DAYLIGHT
TZOFFSETFROM:-0800
TZOFFSETTO:-0700
TZNAME:PDT
DTSTART:20260308T100000
END:DAYLIGHT
BEGIN:STANDARD
TZOFFSETFROM:-0700
TZOFFSETTO:-0800
TZNAME:PST
DTSTART:20261101T090000
END:STANDARD
END:VTIMEZONE
BEGIN:VEVENT
DTSTART;TZID=America/Los_Angeles:20250912T190000
DTEND;TZID=America/Los_Angeles:20250912T230000
DTSTAMP:20260424T040208
CREATED:20250122T191814Z
LAST-MODIFIED:20250123T011731Z
UID:10001400-1757703600-1757718000@icfbayarea.com
SUMMARY:Family Night
DESCRIPTION:(E_000010)
URL:https://icfbayarea.com/event/family-night-50/
LOCATION:Masjid Zakariya\, 42412 Albrae St\, Fremont\, CA\, 94538\, United States
END:VEVENT
BEGIN:VEVENT
DTSTART;TZID=America/Los_Angeles:20250913T100000
DTEND;TZID=America/Los_Angeles:20250913T133000
DTSTAMP:20260424T040208
CREATED:20250122T191814Z
LAST-MODIFIED:20250913T202955Z
UID:10001402-1757757600-1757770200@icfbayarea.com
SUMMARY:Barakah Food Distribution (Sisters)
DESCRIPTION:ICF Sisters Program to distribute grocery packages to the needy\n(E_000011)
URL:https://icfbayarea.com/event/barakah-food-distribution-sisters-23/
LOCATION:Masjid Zakariya (Gym)
END:VEVENT
BEGIN:VEVENT
DTSTART;TZID=America/Los_Angeles:20250915T203000
DTEND;TZID=America/Los_Angeles:20250915T220000
DTSTAMP:20260424T040208
CREATED:20250122T191814Z
LAST-MODIFIED:20250916T043254Z
UID:10001403-1757968200-1757973600@icfbayarea.com
SUMMARY:Quranic Literacy Program: Brother's Class
DESCRIPTION:Adult Quran Class for brothers taught by Imam Yahya Mulla. \nFor more information\, please see:  \nQuranic Literacy Program \n\n(E_000060)
URL:https://icfbayarea.com/event/quranic-literacy-program-brothers-class-50/
LOCATION:Islamic Center of Fremont (ICF-Irvington)\, 4039 Irvington Ave\, Fremont\, CA\, United States
GEO:37.531181;-121.959565
X-APPLE-STRUCTURED-LOCATION;VALUE=URI;X-ADDRESS=Islamic Center of Fremont (ICF-Irvington) 4039 Irvington Ave Fremont CA United States;X-APPLE-RADIUS=500;X-TITLE=4039 Irvington Ave:geo:-121.959565,37.531181
END:VEVENT
BEGIN:VEVENT
DTSTART;TZID=America/Los_Angeles:20250918T190000
DTEND;TZID=America/Los_Angeles:20250918T210000
DTSTAMP:20260424T040208
CREATED:20250909T035712Z
LAST-MODIFIED:20250919T033316Z
UID:10001759-1758222000-1758229200@icfbayarea.com
SUMMARY:Quran Tafseer after Maghrib
DESCRIPTION:Listen Live –  https://stream.masjidiapp.com/icfbayaans/listen-live/
URL:https://icfbayarea.com/event/quran-tafseer-after-maghrib-2/
LOCATION:ICF\, 4039 Irvington Avenue\, Fremont\, CA\, 94538\, United States
END:VEVENT
BEGIN:VEVENT
DTSTART;TZID=America/Los_Angeles:20250918T193000
DTEND;TZID=America/Los_Angeles:20250918T203000
DTSTAMP:20260424T040208
CREATED:20250122T191814Z
LAST-MODIFIED:20250919T030410Z
UID:10001404-1758223800-1758227400@icfbayarea.com
SUMMARY:Quranic Compass: Navigating Challenges for Youth by Shaykh Shadman
DESCRIPTION:Join us for an enlightening journey as we delve into the depths of the Quran to address the pressing concerns of today’s youth.\nQuranic Compass is a weekly lecture series that invites you to explore the Islamic aspect of gender interactions\, the Quranic view on LGBTQ+ matters\, atheism\, and other contemporary issues.\nFB: http://facebook.com/MasjidZakariya\nIG: http://instagram.com/icfyouthbayarea\nYT: http://youtube.com/@islamiccenteroffremont\n(E_000059)
URL:https://icfbayarea.com/event/quranic-compass-navigating-challenges-for-youth-by-shaykh-shadman-51/
LOCATION:Masjid Zakariya\, 42412 Albrae St\, Fremont\, CA\, 94538\, United States
END:VEVENT
BEGIN:VEVENT
DTSTART;TZID=America/Los_Angeles:20250919T123000
DTEND;TZID=America/Los_Angeles:20250919T133000
DTSTAMP:20260424T040208
CREATED:20250122T191814Z
LAST-MODIFIED:20250919T201759Z
UID:10001405-1758285000-1758288600@icfbayarea.com
SUMMARY:Friday Bayaan at ICF
DESCRIPTION:Friday Bayaan at ICF\nhttps://stream.masjidiapp.com/icfbayaans/listen-live/\n(E_000027)
URL:https://icfbayarea.com/event/friday-bayaan-at-icf-80/
LOCATION:ICF\, 4039 Irvington Avenue\, Fremont\, CA\, 94538\, United States
END:VEVENT
BEGIN:VEVENT
DTSTART;TZID=America/Los_Angeles:20250919T183000
DTEND;TZID=America/Los_Angeles:20250919T200000
DTSTAMP:20260424T040208
CREATED:20250122T191814Z
LAST-MODIFIED:20250920T024748Z
UID:10001407-1758306600-1758312000@icfbayarea.com
SUMMARY:Quranic Literacy Program: Sisters' Class
DESCRIPTION:Adult Quran Class for sisters at Masjid Zakariya.\nFor more information\, please contact: imamshadman@icfbayarea.com\n(E_000067)
URL:https://icfbayarea.com/event/quranic-literacy-program-sisters-class-51/
LOCATION:Masjid Zakariya (ICF-Albrae)\, 42472 Albrae St\, Fremont\, CA\, United States
GEO:37.514829;-121.977139
X-APPLE-STRUCTURED-LOCATION;VALUE=URI;X-ADDRESS=Masjid Zakariya (ICF-Albrae) 42472 Albrae St Fremont CA United States;X-APPLE-RADIUS=500;X-TITLE=42472 Albrae St:geo:-121.977139,37.514829
END:VEVENT
BEGIN:VEVENT
DTSTART;TZID=America/Los_Angeles:20250919T190000
DTEND;TZID=America/Los_Angeles:20250919T230000
DTSTAMP:20260424T040208
CREATED:20250122T191814Z
LAST-MODIFIED:20250123T011732Z
UID:10001406-1758308400-1758322800@icfbayarea.com
SUMMARY:Family Night
DESCRIPTION:(E_000010)
URL:https://icfbayarea.com/event/family-night-51/
LOCATION:Masjid Zakariya\, 42412 Albrae St\, Fremont\, CA\, 94538\, United States
END:VEVENT
BEGIN:VEVENT
DTSTART;TZID=America/Los_Angeles:20250920T100000
DTEND;TZID=America/Los_Angeles:20250920T133000
DTSTAMP:20260424T040208
CREATED:20250122T191815Z
LAST-MODIFIED:20250920T201818Z
UID:10001408-1758362400-1758375000@icfbayarea.com
SUMMARY:Barakah Food Distribution (Sisters)
DESCRIPTION:ICF Sisters Program to distribute grocery packages to the needy\n(E_000011)
URL:https://icfbayarea.com/event/barakah-food-distribution-sisters-24/
LOCATION:Masjid Zakariya (Gym)
END:VEVENT
BEGIN:VEVENT
DTSTART;TZID=America/Los_Angeles:20250922T203000
DTEND;TZID=America/Los_Angeles:20250922T220000
DTSTAMP:20260424T040208
CREATED:20250122T191815Z
LAST-MODIFIED:20250922T053407Z
UID:10001409-1758573000-1758578400@icfbayarea.com
SUMMARY:Quranic Literacy Program: Brother's Class
DESCRIPTION:Adult Quran Class for brothers taught by Imam Yahya Mulla. \nFor more information\, please see:  \nQuranic Literacy Program \n\n(E_000060)
URL:https://icfbayarea.com/event/quranic-literacy-program-brothers-class-51/
LOCATION:Islamic Center of Fremont (ICF-Irvington)\, 4039 Irvington Ave\, Fremont\, CA\, United States
GEO:37.531181;-121.959565
X-APPLE-STRUCTURED-LOCATION;VALUE=URI;X-ADDRESS=Islamic Center of Fremont (ICF-Irvington) 4039 Irvington Ave Fremont CA United States;X-APPLE-RADIUS=500;X-TITLE=4039 Irvington Ave:geo:-121.959565,37.531181
END:VEVENT
BEGIN:VEVENT
DTSTART;TZID=America/Los_Angeles:20250925T190000
DTEND;TZID=America/Los_Angeles:20250925T210000
DTSTAMP:20260424T040208
CREATED:20250909T035712Z
LAST-MODIFIED:20250922T053407Z
UID:10001760-1758826800-1758834000@icfbayarea.com
SUMMARY:Quran Tafseer after Maghrib
DESCRIPTION:Listen Live –  https://stream.masjidiapp.com/icfbayaans/listen-live/
URL:https://icfbayarea.com/event/quran-tafseer-after-maghrib-3/
LOCATION:ICF\, 4039 Irvington Avenue\, Fremont\, CA\, 94538\, United States
END:VEVENT
BEGIN:VEVENT
DTSTART;TZID=America/Los_Angeles:20250925T193000
DTEND;TZID=America/Los_Angeles:20250925T203000
DTSTAMP:20260424T040208
CREATED:20250122T191815Z
LAST-MODIFIED:20250922T053407Z
UID:10001410-1758828600-1758832200@icfbayarea.com
SUMMARY:Quranic Compass: Navigating Challenges for Youth by Shaykh Shadman
DESCRIPTION:Join us for an enlightening journey as we delve into the depths of the Quran to address the pressing concerns of today’s youth.\nQuranic Compass is a weekly lecture series that invites you to explore the Islamic aspect of gender interactions\, the Quranic view on LGBTQ+ matters\, atheism\, and other contemporary issues.\nFB: http://facebook.com/MasjidZakariya\nIG: http://instagram.com/icfyouthbayarea\nYT: http://youtube.com/@islamiccenteroffremont\n(E_000059)
URL:https://icfbayarea.com/event/quranic-compass-navigating-challenges-for-youth-by-shaykh-shadman-52/
LOCATION:Masjid Zakariya\, 42412 Albrae St\, Fremont\, CA\, 94538\, United States
END:VEVENT
BEGIN:VEVENT
DTSTART;TZID=America/Los_Angeles:20250926T123000
DTEND;TZID=America/Los_Angeles:20250926T133000
DTSTAMP:20260424T040208
CREATED:20250122T191815Z
LAST-MODIFIED:20250922T053407Z
UID:10001411-1758889800-1758893400@icfbayarea.com
SUMMARY:Friday Bayaan at ICF
DESCRIPTION:Friday Bayaan at ICF\nhttps://stream.masjidiapp.com/icfbayaans/listen-live/\n(E_000027)
URL:https://icfbayarea.com/event/friday-bayaan-at-icf-81/
LOCATION:ICF\, 4039 Irvington Avenue\, Fremont\, CA\, 94538\, United States
END:VEVENT
BEGIN:VEVENT
DTSTART;TZID=America/Los_Angeles:20250926T183000
DTEND;TZID=America/Los_Angeles:20250926T200000
DTSTAMP:20260424T040208
CREATED:20250122T191815Z
LAST-MODIFIED:20250922T053407Z
UID:10001412-1758911400-1758916800@icfbayarea.com
SUMMARY:Quranic Literacy Program: Sisters' Class
DESCRIPTION:Adult Quran Class for sisters at Masjid Zakariya.\nFor more information\, please contact: imamshadman@icfbayarea.com\n(E_000067)
URL:https://icfbayarea.com/event/quranic-literacy-program-sisters-class-52/
LOCATION:Masjid Zakariya (ICF-Albrae)\, 42472 Albrae St\, Fremont\, CA\, United States
GEO:37.514829;-121.977139
X-APPLE-STRUCTURED-LOCATION;VALUE=URI;X-ADDRESS=Masjid Zakariya (ICF-Albrae) 42472 Albrae St Fremont CA United States;X-APPLE-RADIUS=500;X-TITLE=42472 Albrae St:geo:-121.977139,37.514829
END:VEVENT
BEGIN:VEVENT
DTSTART;TZID=America/Los_Angeles:20250926T190000
DTEND;TZID=America/Los_Angeles:20250926T230000
DTSTAMP:20260424T040208
CREATED:20250122T191815Z
LAST-MODIFIED:20250123T011732Z
UID:10001413-1758913200-1758927600@icfbayarea.com
SUMMARY:Family Night
DESCRIPTION:(E_000010)
URL:https://icfbayarea.com/event/family-night-52/
LOCATION:Masjid Zakariya\, 42412 Albrae St\, Fremont\, CA\, 94538\, United States
END:VEVENT
BEGIN:VEVENT
DTSTART;TZID=America/Los_Angeles:20250927T100000
DTEND;TZID=America/Los_Angeles:20250927T130000
DTSTAMP:20260424T040208
CREATED:20250122T191815Z
LAST-MODIFIED:20250922T053407Z
UID:10001414-1758967200-1758978000@icfbayarea.com
SUMMARY:Salaam Food Pantry - Food Distribution
DESCRIPTION:Numerous people and families from near by low-income and senior housing complexes as well from far locations in the bay area look forward to this monthly event to get much needed food supplies\, warm food and community support.\nhttps://salaamfoodpantry.org/\n(E_000013)
URL:https://icfbayarea.com/event/salaam-food-pantry-food-distribution-12/
LOCATION:ICF (Parking Lot)
END:VEVENT
BEGIN:VEVENT
DTSTART;TZID=America/Los_Angeles:20250929T203000
DTEND;TZID=America/Los_Angeles:20250929T220000
DTSTAMP:20260424T040208
CREATED:20250122T191815Z
LAST-MODIFIED:20250922T053407Z
UID:10001415-1759177800-1759183200@icfbayarea.com
SUMMARY:Quranic Literacy Program: Brother's Class
DESCRIPTION:Adult Quran Class for brothers taught by Imam Yahya Mulla. \nFor more information\, please see:  \nQuranic Literacy Program \n\n(E_000060)
URL:https://icfbayarea.com/event/quranic-literacy-program-brothers-class-52/
LOCATION:Islamic Center of Fremont (ICF-Irvington)\, 4039 Irvington Ave\, Fremont\, CA\, United States
GEO:37.531181;-121.959565
X-APPLE-STRUCTURED-LOCATION;VALUE=URI;X-ADDRESS=Islamic Center of Fremont (ICF-Irvington) 4039 Irvington Ave Fremont CA United States;X-APPLE-RADIUS=500;X-TITLE=4039 Irvington Ave:geo:-121.959565,37.531181
END:VEVENT
BEGIN:VEVENT
DTSTART;TZID=America/Los_Angeles:20251002T190000
DTEND;TZID=America/Los_Angeles:20251002T210000
DTSTAMP:20260424T040208
CREATED:20250909T035713Z
LAST-MODIFIED:20250922T053408Z
UID:10001761-1759431600-1759438800@icfbayarea.com
SUMMARY:Quran Tafseer after Maghrib
DESCRIPTION:Listen Live –  https://stream.masjidiapp.com/icfbayaans/listen-live/
URL:https://icfbayarea.com/event/quran-tafseer-after-maghrib-4/
LOCATION:ICF\, 4039 Irvington Avenue\, Fremont\, CA\, 94538\, United States
END:VEVENT
BEGIN:VEVENT
DTSTART;TZID=America/Los_Angeles:20251002T193000
DTEND;TZID=America/Los_Angeles:20251002T203000
DTSTAMP:20260424T040208
CREATED:20250122T191815Z
LAST-MODIFIED:20250922T053407Z
UID:10001416-1759433400-1759437000@icfbayarea.com
SUMMARY:Quranic Compass: Navigating Challenges for Youth by Shaykh Shadman
DESCRIPTION:Join us for an enlightening journey as we delve into the depths of the Quran to address the pressing concerns of today’s youth.\nQuranic Compass is a weekly lecture series that invites you to explore the Islamic aspect of gender interactions\, the Quranic view on LGBTQ+ matters\, atheism\, and other contemporary issues.\nFB: http://facebook.com/MasjidZakariya\nIG: http://instagram.com/icfyouthbayarea\nYT: http://youtube.com/@islamiccenteroffremont\n(E_000059)
URL:https://icfbayarea.com/event/quranic-compass-navigating-challenges-for-youth-by-shaykh-shadman-53/
LOCATION:Masjid Zakariya\, 42412 Albrae St\, Fremont\, CA\, 94538\, United States
END:VEVENT
BEGIN:VEVENT
DTSTART;TZID=America/Los_Angeles:20251003T123000
DTEND;TZID=America/Los_Angeles:20251003T133000
DTSTAMP:20260424T040208
CREATED:20250122T191815Z
LAST-MODIFIED:20250922T053408Z
UID:10001417-1759494600-1759498200@icfbayarea.com
SUMMARY:Friday Bayaan at ICF
DESCRIPTION:Friday Bayaan at ICF\nhttps://stream.masjidiapp.com/icfbayaans/listen-live/\n(E_000027)
URL:https://icfbayarea.com/event/friday-bayaan-at-icf-82/
LOCATION:ICF\, 4039 Irvington Avenue\, Fremont\, CA\, 94538\, United States
END:VEVENT
BEGIN:VEVENT
DTSTART;TZID=America/Los_Angeles:20251003T183000
DTEND;TZID=America/Los_Angeles:20251003T200000
DTSTAMP:20260424T040208
CREATED:20250122T191816Z
LAST-MODIFIED:20250922T053408Z
UID:10001419-1759516200-1759521600@icfbayarea.com
SUMMARY:Quranic Literacy Program: Sisters' Class
DESCRIPTION:Adult Quran Class for sisters at Masjid Zakariya.\nFor more information\, please contact: imamshadman@icfbayarea.com\n(E_000067)
URL:https://icfbayarea.com/event/quranic-literacy-program-sisters-class-53/
LOCATION:Masjid Zakariya (ICF-Albrae)\, 42472 Albrae St\, Fremont\, CA\, United States
GEO:37.514829;-121.977139
X-APPLE-STRUCTURED-LOCATION;VALUE=URI;X-ADDRESS=Masjid Zakariya (ICF-Albrae) 42472 Albrae St Fremont CA United States;X-APPLE-RADIUS=500;X-TITLE=42472 Albrae St:geo:-121.977139,37.514829
END:VEVENT
BEGIN:VEVENT
DTSTART;TZID=America/Los_Angeles:20251003T190000
DTEND;TZID=America/Los_Angeles:20251003T230000
DTSTAMP:20260424T040208
CREATED:20250122T191815Z
LAST-MODIFIED:20250123T011732Z
UID:10001418-1759518000-1759532400@icfbayarea.com
SUMMARY:Family Night
DESCRIPTION:(E_000010)
URL:https://icfbayarea.com/event/family-night-53/
LOCATION:Masjid Zakariya\, 42412 Albrae St\, Fremont\, CA\, 94538\, United States
END:VEVENT
BEGIN:VEVENT
DTSTART;TZID=America/Los_Angeles:20251006T203000
DTEND;TZID=America/Los_Angeles:20251006T220000
DTSTAMP:20260424T040208
CREATED:20250122T191816Z
LAST-MODIFIED:20250922T053408Z
UID:10001420-1759782600-1759788000@icfbayarea.com
SUMMARY:Quranic Literacy Program: Brother's Class
DESCRIPTION:Adult Quran Class for brothers taught by Imam Yahya Mulla. \nFor more information\, please see:  \nQuranic Literacy Program \n\n(E_000060)
URL:https://icfbayarea.com/event/quranic-literacy-program-brothers-class-53/
LOCATION:Islamic Center of Fremont (ICF-Irvington)\, 4039 Irvington Ave\, Fremont\, CA\, United States
GEO:37.531181;-121.959565
X-APPLE-STRUCTURED-LOCATION;VALUE=URI;X-ADDRESS=Islamic Center of Fremont (ICF-Irvington) 4039 Irvington Ave Fremont CA United States;X-APPLE-RADIUS=500;X-TITLE=4039 Irvington Ave:geo:-121.959565,37.531181
END:VEVENT
BEGIN:VEVENT
DTSTART;TZID=America/Los_Angeles:20251009T190000
DTEND;TZID=America/Los_Angeles:20251009T210000
DTSTAMP:20260424T040208
CREATED:20250909T035713Z
LAST-MODIFIED:20250922T053408Z
UID:10001762-1760036400-1760043600@icfbayarea.com
SUMMARY:Quran Tafseer after Maghrib
DESCRIPTION:Listen Live –  https://stream.masjidiapp.com/icfbayaans/listen-live/
URL:https://icfbayarea.com/event/quran-tafseer-after-maghrib-5/
LOCATION:ICF\, 4039 Irvington Avenue\, Fremont\, CA\, 94538\, United States
END:VEVENT
BEGIN:VEVENT
DTSTART;TZID=America/Los_Angeles:20251009T193000
DTEND;TZID=America/Los_Angeles:20251009T203000
DTSTAMP:20260424T040208
CREATED:20250122T191816Z
LAST-MODIFIED:20250922T053408Z
UID:10001421-1760038200-1760041800@icfbayarea.com
SUMMARY:Quranic Compass: Navigating Challenges for Youth by Shaykh Shadman
DESCRIPTION:Join us for an enlightening journey as we delve into the depths of the Quran to address the pressing concerns of today’s youth.\nQuranic Compass is a weekly lecture series that invites you to explore the Islamic aspect of gender interactions\, the Quranic view on LGBTQ+ matters\, atheism\, and other contemporary issues.\nFB: http://facebook.com/MasjidZakariya\nIG: http://instagram.com/icfyouthbayarea\nYT: http://youtube.com/@islamiccenteroffremont\n(E_000059)
URL:https://icfbayarea.com/event/quranic-compass-navigating-challenges-for-youth-by-shaykh-shadman-54/
LOCATION:Masjid Zakariya\, 42412 Albrae St\, Fremont\, CA\, 94538\, United States
END:VEVENT
BEGIN:VEVENT
DTSTART;TZID=America/Los_Angeles:20251010T123000
DTEND;TZID=America/Los_Angeles:20251010T133000
DTSTAMP:20260424T040208
CREATED:20250122T191816Z
LAST-MODIFIED:20250922T053408Z
UID:10001422-1760099400-1760103000@icfbayarea.com
SUMMARY:Friday Bayaan at ICF
DESCRIPTION:Friday Bayaan at ICF\nhttps://stream.masjidiapp.com/icfbayaans/listen-live/\n(E_000027)
URL:https://icfbayarea.com/event/friday-bayaan-at-icf-83/
LOCATION:ICF\, 4039 Irvington Avenue\, Fremont\, CA\, 94538\, United States
END:VEVENT
BEGIN:VEVENT
DTSTART;TZID=America/Los_Angeles:20251010T183000
DTEND;TZID=America/Los_Angeles:20251010T200000
DTSTAMP:20260424T040208
CREATED:20250122T191816Z
LAST-MODIFIED:20250922T053408Z
UID:10001424-1760121000-1760126400@icfbayarea.com
SUMMARY:Quranic Literacy Program: Sisters' Class
DESCRIPTION:Adult Quran Class for sisters at Masjid Zakariya.\nFor more information\, please contact: imamshadman@icfbayarea.com\n(E_000067)
URL:https://icfbayarea.com/event/quranic-literacy-program-sisters-class-54/
LOCATION:Masjid Zakariya (ICF-Albrae)\, 42472 Albrae St\, Fremont\, CA\, United States
GEO:37.514829;-121.977139
X-APPLE-STRUCTURED-LOCATION;VALUE=URI;X-ADDRESS=Masjid Zakariya (ICF-Albrae) 42472 Albrae St Fremont CA United States;X-APPLE-RADIUS=500;X-TITLE=42472 Albrae St:geo:-121.977139,37.514829
END:VEVENT
BEGIN:VEVENT
DTSTART;TZID=America/Los_Angeles:20251010T190000
DTEND;TZID=America/Los_Angeles:20251010T230000
DTSTAMP:20260424T040208
CREATED:20250122T191816Z
LAST-MODIFIED:20250123T011733Z
UID:10001423-1760122800-1760137200@icfbayarea.com
SUMMARY:Family Night
DESCRIPTION:(E_000010)
URL:https://icfbayarea.com/event/family-night-54/
LOCATION:Masjid Zakariya\, 42412 Albrae St\, Fremont\, CA\, 94538\, United States
END:VEVENT
BEGIN:VEVENT
DTSTART;TZID=America/Los_Angeles:20251011T100000
DTEND;TZID=America/Los_Angeles:20251011T133000
DTSTAMP:20260424T040208
CREATED:20250122T191816Z
LAST-MODIFIED:20250922T053408Z
UID:10001425-1760176800-1760189400@icfbayarea.com
SUMMARY:Barakah Food Distribution (Sisters)
DESCRIPTION:ICF Sisters Program to distribute grocery packages to the needy\n(E_000011)
URL:https://icfbayarea.com/event/barakah-food-distribution-sisters-25/
LOCATION:Masjid Zakariya (Gym)
END:VEVENT
BEGIN:VEVENT
DTSTART;TZID=America/Los_Angeles:20251013T203000
DTEND;TZID=America/Los_Angeles:20251013T220000
DTSTAMP:20260424T040208
CREATED:20250122T191816Z
LAST-MODIFIED:20250922T053408Z
UID:10001426-1760387400-1760392800@icfbayarea.com
SUMMARY:Quranic Literacy Program: Brother's Class
DESCRIPTION:Adult Quran Class for brothers taught by Imam Yahya Mulla. \nFor more information\, please see:  \nQuranic Literacy Program \n\n(E_000060)
URL:https://icfbayarea.com/event/quranic-literacy-program-brothers-class-54/
LOCATION:Islamic Center of Fremont (ICF-Irvington)\, 4039 Irvington Ave\, Fremont\, CA\, United States
GEO:37.531181;-121.959565
X-APPLE-STRUCTURED-LOCATION;VALUE=URI;X-ADDRESS=Islamic Center of Fremont (ICF-Irvington) 4039 Irvington Ave Fremont CA United States;X-APPLE-RADIUS=500;X-TITLE=4039 Irvington Ave:geo:-121.959565,37.531181
END:VEVENT
END:VCALENDAR