BEGIN:VCALENDAR
VERSION:2.0
PRODID:-//Islamic Center of Fremont - ECPv6.15.20//NONSGML v1.0//EN
CALSCALE:GREGORIAN
METHOD:PUBLISH
X-WR-CALNAME:Islamic Center of Fremont
X-ORIGINAL-URL:https://icfbayarea.com
X-WR-CALDESC:Events for Islamic Center of Fremont
REFRESH-INTERVAL;VALUE=DURATION:PT1H
X-Robots-Tag:noindex
X-PUBLISHED-TTL:PT1H
BEGIN:VTIMEZONE
TZID:America/Los_Angeles
BEGIN:DAYLIGHT
TZOFFSETFROM:-0800
TZOFFSETTO:-0700
TZNAME:PDT
DTSTART:20250309T100000
END:DAYLIGHT
BEGIN:STANDARD
TZOFFSETFROM:-0700
TZOFFSETTO:-0800
TZNAME:PST
DTSTART:20251102T090000
END:STANDARD
BEGIN:DAYLIGHT
TZOFFSETFROM:-0800
TZOFFSETTO:-0700
TZNAME:PDT
DTSTART:20260308T100000
END:DAYLIGHT
BEGIN:STANDARD
TZOFFSETFROM:-0700
TZOFFSETTO:-0800
TZNAME:PST
DTSTART:20261101T090000
END:STANDARD
BEGIN:DAYLIGHT
TZOFFSETFROM:-0800
TZOFFSETTO:-0700
TZNAME:PDT
DTSTART:20270314T100000
END:DAYLIGHT
BEGIN:STANDARD
TZOFFSETFROM:-0700
TZOFFSETTO:-0800
TZNAME:PST
DTSTART:20271107T090000
END:STANDARD
END:VTIMEZONE
BEGIN:VEVENT
DTSTART;TZID=America/Los_Angeles:20260306T190000
DTEND;TZID=America/Los_Angeles:20260306T230000
DTSTAMP:20260423T155559
CREATED:20250321T203420Z
LAST-MODIFIED:20260307T063311Z
UID:10001634-1772823600-1772838000@icfbayarea.com
SUMMARY:Family Night
DESCRIPTION:(E_000010)
URL:https://icfbayarea.com/event/family-night-77/
LOCATION:Masjid Zakariya\, 42412 Albrae St\, Fremont\, CA\, 94538\, United States
END:VEVENT
BEGIN:VEVENT
DTSTART;TZID=America/Los_Angeles:20260308T173000
DTEND;TZID=America/Los_Angeles:20260308T183000
DTSTAMP:20260423T155559
CREATED:20260117T001646Z
LAST-MODIFIED:20260309T004738Z
UID:10001821-1772991000-1772994600@icfbayarea.com
SUMMARY:Dars-e-Hadith\, Mufti Muddassir Oovais Sahib
DESCRIPTION:
URL:https://icfbayarea.com/event/dars-e-hadith-mufti-muddassir-oovais-sahib-8/
LOCATION:Islamic Center of Fremont (ICF-Irvington)\, 4039 Irvington Ave\, Fremont\, CA\, United States
GEO:37.531181;-121.959565
X-APPLE-STRUCTURED-LOCATION;VALUE=URI;X-ADDRESS=Islamic Center of Fremont (ICF-Irvington) 4039 Irvington Ave Fremont CA United States;X-APPLE-RADIUS=500;X-TITLE=4039 Irvington Ave:geo:-121.959565,37.531181
END:VEVENT
BEGIN:VEVENT
DTSTART;TZID=America/Los_Angeles:20260309T193000
DTEND;TZID=America/Los_Angeles:20260309T213000
DTSTAMP:20260423T155559
CREATED:20250325T003450Z
LAST-MODIFIED:20250922T053417Z
UID:10001637-1773084600-1773091800@icfbayarea.com
SUMMARY:Badminton (For Men)
DESCRIPTION:(E_000025)
URL:https://icfbayarea.com/event/badminton-for-men-53/
LOCATION:Masjid Zakariya (Gym)
END:VEVENT
BEGIN:VEVENT
DTSTART;TZID=America/Los_Angeles:20260309T200000
DTEND;TZID=America/Los_Angeles:20260309T210000
DTSTAMP:20260423T155559
CREATED:20260117T001646Z
LAST-MODIFIED:20260310T031725Z
UID:10001822-1773086400-1773090000@icfbayarea.com
SUMMARY:Quranic Arabic Language Online Class
DESCRIPTION:Instructor – Mufti Kamran\nFor more info: Visit courses.icfbayarea.com or email to muftikamran@icfbayarea.com
URL:https://icfbayarea.com/event/quranic-arabic-language-online-class-8/
LOCATION:CA
END:VEVENT
BEGIN:VEVENT
DTSTART;TZID=America/Los_Angeles:20260309T203000
DTEND;TZID=America/Los_Angeles:20260309T220000
DTSTAMP:20260423T155559
CREATED:20250322T203312Z
LAST-MODIFIED:20260310T043310Z
UID:10001636-1773088200-1773093600@icfbayarea.com
SUMMARY:Quranic Literacy Program: Brother's Class
DESCRIPTION:Adult Quran Class for brothers taught by Imam Yahya Mulla. \nFor more information\, please see:  \nQuranic Literacy Program \n\n(E_000060)
URL:https://icfbayarea.com/event/quranic-literacy-program-brothers-class-75/
LOCATION:Islamic Center of Fremont (ICF-Irvington)\, 4039 Irvington Ave\, Fremont\, CA\, United States
GEO:37.531181;-121.959565
X-APPLE-STRUCTURED-LOCATION;VALUE=URI;X-ADDRESS=Islamic Center of Fremont (ICF-Irvington) 4039 Irvington Ave Fremont CA United States;X-APPLE-RADIUS=500;X-TITLE=4039 Irvington Ave:geo:-121.959565,37.531181
END:VEVENT
BEGIN:VEVENT
DTSTART;TZID=America/Los_Angeles:20260310T200000
DTEND;TZID=America/Los_Angeles:20260310T210000
DTSTAMP:20260423T155559
CREATED:20260117T001646Z
LAST-MODIFIED:20260311T034758Z
UID:10001823-1773172800-1773176400@icfbayarea.com
SUMMARY:Fiqh of purification & salah - Mufti Ahsan Osmani
DESCRIPTION:This program is after Isha.
URL:https://icfbayarea.com/event/fiqh-of-purification-salah-mufti-ahsan-osmani-8/
LOCATION:Islamic Center of Fremont (ICF-Irvington)\, 4039 Irvington Ave\, Fremont\, CA\, United States
GEO:37.531181;-121.959565
X-APPLE-STRUCTURED-LOCATION;VALUE=URI;X-ADDRESS=Islamic Center of Fremont (ICF-Irvington) 4039 Irvington Ave Fremont CA United States;X-APPLE-RADIUS=500;X-TITLE=4039 Irvington Ave:geo:-121.959565,37.531181
END:VEVENT
BEGIN:VEVENT
DTSTART;TZID=America/Los_Angeles:20260311T191500
DTEND;TZID=America/Los_Angeles:20260311T213000
DTSTAMP:20260423T155559
CREATED:20250328T033757Z
LAST-MODIFIED:20250922T053417Z
UID:10001638-1773256500-1773264600@icfbayarea.com
SUMMARY:Table Tennis (For Men)
DESCRIPTION:
URL:https://icfbayarea.com/event/table-tennis-for-men-28/
LOCATION:Masjid Zakariya (Gym)￼
END:VEVENT
BEGIN:VEVENT
DTSTART;TZID=America/Los_Angeles:20260311T193000
DTEND;TZID=America/Los_Angeles:20260311T213000
DTSTAMP:20260423T155559
CREATED:20250328T210854Z
LAST-MODIFIED:20250922T053417Z
UID:10001639-1773257400-1773264600@icfbayarea.com
SUMMARY:Badminton (For Men)
DESCRIPTION:(E_000025)
URL:https://icfbayarea.com/event/badminton-for-men-54/
LOCATION:Masjid Zakariya (Gym)
END:VEVENT
BEGIN:VEVENT
DTSTART;TZID=America/Los_Angeles:20260312T090000
DTEND;TZID=America/Los_Angeles:20260312T100000
DTSTAMP:20260423T155559
CREATED:20250329T032449Z
LAST-MODIFIED:20250922T053417Z
UID:10001640-1773306000-1773309600@icfbayarea.com
SUMMARY:Men's Badminton
DESCRIPTION:
URL:https://icfbayarea.com/event/mens-badminton-28/
LOCATION:Masjid Zakariya (Gym)
END:VEVENT
BEGIN:VEVENT
DTSTART;TZID=America/Los_Angeles:20260312T110000
DTEND;TZID=America/Los_Angeles:20260312T120000
DTSTAMP:20260423T155559
CREATED:20250401T053903Z
LAST-MODIFIED:20250922T053418Z
UID:10001641-1773313200-1773316800@icfbayarea.com
SUMMARY:Fitness Class for Sisters
DESCRIPTION:Get fit and stay active!\nhttps://www.simplipayapp.com/spay/?programId=3619\n(E_000003)
URL:https://icfbayarea.com/event/fitness-class-for-sisters-52/
LOCATION:Masjid Zakariya (Gym)
END:VEVENT
BEGIN:VEVENT
DTSTART;TZID=America/Los_Angeles:20260312T190000
DTEND;TZID=America/Los_Angeles:20260312T210000
DTSTAMP:20260423T155600
CREATED:20250909T035734Z
LAST-MODIFIED:20250922T053418Z
UID:10001784-1773342000-1773349200@icfbayarea.com
SUMMARY:Quran Tafseer after Maghrib
DESCRIPTION:Listen Live –  https://stream.masjidiapp.com/icfbayaans/listen-live/
URL:https://icfbayarea.com/event/quran-tafseer-after-maghrib-27/
LOCATION:ICF\, 4039 Irvington Avenue\, Fremont\, CA\, 94538\, United States
END:VEVENT
BEGIN:VEVENT
DTSTART;TZID=America/Los_Angeles:20260312T191500
DTEND;TZID=America/Los_Angeles:20260312T213000
DTSTAMP:20260423T155600
CREATED:20250404T203848Z
LAST-MODIFIED:20250922T053418Z
UID:10001643-1773342900-1773351000@icfbayarea.com
SUMMARY:Table Tennis (For Men)
DESCRIPTION:
URL:https://icfbayarea.com/event/table-tennis-for-men-29/
LOCATION:Masjid Zakariya (Gym)￼
END:VEVENT
BEGIN:VEVENT
DTSTART;TZID=America/Los_Angeles:20260312T193000
DTEND;TZID=America/Los_Angeles:20260312T203000
DTSTAMP:20260423T155600
CREATED:20250404T033956Z
LAST-MODIFIED:20260313T031827Z
UID:10001642-1773343800-1773347400@icfbayarea.com
SUMMARY:Quranic Compass: Navigating Challenges for Youth by Shaykh Shadman
DESCRIPTION:Join us for an enlightening journey as we delve into the depths of the Quran to address the pressing concerns of today’s youth.\nQuranic Compass is a weekly lecture series that invites you to explore the Islamic aspect of gender interactions\, the Quranic view on LGBTQ+ matters\, atheism\, and other contemporary issues.\nFB: http://facebook.com/MasjidZakariya\nIG: http://instagram.com/icfyouthbayarea\nYT: http://youtube.com/@islamiccenteroffremont\n(E_000059)
URL:https://icfbayarea.com/event/quranic-compass-navigating-challenges-for-youth-by-shaykh-shadman-76/
LOCATION:Masjid Zakariya\, 42412 Albrae St\, Fremont\, CA\, 94538\, United States
END:VEVENT
BEGIN:VEVENT
DTSTART;TZID=America/Los_Angeles:20260312T200000
DTEND;TZID=America/Los_Angeles:20260312T210000
DTSTAMP:20260423T155600
CREATED:20260117T001646Z
LAST-MODIFIED:20260313T031827Z
UID:10001824-1773345600-1773349200@icfbayarea.com
SUMMARY:Quran Tafseer after Maghrib
DESCRIPTION:Listen Live –  https://stream.masjidiapp.com/icfbayaans/listen-live/
URL:https://icfbayarea.com/event/quran-tafseer-after-maghrib-42/
LOCATION:ICF\, 4039 Irvington Avenue\, Fremont\, CA\, 94538\, United States
END:VEVENT
BEGIN:VEVENT
DTSTART;TZID=America/Los_Angeles:20260313T123000
DTEND;TZID=America/Los_Angeles:20260313T133000
DTSTAMP:20260423T155600
CREATED:20250405T032403Z
LAST-MODIFIED:20260313T201826Z
UID:10001644-1773405000-1773408600@icfbayarea.com
SUMMARY:Friday Bayaan at ICF
DESCRIPTION:Friday Bayaan at ICF\nhttps://stream.masjidiapp.com/icfbayaans/listen-live/\n(E_000027)
URL:https://icfbayarea.com/event/friday-bayaan-at-icf-105/
LOCATION:ICF\, 4039 Irvington Avenue\, Fremont\, CA\, 94538\, United States
END:VEVENT
BEGIN:VEVENT
DTSTART;TZID=America/Los_Angeles:20260313T183000
DTEND;TZID=America/Los_Angeles:20260313T200000
DTSTAMP:20260423T155600
CREATED:20250409T002752Z
LAST-MODIFIED:20260314T024746Z
UID:10001646-1773426600-1773432000@icfbayarea.com
SUMMARY:Quranic Literacy Program: Sisters' Class
DESCRIPTION:Adult Quran Class for sisters at Masjid Zakariya.\nFor more information\, please contact: imamshadman@icfbayarea.com\n(E_000067)
URL:https://icfbayarea.com/event/quranic-literacy-program-sisters-class-76/
LOCATION:Masjid Zakariya (ICF-Albrae)\, 42472 Albrae St\, Fremont\, CA\, United States
GEO:37.514829;-121.977139
X-APPLE-STRUCTURED-LOCATION;VALUE=URI;X-ADDRESS=Masjid Zakariya (ICF-Albrae) 42472 Albrae St Fremont CA United States;X-APPLE-RADIUS=500;X-TITLE=42472 Albrae St:geo:-121.977139,37.514829
END:VEVENT
BEGIN:VEVENT
DTSTART;TZID=America/Los_Angeles:20260313T190000
DTEND;TZID=America/Los_Angeles:20260313T230000
DTSTAMP:20260423T155600
CREATED:20250408T054738Z
LAST-MODIFIED:20260314T053241Z
UID:10001645-1773428400-1773442800@icfbayarea.com
SUMMARY:Family Night
DESCRIPTION:(E_000010)
URL:https://icfbayarea.com/event/family-night-78/
LOCATION:Masjid Zakariya\, 42412 Albrae St\, Fremont\, CA\, 94538\, United States
END:VEVENT
BEGIN:VEVENT
DTSTART;TZID=America/Los_Angeles:20260314T100000
DTEND;TZID=America/Los_Angeles:20260314T133000
DTSTAMP:20260423T155600
CREATED:20250411T210113Z
LAST-MODIFIED:20260314T194736Z
UID:10001647-1773482400-1773495000@icfbayarea.com
SUMMARY:Barakah Food Distribution (Sisters)
DESCRIPTION:ICF Sisters Program to distribute grocery packages to the needy\n(E_000011)
URL:https://icfbayarea.com/event/barakah-food-distribution-sisters-35/
LOCATION:Masjid Zakariya (Gym)
END:VEVENT
BEGIN:VEVENT
DTSTART;TZID=America/Los_Angeles:20260315T173000
DTEND;TZID=America/Los_Angeles:20260315T183000
DTSTAMP:20260423T155600
CREATED:20260117T001646Z
LAST-MODIFIED:20260316T011905Z
UID:10001825-1773595800-1773599400@icfbayarea.com
SUMMARY:Dars-e-Hadith\, Mufti Muddassir Oovais Sahib
DESCRIPTION:
URL:https://icfbayarea.com/event/dars-e-hadith-mufti-muddassir-oovais-sahib-9/
LOCATION:Islamic Center of Fremont (ICF-Irvington)\, 4039 Irvington Ave\, Fremont\, CA\, United States
GEO:37.531181;-121.959565
X-APPLE-STRUCTURED-LOCATION;VALUE=URI;X-ADDRESS=Islamic Center of Fremont (ICF-Irvington) 4039 Irvington Ave Fremont CA United States;X-APPLE-RADIUS=500;X-TITLE=4039 Irvington Ave:geo:-121.959565,37.531181
END:VEVENT
BEGIN:VEVENT
DTSTART;TZID=America/Los_Angeles:20260316T193000
DTEND;TZID=America/Los_Angeles:20260316T213000
DTSTAMP:20260423T155600
CREATED:20250412T205755Z
LAST-MODIFIED:20250922T053418Z
UID:10001649-1773689400-1773696600@icfbayarea.com
SUMMARY:Badminton (For Men)
DESCRIPTION:(E_000025)
URL:https://icfbayarea.com/event/badminton-for-men-55/
LOCATION:Masjid Zakariya (Gym)
END:VEVENT
BEGIN:VEVENT
DTSTART;TZID=America/Los_Angeles:20260316T200000
DTEND;TZID=America/Los_Angeles:20260316T210000
DTSTAMP:20260423T155600
CREATED:20260117T001646Z
LAST-MODIFIED:20260317T034803Z
UID:10001826-1773691200-1773694800@icfbayarea.com
SUMMARY:Quranic Arabic Language Online Class
DESCRIPTION:Instructor – Mufti Kamran\nFor more info: Visit courses.icfbayarea.com or email to muftikamran@icfbayarea.com
URL:https://icfbayarea.com/event/quranic-arabic-language-online-class-9/
LOCATION:CA
END:VEVENT
BEGIN:VEVENT
DTSTART;TZID=America/Los_Angeles:20260316T203000
DTEND;TZID=America/Los_Angeles:20260316T220000
DTSTAMP:20260423T155600
CREATED:20250412T031316Z
LAST-MODIFIED:20260317T044727Z
UID:10001648-1773693000-1773698400@icfbayarea.com
SUMMARY:Quranic Literacy Program: Brother's Class
DESCRIPTION:Adult Quran Class for brothers taught by Imam Yahya Mulla. \nFor more information\, please see:  \nQuranic Literacy Program \n\n(E_000060)
URL:https://icfbayarea.com/event/quranic-literacy-program-brothers-class-76/
LOCATION:Islamic Center of Fremont (ICF-Irvington)\, 4039 Irvington Ave\, Fremont\, CA\, United States
GEO:37.531181;-121.959565
X-APPLE-STRUCTURED-LOCATION;VALUE=URI;X-ADDRESS=Islamic Center of Fremont (ICF-Irvington) 4039 Irvington Ave Fremont CA United States;X-APPLE-RADIUS=500;X-TITLE=4039 Irvington Ave:geo:-121.959565,37.531181
END:VEVENT
BEGIN:VEVENT
DTSTART;TZID=America/Los_Angeles:20260317T200000
DTEND;TZID=America/Los_Angeles:20260317T210000
DTSTAMP:20260423T155600
CREATED:20260117T001646Z
LAST-MODIFIED:20260318T033235Z
UID:10001827-1773777600-1773781200@icfbayarea.com
SUMMARY:Fiqh of purification & salah - Mufti Ahsan Osmani
DESCRIPTION:This program is after Isha.
URL:https://icfbayarea.com/event/fiqh-of-purification-salah-mufti-ahsan-osmani-9/
LOCATION:Islamic Center of Fremont (ICF-Irvington)\, 4039 Irvington Ave\, Fremont\, CA\, United States
GEO:37.531181;-121.959565
X-APPLE-STRUCTURED-LOCATION;VALUE=URI;X-ADDRESS=Islamic Center of Fremont (ICF-Irvington) 4039 Irvington Ave Fremont CA United States;X-APPLE-RADIUS=500;X-TITLE=4039 Irvington Ave:geo:-121.959565,37.531181
END:VEVENT
BEGIN:VEVENT
DTSTART;TZID=America/Los_Angeles:20260318T191500
DTEND;TZID=America/Los_Angeles:20260318T213000
DTSTAMP:20260423T155600
CREATED:20250415T053313Z
LAST-MODIFIED:20250922T053418Z
UID:10001650-1773861300-1773869400@icfbayarea.com
SUMMARY:Table Tennis (For Men)
DESCRIPTION:
URL:https://icfbayarea.com/event/table-tennis-for-men-30/
LOCATION:Masjid Zakariya (Gym)￼
END:VEVENT
BEGIN:VEVENT
DTSTART;TZID=America/Los_Angeles:20260318T193000
DTEND;TZID=America/Los_Angeles:20260318T213000
DTSTAMP:20260423T155600
CREATED:20250416T002933Z
LAST-MODIFIED:20250922T053418Z
UID:10001651-1773862200-1773869400@icfbayarea.com
SUMMARY:Badminton (For Men)
DESCRIPTION:(E_000025)
URL:https://icfbayarea.com/event/badminton-for-men-56/
LOCATION:Masjid Zakariya (Gym)
END:VEVENT
BEGIN:VEVENT
DTSTART;TZID=America/Los_Angeles:20260319T090000
DTEND;TZID=America/Los_Angeles:20260319T100000
DTSTAMP:20260423T155600
CREATED:20250418T205931Z
LAST-MODIFIED:20250922T053418Z
UID:10001652-1773910800-1773914400@icfbayarea.com
SUMMARY:Men's Badminton
DESCRIPTION:
URL:https://icfbayarea.com/event/mens-badminton-29/
LOCATION:Masjid Zakariya (Gym)
END:VEVENT
BEGIN:VEVENT
DTSTART;TZID=America/Los_Angeles:20260319T110000
DTEND;TZID=America/Los_Angeles:20260319T120000
DTSTAMP:20260423T155600
CREATED:20250419T032955Z
LAST-MODIFIED:20250922T053418Z
UID:10001653-1773918000-1773921600@icfbayarea.com
SUMMARY:Fitness Class for Sisters
DESCRIPTION:Get fit and stay active!\nhttps://www.simplipayapp.com/spay/?programId=3619\n(E_000003)
URL:https://icfbayarea.com/event/fitness-class-for-sisters-53/
LOCATION:Masjid Zakariya (Gym)
END:VEVENT
BEGIN:VEVENT
DTSTART;TZID=America/Los_Angeles:20260319T190000
DTEND;TZID=America/Los_Angeles:20260319T210000
DTSTAMP:20260423T155600
CREATED:20250909T035735Z
LAST-MODIFIED:20250922T053418Z
UID:10001785-1773946800-1773954000@icfbayarea.com
SUMMARY:Quran Tafseer after Maghrib
DESCRIPTION:Listen Live –  https://stream.masjidiapp.com/icfbayaans/listen-live/
URL:https://icfbayarea.com/event/quran-tafseer-after-maghrib-28/
LOCATION:ICF\, 4039 Irvington Avenue\, Fremont\, CA\, 94538\, United States
END:VEVENT
BEGIN:VEVENT
DTSTART;TZID=America/Los_Angeles:20260319T191500
DTEND;TZID=America/Los_Angeles:20260319T213000
DTSTAMP:20260423T155600
CREATED:20250422T001547Z
LAST-MODIFIED:20250922T053418Z
UID:10001655-1773947700-1773955800@icfbayarea.com
SUMMARY:Table Tennis (For Men)
DESCRIPTION:
URL:https://icfbayarea.com/event/table-tennis-for-men-31/
LOCATION:Masjid Zakariya (Gym)￼
END:VEVENT
BEGIN:VEVENT
DTSTART;TZID=America/Los_Angeles:20260319T193000
DTEND;TZID=America/Los_Angeles:20260319T203000
DTSTAMP:20260423T155600
CREATED:20250419T205939Z
LAST-MODIFIED:20260320T031726Z
UID:10001654-1773948600-1773952200@icfbayarea.com
SUMMARY:Quranic Compass: Navigating Challenges for Youth by Shaykh Shadman
DESCRIPTION:Join us for an enlightening journey as we delve into the depths of the Quran to address the pressing concerns of today’s youth.\nQuranic Compass is a weekly lecture series that invites you to explore the Islamic aspect of gender interactions\, the Quranic view on LGBTQ+ matters\, atheism\, and other contemporary issues.\nFB: http://facebook.com/MasjidZakariya\nIG: http://instagram.com/icfyouthbayarea\nYT: http://youtube.com/@islamiccenteroffremont\n(E_000059)
URL:https://icfbayarea.com/event/quranic-compass-navigating-challenges-for-youth-by-shaykh-shadman-77/
LOCATION:Masjid Zakariya\, 42412 Albrae St\, Fremont\, CA\, 94538\, United States
END:VEVENT
END:VCALENDAR