BEGIN:VCALENDAR
VERSION:2.0
PRODID:-//Islamic Center of Fremont - ECPv6.15.20//NONSGML v1.0//EN
CALSCALE:GREGORIAN
METHOD:PUBLISH
X-WR-CALNAME:Islamic Center of Fremont
X-ORIGINAL-URL:https://icfbayarea.com
X-WR-CALDESC:Events for Islamic Center of Fremont
REFRESH-INTERVAL;VALUE=DURATION:PT1H
X-Robots-Tag:noindex
X-PUBLISHED-TTL:PT1H
BEGIN:VTIMEZONE
TZID:America/Los_Angeles
BEGIN:DAYLIGHT
TZOFFSETFROM:-0800
TZOFFSETTO:-0700
TZNAME:PDT
DTSTART:20230312T100000
END:DAYLIGHT
BEGIN:STANDARD
TZOFFSETFROM:-0700
TZOFFSETTO:-0800
TZNAME:PST
DTSTART:20231105T090000
END:STANDARD
BEGIN:DAYLIGHT
TZOFFSETFROM:-0800
TZOFFSETTO:-0700
TZNAME:PDT
DTSTART:20240310T100000
END:DAYLIGHT
BEGIN:STANDARD
TZOFFSETFROM:-0700
TZOFFSETTO:-0800
TZNAME:PST
DTSTART:20241103T090000
END:STANDARD
BEGIN:DAYLIGHT
TZOFFSETFROM:-0800
TZOFFSETTO:-0700
TZNAME:PDT
DTSTART:20250309T100000
END:DAYLIGHT
BEGIN:STANDARD
TZOFFSETFROM:-0700
TZOFFSETTO:-0800
TZNAME:PST
DTSTART:20251102T090000
END:STANDARD
END:VTIMEZONE
BEGIN:VEVENT
DTSTART;TZID=America/Los_Angeles:20241101T190000
DTEND;TZID=America/Los_Angeles:20241101T230000
DTSTAMP:20260425T093520
CREATED:20241003T222032Z
LAST-MODIFIED:20241023T061115Z
UID:10000859-1730487600-1730502000@icfbayarea.com
SUMMARY:Family Night
DESCRIPTION:(E_000010)
URL:https://icfbayarea.com/event/family-night-5/
LOCATION:Masjid Zakariya\, 42412 Albrae St\, Fremont\, CA\, 94538\, United States
END:VEVENT
BEGIN:VEVENT
DTSTART;TZID=America/Los_Angeles:20241101T183000
DTEND;TZID=America/Los_Angeles:20241101T200000
DTSTAMP:20260425T093520
CREATED:20241003T222032Z
LAST-MODIFIED:20241102T025255Z
UID:10000860-1730485800-1730491200@icfbayarea.com
SUMMARY:Quranic Literacy Program: Sisters' Class
DESCRIPTION:Adult Quran Class for sisters at Masjid Zakariya.\nFor more information\, please contact: imamshadman@icfbayarea.com\n(E_000067)
URL:https://icfbayarea.com/event/quranic-literacy-program-sisters-class-5/
LOCATION:Masjid Zakariya (ICF-Albrae)\, 42472 Albrae St\, Fremont\, CA\, United States
GEO:37.514829;-121.977139
X-APPLE-STRUCTURED-LOCATION;VALUE=URI;X-ADDRESS=Masjid Zakariya (ICF-Albrae) 42472 Albrae St Fremont CA United States;X-APPLE-RADIUS=500;X-TITLE=42472 Albrae St:geo:-121.977139,37.514829
END:VEVENT
BEGIN:VEVENT
DTSTART;TZID=America/Los_Angeles:20241101T130000
DTEND;TZID=America/Los_Angeles:20241101T140000
DTSTAMP:20260425T093520
CREATED:20241003T222032Z
LAST-MODIFIED:20241101T205255Z
UID:10000858-1730466000-1730469600@icfbayarea.com
SUMMARY:Friday Bayaan at ICF
DESCRIPTION:Friday Bayaan at ICF\nhttps://stream.masjidiapp.com/icfbayaans/listen-live/\n(E_000027)
URL:https://icfbayarea.com/event/friday-bayaan-at-icf-5/
LOCATION:ICF\, 4039 Irvington Avenue\, Fremont\, CA\, 94538\, United States
END:VEVENT
BEGIN:VEVENT
DTSTART;TZID=America/Los_Angeles:20241101T090000
DTEND;TZID=America/Los_Angeles:20241101T210000
DTSTAMP:20260425T093520
CREATED:20241024T051013Z
LAST-MODIFIED:20241102T033755Z
UID:10001146-1730451600-1730494800@icfbayarea.com
SUMMARY:Election Polling Place Preparation
DESCRIPTION:
URL:https://icfbayarea.com/event/election-polling-place-preparation/
LOCATION:MZ Gym
END:VEVENT
BEGIN:VEVENT
DTSTART;TZID=America/Los_Angeles:20241101T053000
DTEND;TZID=America/Los_Angeles:20241101T063000
DTSTAMP:20260425T093520
CREATED:20240719T053520Z
LAST-MODIFIED:20241003T222017Z
UID:10000669-1730439000-1730442600@icfbayarea.com
SUMMARY:Koffee with Kahf
DESCRIPTION:Join us every Friday after Fajr at Masjid Zakariya for some coffee and pastries while we read Surah Kahf! All boys ages 14+ recommended to join. \n \n 
URL:https://icfbayarea.com/event/koffee-with-kahf/2024-11-01/
LOCATION:CA
END:VEVENT
BEGIN:VEVENT
DTSTART;TZID=America/Los_Angeles:20241031T193000
DTEND;TZID=America/Los_Angeles:20241031T203000
DTSTAMP:20260425T093520
CREATED:20241003T222032Z
LAST-MODIFIED:20241101T025621Z
UID:10000857-1730403000-1730406600@icfbayarea.com
SUMMARY:Quranic Compass: Navigating Challenges for Youth by Shaykh Shadman
DESCRIPTION:Join us for an enlightening journey as we delve into the depths of the Quran to address the pressing concerns of today’s youth.\nQuranic Compass is a weekly lecture series that invites you to explore the Islamic aspect of gender interactions\, the Quranic view on LGBTQ+ matters\, atheism\, and other contemporary issues.\nFB: http://facebook.com/MasjidZakariya\nIG: http://instagram.com/icfyouthbayarea\nYT: http://youtube.com/@islamiccenteroffremont\n(E_000059)
URL:https://icfbayarea.com/event/quranic-compass-navigating-challenges-for-youth-by-shaykh-shadman-5/
LOCATION:Masjid Zakariya\, 42412 Albrae St\, Fremont\, CA\, 94538\, United States
END:VEVENT
BEGIN:VEVENT
DTSTART;TZID=America/Los_Angeles:20241030T193000
DTEND;TZID=America/Los_Angeles:20241030T213000
DTSTAMP:20260425T093520
CREATED:20241003T222032Z
LAST-MODIFIED:20241024T205730Z
UID:10000856-1730316600-1730323800@icfbayarea.com
SUMMARY:Badminton (For Men)
DESCRIPTION:(E_000025)
URL:https://icfbayarea.com/event/badminton-for-men-8/
LOCATION:Masjid Zakariya (Gym)
END:VEVENT
BEGIN:VEVENT
DTSTART;TZID=America/Los_Angeles:20241030T183000
DTEND;TZID=America/Los_Angeles:20241030T203000
DTSTAMP:20260425T093520
CREATED:20241024T212926Z
LAST-MODIFIED:20241031T032657Z
UID:10001151-1730313000-1730320200@icfbayarea.com
SUMMARY:Meet & Greet Local Candidates
DESCRIPTION:
URL:https://icfbayarea.com/event/meet-greet-local-candidates/
LOCATION:Masjid Zakariya Gym
END:VEVENT
BEGIN:VEVENT
DTSTART;TZID=America/Los_Angeles:20241028T203000
DTEND;TZID=America/Los_Angeles:20241028T220000
DTSTAMP:20260425T093520
CREATED:20241003T222032Z
LAST-MODIFIED:20241029T045755Z
UID:10000855-1730147400-1730152800@icfbayarea.com
SUMMARY:Quranic Literacy Program: Brother's Class
DESCRIPTION:Adult Quran Class for brothers taught by Imam Yahya Mulla. \nFor more information\, please see:  \nQuranic Literacy Program \n\n(E_000060)
URL:https://icfbayarea.com/event/quranic-literacy-program-brothers-class-4/
LOCATION:Islamic Center of Fremont (ICF-Irvington)\, 4039 Irvington Ave\, Fremont\, CA\, United States
GEO:37.531181;-121.959565
X-APPLE-STRUCTURED-LOCATION;VALUE=URI;X-ADDRESS=Islamic Center of Fremont (ICF-Irvington) 4039 Irvington Ave Fremont CA United States;X-APPLE-RADIUS=500;X-TITLE=4039 Irvington Ave:geo:-121.959565,37.531181
END:VEVENT
BEGIN:VEVENT
DTSTART;TZID=America/Los_Angeles:20241028T193000
DTEND;TZID=America/Los_Angeles:20241028T213000
DTSTAMP:20260425T093520
CREATED:20241003T222032Z
LAST-MODIFIED:20241029T040917Z
UID:10000854-1730143800-1730151000@icfbayarea.com
SUMMARY:Badminton (For Men)
DESCRIPTION:(E_000025)
URL:https://icfbayarea.com/event/badminton-for-men-7/
LOCATION:Masjid Zakariya (Gym)
END:VEVENT
BEGIN:VEVENT
DTSTART;TZID=America/Los_Angeles:20241027T140000
DTEND;TZID=America/Los_Angeles:20241027T170000
DTSTAMP:20260425T093520
CREATED:20241003T222032Z
LAST-MODIFIED:20241027T233949Z
UID:10000853-1730037600-1730048400@icfbayarea.com
SUMMARY:Muslim Gamechanger Network (MGN)
DESCRIPTION:
URL:https://icfbayarea.com/event/muslim-gamechanger-network-mgn-2/
LOCATION:ILM Academy
END:VEVENT
BEGIN:VEVENT
DTSTART;TZID=America/Los_Angeles:20241026T110000
DTEND;TZID=America/Los_Angeles:20241026T120000
DTSTAMP:20260425T093520
CREATED:20241003T222032Z
LAST-MODIFIED:20241026T182637Z
UID:10000852-1729940400-1729944000@icfbayarea.com
SUMMARY:Fitness Class for Sisters
DESCRIPTION:Get fit and stay active!\nhttps://www.simplipayapp.com/spay/?programId=3619\n(E_000003)
URL:https://icfbayarea.com/event/fitness-class-for-sisters-4/
LOCATION:Masjid Zakariya (Gym)
END:VEVENT
BEGIN:VEVENT
DTSTART;TZID=America/Los_Angeles:20241026T100000
DTEND;TZID=America/Los_Angeles:20241026T130000
DTSTAMP:20260425T093520
CREATED:20241003T222032Z
LAST-MODIFIED:20241026T194111Z
UID:10000851-1729936800-1729947600@icfbayarea.com
SUMMARY:Salaam Food Pantry - Food Distribution
DESCRIPTION:Numerous people and families from near by low-income and senior housing complexes as well from far locations in the bay area look forward to this monthly event to get much needed food supplies\, warm food and community support.\nhttps://salaamfoodpantry.org/\n(E_000013)
URL:https://icfbayarea.com/event/salaam-food-pantry-food-distribution/
LOCATION:ICF (Parking Lot)
END:VEVENT
BEGIN:VEVENT
DTSTART;TZID=America/Los_Angeles:20241026T090000
DTEND;TZID=America/Los_Angeles:20241026T100000
DTSTAMP:20260425T093520
CREATED:20241003T222032Z
LAST-MODIFIED:20241026T165450Z
UID:10000850-1729933200-1729936800@icfbayarea.com
SUMMARY:Men's Badminton
DESCRIPTION:
URL:https://icfbayarea.com/event/mens-badminton-4/
LOCATION:Masjid Zakariya (Gym)
END:VEVENT
BEGIN:VEVENT
DTSTART;TZID=America/Los_Angeles:20241025T190000
DTEND;TZID=America/Los_Angeles:20241025T230000
DTSTAMP:20260425T093520
CREATED:20241003T222032Z
LAST-MODIFIED:20241026T055627Z
UID:10000849-1729882800-1729897200@icfbayarea.com
SUMMARY:Family Night
DESCRIPTION:(E_000010)
URL:https://icfbayarea.com/event/family-night-4/
LOCATION:Masjid Zakariya\, 42412 Albrae St\, Fremont\, CA\, 94538\, United States
END:VEVENT
BEGIN:VEVENT
DTSTART;TZID=America/Los_Angeles:20241025T183000
DTEND;TZID=America/Los_Angeles:20241025T200000
DTSTAMP:20260425T093520
CREATED:20241003T222032Z
LAST-MODIFIED:20241026T022321Z
UID:10000848-1729881000-1729886400@icfbayarea.com
SUMMARY:Quranic Literacy Program: Sisters' Class
DESCRIPTION:Adult Quran Class for sisters at Masjid Zakariya.\nFor more information\, please contact: imamshadman@icfbayarea.com\n(E_000067)
URL:https://icfbayarea.com/event/quranic-literacy-program-sisters-class-4/
LOCATION:Masjid Zakariya (ICF-Albrae)\, 42472 Albrae St\, Fremont\, CA\, United States
GEO:37.514829;-121.977139
X-APPLE-STRUCTURED-LOCATION;VALUE=URI;X-ADDRESS=Masjid Zakariya (ICF-Albrae) 42472 Albrae St Fremont CA United States;X-APPLE-RADIUS=500;X-TITLE=42472 Albrae St:geo:-121.977139,37.514829
END:VEVENT
BEGIN:VEVENT
DTSTART;TZID=America/Los_Angeles:20241025T130000
DTEND;TZID=America/Los_Angeles:20241025T140000
DTSTAMP:20260425T093520
CREATED:20241003T222032Z
LAST-MODIFIED:20241025T205529Z
UID:10000847-1729861200-1729864800@icfbayarea.com
SUMMARY:Friday Bayaan at ICF
DESCRIPTION:Friday Bayaan at ICF\nhttps://stream.masjidiapp.com/icfbayaans/listen-live/\n(E_000027)
URL:https://icfbayarea.com/event/friday-bayaan-at-icf-4/
LOCATION:ICF\, 4039 Irvington Avenue\, Fremont\, CA\, 94538\, United States
END:VEVENT
BEGIN:VEVENT
DTSTART;TZID=America/Los_Angeles:20241025T053000
DTEND;TZID=America/Los_Angeles:20241025T063000
DTSTAMP:20260425T093520
CREATED:20240719T053520Z
LAST-MODIFIED:20241003T222017Z
UID:10000668-1729834200-1729837800@icfbayarea.com
SUMMARY:Koffee with Kahf
DESCRIPTION:Join us every Friday after Fajr at Masjid Zakariya for some coffee and pastries while we read Surah Kahf! All boys ages 14+ recommended to join. \n \n 
URL:https://icfbayarea.com/event/koffee-with-kahf/2024-10-25/
LOCATION:CA
END:VEVENT
BEGIN:VEVENT
DTSTART;TZID=America/Los_Angeles:20241024T193000
DTEND;TZID=America/Los_Angeles:20241024T203000
DTSTAMP:20260425T093520
CREATED:20241003T222032Z
LAST-MODIFIED:20241025T031320Z
UID:10000846-1729798200-1729801800@icfbayarea.com
SUMMARY:Quranic Compass: Navigating Challenges for Youth by Shaykh Shadman
DESCRIPTION:Join us for an enlightening journey as we delve into the depths of the Quran to address the pressing concerns of today’s youth.\nQuranic Compass is a weekly lecture series that invites you to explore the Islamic aspect of gender interactions\, the Quranic view on LGBTQ+ matters\, atheism\, and other contemporary issues.\nFB: http://facebook.com/MasjidZakariya\nIG: http://instagram.com/icfyouthbayarea\nYT: http://youtube.com/@islamiccenteroffremont\n(E_000059)
URL:https://icfbayarea.com/event/quranic-compass-navigating-challenges-for-youth-by-shaykh-shadman-4/
LOCATION:Masjid Zakariya\, 42412 Albrae St\, Fremont\, CA\, 94538\, United States
END:VEVENT
BEGIN:VEVENT
DTSTART;TZID=America/Los_Angeles:20241023T193000
DTEND;TZID=America/Los_Angeles:20241023T213000
DTSTAMP:20260425T093520
CREATED:20241003T222032Z
LAST-MODIFIED:20241024T042800Z
UID:10000845-1729711800-1729719000@icfbayarea.com
SUMMARY:Badminton (For Men)
DESCRIPTION:(E_000025)
URL:https://icfbayarea.com/event/badminton-for-men-6/
LOCATION:Masjid Zakariya (Gym)
END:VEVENT
BEGIN:VEVENT
DTSTART;TZID=America/Los_Angeles:20241021T203000
DTEND;TZID=America/Los_Angeles:20241021T220000
DTSTAMP:20260425T093520
CREATED:20241003T222031Z
LAST-MODIFIED:20241022T042657Z
UID:10000844-1729542600-1729548000@icfbayarea.com
SUMMARY:Quranic Literacy Program: Brother's Class
DESCRIPTION:Adult Quran Class for brothers taught by Imam Yahya Mulla. \nFor more information\, please see:  \nQuranic Literacy Program \n\n(E_000060)
URL:https://icfbayarea.com/event/quranic-literacy-program-brothers-class-3/
LOCATION:Islamic Center of Fremont (ICF-Irvington)\, 4039 Irvington Ave\, Fremont\, CA\, United States
GEO:37.531181;-121.959565
X-APPLE-STRUCTURED-LOCATION;VALUE=URI;X-ADDRESS=Islamic Center of Fremont (ICF-Irvington) 4039 Irvington Ave Fremont CA United States;X-APPLE-RADIUS=500;X-TITLE=4039 Irvington Ave:geo:-121.959565,37.531181
END:VEVENT
BEGIN:VEVENT
DTSTART;TZID=America/Los_Angeles:20241021T193000
DTEND;TZID=America/Los_Angeles:20241021T213000
DTSTAMP:20260425T093520
CREATED:20241003T222031Z
LAST-MODIFIED:20241022T042658Z
UID:10000843-1729539000-1729546200@icfbayarea.com
SUMMARY:Badminton (For Men)
DESCRIPTION:(E_000025)
URL:https://icfbayarea.com/event/badminton-for-men-5/
LOCATION:Masjid Zakariya (Gym)
END:VEVENT
BEGIN:VEVENT
DTSTART;TZID=America/Los_Angeles:20241020T140000
DTEND;TZID=America/Los_Angeles:20241020T170000
DTSTAMP:20260425T093520
CREATED:20241003T222031Z
LAST-MODIFIED:20241020T233332Z
UID:10000842-1729432800-1729443600@icfbayarea.com
SUMMARY:Muslim Gamechanger Network (MGN)
DESCRIPTION:
URL:https://icfbayarea.com/event/muslim-gamechanger-network-mgn/
LOCATION:ILM Academy
END:VEVENT
BEGIN:VEVENT
DTSTART;TZID=America/Los_Angeles:20241019T110000
DTEND;TZID=America/Los_Angeles:20241019T120000
DTSTAMP:20260425T093520
CREATED:20241003T222031Z
LAST-MODIFIED:20241019T183329Z
UID:10000839-1729335600-1729339200@icfbayarea.com
SUMMARY:Fitness Class for Sisters
DESCRIPTION:Get fit and stay active!\nhttps://www.simplipayapp.com/spay/?programId=3619\n(E_000003)
URL:https://icfbayarea.com/event/fitness-class-for-sisters-3/
LOCATION:Masjid Zakariya (Gym)
END:VEVENT
BEGIN:VEVENT
DTSTART;TZID=America/Los_Angeles:20241019T100000
DTEND;TZID=America/Los_Angeles:20241019T133000
DTSTAMP:20260425T093520
CREATED:20241003T222031Z
LAST-MODIFIED:20241019T200643Z
UID:10000840-1729332000-1729344600@icfbayarea.com
SUMMARY:Barakah Food Distribution (Sisters)
DESCRIPTION:ICF Sisters Program to distribute grocery packages to the needy\n(E_000011)
URL:https://icfbayarea.com/event/barakah-food-distribution-sisters-2/
LOCATION:Masjid Zakariya (Gym)
END:VEVENT
BEGIN:VEVENT
DTSTART;TZID=America/Los_Angeles:20241019T090000
DTEND;TZID=America/Los_Angeles:20241019T100000
DTSTAMP:20260425T093520
CREATED:20241003T222031Z
LAST-MODIFIED:20241019T164914Z
UID:10000841-1729328400-1729332000@icfbayarea.com
SUMMARY:Men's Badminton
DESCRIPTION:
URL:https://icfbayarea.com/event/mens-badminton-3/
LOCATION:Masjid Zakariya (Gym)
END:VEVENT
BEGIN:VEVENT
DTSTART;TZID=America/Los_Angeles:20241018T190000
DTEND;TZID=America/Los_Angeles:20241018T230000
DTSTAMP:20260425T093520
CREATED:20241003T222031Z
LAST-MODIFIED:20241019T052114Z
UID:10000838-1729278000-1729292400@icfbayarea.com
SUMMARY:Family Night
DESCRIPTION:(E_000010)
URL:https://icfbayarea.com/event/family-night-3/
LOCATION:Masjid Zakariya\, 42412 Albrae St\, Fremont\, CA\, 94538\, United States
END:VEVENT
BEGIN:VEVENT
DTSTART;TZID=America/Los_Angeles:20241018T183000
DTEND;TZID=America/Los_Angeles:20241018T200000
DTSTAMP:20260425T093520
CREATED:20241003T222031Z
LAST-MODIFIED:20241019T025157Z
UID:10000837-1729276200-1729281600@icfbayarea.com
SUMMARY:Quranic Literacy Program: Sisters' Class
DESCRIPTION:Adult Quran Class for sisters at Masjid Zakariya.\nFor more information\, please contact: imamshadman@icfbayarea.com\n(E_000067)
URL:https://icfbayarea.com/event/quranic-literacy-program-sisters-class-3/
LOCATION:Masjid Zakariya (ICF-Albrae)\, 42472 Albrae St\, Fremont\, CA\, United States
GEO:37.514829;-121.977139
X-APPLE-STRUCTURED-LOCATION;VALUE=URI;X-ADDRESS=Masjid Zakariya (ICF-Albrae) 42472 Albrae St Fremont CA United States;X-APPLE-RADIUS=500;X-TITLE=42472 Albrae St:geo:-121.977139,37.514829
END:VEVENT
BEGIN:VEVENT
DTSTART;TZID=America/Los_Angeles:20241018T130000
DTEND;TZID=America/Los_Angeles:20241018T140000
DTSTAMP:20260425T093520
CREATED:20241003T222031Z
LAST-MODIFIED:20241018T204805Z
UID:10000836-1729256400-1729260000@icfbayarea.com
SUMMARY:Friday Bayaan at ICF
DESCRIPTION:Friday Bayaan at ICF\nhttps://stream.masjidiapp.com/icfbayaans/listen-live/\n(E_000027)
URL:https://icfbayarea.com/event/friday-bayaan-at-icf-3/
LOCATION:ICF\, 4039 Irvington Avenue\, Fremont\, CA\, 94538\, United States
END:VEVENT
BEGIN:VEVENT
DTSTART;TZID=America/Los_Angeles:20241018T053000
DTEND;TZID=America/Los_Angeles:20241018T063000
DTSTAMP:20260425T093520
CREATED:20240719T053520Z
LAST-MODIFIED:20241003T222017Z
UID:10000667-1729229400-1729233000@icfbayarea.com
SUMMARY:Koffee with Kahf
DESCRIPTION:Join us every Friday after Fajr at Masjid Zakariya for some coffee and pastries while we read Surah Kahf! All boys ages 14+ recommended to join. \n \n 
URL:https://icfbayarea.com/event/koffee-with-kahf/2024-10-18/
LOCATION:CA
END:VEVENT
END:VCALENDAR