BEGIN:VCALENDAR
VERSION:2.0
PRODID:-//Islamic Center of Fremont - ECPv6.15.20//NONSGML v1.0//EN
CALSCALE:GREGORIAN
METHOD:PUBLISH
X-WR-CALNAME:Islamic Center of Fremont
X-ORIGINAL-URL:https://icfbayarea.com
X-WR-CALDESC:Events for Islamic Center of Fremont
REFRESH-INTERVAL;VALUE=DURATION:PT1H
X-Robots-Tag:noindex
X-PUBLISHED-TTL:PT1H
BEGIN:VTIMEZONE
TZID:America/Los_Angeles
BEGIN:DAYLIGHT
TZOFFSETFROM:-0800
TZOFFSETTO:-0700
TZNAME:PDT
DTSTART:20230312T100000
END:DAYLIGHT
BEGIN:STANDARD
TZOFFSETFROM:-0700
TZOFFSETTO:-0800
TZNAME:PST
DTSTART:20231105T090000
END:STANDARD
BEGIN:DAYLIGHT
TZOFFSETFROM:-0800
TZOFFSETTO:-0700
TZNAME:PDT
DTSTART:20240310T100000
END:DAYLIGHT
BEGIN:STANDARD
TZOFFSETFROM:-0700
TZOFFSETTO:-0800
TZNAME:PST
DTSTART:20241103T090000
END:STANDARD
BEGIN:DAYLIGHT
TZOFFSETFROM:-0800
TZOFFSETTO:-0700
TZNAME:PDT
DTSTART:20250309T100000
END:DAYLIGHT
BEGIN:STANDARD
TZOFFSETFROM:-0700
TZOFFSETTO:-0800
TZNAME:PST
DTSTART:20251102T090000
END:STANDARD
END:VTIMEZONE
BEGIN:VEVENT
DTSTART;TZID=America/Los_Angeles:20241121T193000
DTEND;TZID=America/Los_Angeles:20241121T203000
DTSTAMP:20260425T074757
CREATED:20241003T222034Z
LAST-MODIFIED:20241122T042502Z
UID:10000888-1732217400-1732221000@icfbayarea.com
SUMMARY:Quranic Compass: Navigating Challenges for Youth by Shaykh Shadman
DESCRIPTION:Join us for an enlightening journey as we delve into the depths of the Quran to address the pressing concerns of today’s youth.\nQuranic Compass is a weekly lecture series that invites you to explore the Islamic aspect of gender interactions\, the Quranic view on LGBTQ+ matters\, atheism\, and other contemporary issues.\nFB: http://facebook.com/MasjidZakariya\nIG: http://instagram.com/icfyouthbayarea\nYT: http://youtube.com/@islamiccenteroffremont\n(E_000059)
URL:https://icfbayarea.com/event/quranic-compass-navigating-challenges-for-youth-by-shaykh-shadman-8/
LOCATION:Masjid Zakariya\, 42412 Albrae St\, Fremont\, CA\, 94538\, United States
END:VEVENT
BEGIN:VEVENT
DTSTART;TZID=America/Los_Angeles:20241121T191500
DTEND;TZID=America/Los_Angeles:20241121T213000
DTSTAMP:20260425T074757
CREATED:20241029T212450Z
LAST-MODIFIED:20241122T050900Z
UID:10001164-1732216500-1732224600@icfbayarea.com
SUMMARY:Table Tennis (For Men)
DESCRIPTION:
URL:https://icfbayarea.com/event/table-tennis-for-men-7/
LOCATION:Masjid Zakariya (Gym)￼
END:VEVENT
BEGIN:VEVENT
DTSTART;TZID=America/Los_Angeles:20241120T193000
DTEND;TZID=America/Los_Angeles:20241120T213000
DTSTAMP:20260425T074757
CREATED:20241003T222034Z
LAST-MODIFIED:20241121T052325Z
UID:10000887-1732131000-1732138200@icfbayarea.com
SUMMARY:Badminton (For Men)
DESCRIPTION:(E_000025)
URL:https://icfbayarea.com/event/badminton-for-men-14/
LOCATION:Masjid Zakariya (Gym)
END:VEVENT
BEGIN:VEVENT
DTSTART;TZID=America/Los_Angeles:20241120T191500
DTEND;TZID=America/Los_Angeles:20241120T213000
DTSTAMP:20260425T074757
CREATED:20241029T212450Z
LAST-MODIFIED:20241121T052325Z
UID:10001163-1732130100-1732138200@icfbayarea.com
SUMMARY:Table Tennis (For Men)
DESCRIPTION:
URL:https://icfbayarea.com/event/table-tennis-for-men-6/
LOCATION:Masjid Zakariya (Gym)￼
END:VEVENT
BEGIN:VEVENT
DTSTART;TZID=America/Los_Angeles:20241118T203000
DTEND;TZID=America/Los_Angeles:20241118T220000
DTSTAMP:20260425T074757
CREATED:20241003T222034Z
LAST-MODIFIED:20241119T055321Z
UID:10000885-1731961800-1731967200@icfbayarea.com
SUMMARY:Quranic Literacy Program: Brother's Class
DESCRIPTION:Adult Quran Class for brothers taught by Imam Yahya Mulla. \nFor more information\, please see:  \nQuranic Literacy Program \n\n(E_000060)
URL:https://icfbayarea.com/event/quranic-literacy-program-brothers-class-7/
LOCATION:Islamic Center of Fremont (ICF-Irvington)\, 4039 Irvington Ave\, Fremont\, CA\, United States
GEO:37.531181;-121.959565
X-APPLE-STRUCTURED-LOCATION;VALUE=URI;X-ADDRESS=Islamic Center of Fremont (ICF-Irvington) 4039 Irvington Ave Fremont CA United States;X-APPLE-RADIUS=500;X-TITLE=4039 Irvington Ave:geo:-121.959565,37.531181
END:VEVENT
BEGIN:VEVENT
DTSTART;TZID=America/Los_Angeles:20241118T193000
DTEND;TZID=America/Los_Angeles:20241118T213000
DTSTAMP:20260425T074757
CREATED:20241003T222034Z
LAST-MODIFIED:20241119T051247Z
UID:10000886-1731958200-1731965400@icfbayarea.com
SUMMARY:Badminton (For Men)
DESCRIPTION:(E_000025)
URL:https://icfbayarea.com/event/badminton-for-men-13/
LOCATION:Masjid Zakariya (Gym)
END:VEVENT
BEGIN:VEVENT
DTSTART;TZID=America/Los_Angeles:20241116T140000
DTEND;TZID=America/Los_Angeles:20241116T170000
DTSTAMP:20260425T074757
CREATED:20241027T195614Z
LAST-MODIFIED:20241117T005319Z
UID:10001155-1731765600-1731776400@icfbayarea.com
SUMMARY:Sister's Connect - Tamil Nadu Muslims Association
DESCRIPTION:
URL:https://icfbayarea.com/event/sisters-connect-tamil-nadu-muslims-association/
LOCATION:Masjid Zakariya\, 42412 Albrae St\, Fremont\, CA\, 94538\, United States
END:VEVENT
BEGIN:VEVENT
DTSTART;TZID=America/Los_Angeles:20241116T110000
DTEND;TZID=America/Los_Angeles:20241116T120000
DTSTAMP:20260425T074757
CREATED:20241003T222034Z
LAST-MODIFIED:20241116T194642Z
UID:10000884-1731754800-1731758400@icfbayarea.com
SUMMARY:Fitness Class for Sisters
DESCRIPTION:Get fit and stay active!\nhttps://www.simplipayapp.com/spay/?programId=3619\n(E_000003)
URL:https://icfbayarea.com/event/fitness-class-for-sisters-7/
LOCATION:Masjid Zakariya (Gym)
END:VEVENT
BEGIN:VEVENT
DTSTART;TZID=America/Los_Angeles:20241116T100000
DTEND;TZID=America/Los_Angeles:20241116T133000
DTSTAMP:20260425T074757
CREATED:20241003T222034Z
LAST-MODIFIED:20241116T212246Z
UID:10000883-1731751200-1731763800@icfbayarea.com
SUMMARY:Barakah Food Distribution (Sisters)
DESCRIPTION:ICF Sisters Program to distribute grocery packages to the needy\n(E_000011)
URL:https://icfbayarea.com/event/barakah-food-distribution-sisters-4/
LOCATION:Masjid Zakariya (Gym)
END:VEVENT
BEGIN:VEVENT
DTSTART;TZID=America/Los_Angeles:20241116T090000
DTEND;TZID=America/Los_Angeles:20241116T100000
DTSTAMP:20260425T074757
CREATED:20241003T222034Z
LAST-MODIFIED:20241116T173542Z
UID:10000882-1731747600-1731751200@icfbayarea.com
SUMMARY:Men's Badminton
DESCRIPTION:
URL:https://icfbayarea.com/event/mens-badminton-7/
LOCATION:Masjid Zakariya (Gym)
END:VEVENT
BEGIN:VEVENT
DTSTART;TZID=America/Los_Angeles:20241115T190000
DTEND;TZID=America/Los_Angeles:20241115T230000
DTSTAMP:20260425T074757
CREATED:20241003T222034Z
LAST-MODIFIED:20241116T063702Z
UID:10000881-1731697200-1731711600@icfbayarea.com
SUMMARY:Family Night
DESCRIPTION:(E_000010)
URL:https://icfbayarea.com/event/family-night-7/
LOCATION:Masjid Zakariya\, 42412 Albrae St\, Fremont\, CA\, 94538\, United States
END:VEVENT
BEGIN:VEVENT
DTSTART;TZID=America/Los_Angeles:20241115T183000
DTEND;TZID=America/Los_Angeles:20241115T200000
DTSTAMP:20260425T074757
CREATED:20241003T222033Z
LAST-MODIFIED:20241116T035449Z
UID:10000880-1731695400-1731700800@icfbayarea.com
SUMMARY:Quranic Literacy Program: Sisters' Class
DESCRIPTION:Adult Quran Class for sisters at Masjid Zakariya.\nFor more information\, please contact: imamshadman@icfbayarea.com\n(E_000067)
URL:https://icfbayarea.com/event/quranic-literacy-program-sisters-class-7/
LOCATION:Masjid Zakariya (ICF-Albrae)\, 42472 Albrae St\, Fremont\, CA\, United States
GEO:37.514829;-121.977139
X-APPLE-STRUCTURED-LOCATION;VALUE=URI;X-ADDRESS=Masjid Zakariya (ICF-Albrae) 42472 Albrae St Fremont CA United States;X-APPLE-RADIUS=500;X-TITLE=42472 Albrae St:geo:-121.977139,37.514829
END:VEVENT
BEGIN:VEVENT
DTSTART;TZID=America/Los_Angeles:20241115T130000
DTEND;TZID=America/Los_Angeles:20241115T140000
DTSTAMP:20260425T074757
CREATED:20241003T222033Z
LAST-MODIFIED:20241108T200843Z
UID:10000879-1731675600-1731679200@icfbayarea.com
SUMMARY:Friday Bayaan at ICF
DESCRIPTION:Friday Bayaan at ICF\nhttps://stream.masjidiapp.com/icfbayaans/listen-live/\n(E_000027)
URL:https://icfbayarea.com/event/friday-bayaan-at-icf-7/
LOCATION:ICF\, 4039 Irvington Avenue\, Fremont\, CA\, 94538\, United States
END:VEVENT
BEGIN:VEVENT
DTSTART;TZID=America/Los_Angeles:20241115T123000
DTEND;TZID=America/Los_Angeles:20241115T133000
DTSTAMP:20260425T074757
CREATED:20241108T203800Z
LAST-MODIFIED:20241115T210545Z
UID:10001212-1731673800-1731677400@icfbayarea.com
SUMMARY:Friday Bayaan at ICF
DESCRIPTION:Friday Bayaan at ICF\nhttps://stream.masjidiapp.com/icfbayaans/listen-live/\n(E_000027)
URL:https://icfbayarea.com/event/friday-bayaan-at-icf-36/
LOCATION:ICF\, 4039 Irvington Avenue\, Fremont\, CA\, 94538\, United States
END:VEVENT
BEGIN:VEVENT
DTSTART;TZID=America/Los_Angeles:20241115T053000
DTEND;TZID=America/Los_Angeles:20241115T063000
DTSTAMP:20260425T074757
CREATED:20240719T053520Z
LAST-MODIFIED:20241003T222017Z
UID:10000671-1731648600-1731652200@icfbayarea.com
SUMMARY:Koffee with Kahf
DESCRIPTION:Join us every Friday after Fajr at Masjid Zakariya for some coffee and pastries while we read Surah Kahf! All boys ages 14+ recommended to join. \n \n 
URL:https://icfbayarea.com/event/koffee-with-kahf/2024-11-15/
LOCATION:CA
END:VEVENT
BEGIN:VEVENT
DTSTART;TZID=America/Los_Angeles:20241114T193000
DTEND;TZID=America/Los_Angeles:20241114T203000
DTSTAMP:20260425T074757
CREATED:20241003T222033Z
LAST-MODIFIED:20241115T035234Z
UID:10000878-1731612600-1731616200@icfbayarea.com
SUMMARY:Quranic Compass: Navigating Challenges for Youth by Shaykh Shadman
DESCRIPTION:Join us for an enlightening journey as we delve into the depths of the Quran to address the pressing concerns of today’s youth.\nQuranic Compass is a weekly lecture series that invites you to explore the Islamic aspect of gender interactions\, the Quranic view on LGBTQ+ matters\, atheism\, and other contemporary issues.\nFB: http://facebook.com/MasjidZakariya\nIG: http://instagram.com/icfyouthbayarea\nYT: http://youtube.com/@islamiccenteroffremont\n(E_000059)
URL:https://icfbayarea.com/event/quranic-compass-navigating-challenges-for-youth-by-shaykh-shadman-7/
LOCATION:Masjid Zakariya\, 42412 Albrae St\, Fremont\, CA\, 94538\, United States
END:VEVENT
BEGIN:VEVENT
DTSTART;TZID=America/Los_Angeles:20241114T191500
DTEND;TZID=America/Los_Angeles:20241114T213000
DTSTAMP:20260425T074757
CREATED:20241029T212450Z
LAST-MODIFIED:20241115T052515Z
UID:10001162-1731611700-1731619800@icfbayarea.com
SUMMARY:Table Tennis (For Men)
DESCRIPTION:
URL:https://icfbayarea.com/event/table-tennis-for-men-5/
LOCATION:Masjid Zakariya (Gym)￼
END:VEVENT
BEGIN:VEVENT
DTSTART;TZID=America/Los_Angeles:20241113T193000
DTEND;TZID=America/Los_Angeles:20241113T213000
DTSTAMP:20260425T074757
CREATED:20241003T222033Z
LAST-MODIFIED:20241114T052600Z
UID:10000877-1731526200-1731533400@icfbayarea.com
SUMMARY:Badminton (For Men)
DESCRIPTION:(E_000025)
URL:https://icfbayarea.com/event/badminton-for-men-12/
LOCATION:Masjid Zakariya (Gym)
END:VEVENT
BEGIN:VEVENT
DTSTART;TZID=America/Los_Angeles:20241113T191500
DTEND;TZID=America/Los_Angeles:20241113T213000
DTSTAMP:20260425T074757
CREATED:20241029T212450Z
LAST-MODIFIED:20241114T052600Z
UID:10001161-1731525300-1731533400@icfbayarea.com
SUMMARY:Table Tennis (For Men)
DESCRIPTION:
URL:https://icfbayarea.com/event/table-tennis-for-men-4/
LOCATION:Masjid Zakariya (Gym)￼
END:VEVENT
BEGIN:VEVENT
DTSTART;TZID=America/Los_Angeles:20241111T203000
DTEND;TZID=America/Los_Angeles:20241111T220000
DTSTAMP:20260425T074757
CREATED:20241003T222033Z
LAST-MODIFIED:20241112T055127Z
UID:10000875-1731357000-1731362400@icfbayarea.com
SUMMARY:Quranic Literacy Program: Brother's Class
DESCRIPTION:Adult Quran Class for brothers taught by Imam Yahya Mulla. \nFor more information\, please see:  \nQuranic Literacy Program \n\n(E_000060)
URL:https://icfbayarea.com/event/quranic-literacy-program-brothers-class-6/
LOCATION:Islamic Center of Fremont (ICF-Irvington)\, 4039 Irvington Ave\, Fremont\, CA\, United States
GEO:37.531181;-121.959565
X-APPLE-STRUCTURED-LOCATION;VALUE=URI;X-ADDRESS=Islamic Center of Fremont (ICF-Irvington) 4039 Irvington Ave Fremont CA United States;X-APPLE-RADIUS=500;X-TITLE=4039 Irvington Ave:geo:-121.959565,37.531181
END:VEVENT
BEGIN:VEVENT
DTSTART;TZID=America/Los_Angeles:20241111T193000
DTEND;TZID=America/Los_Angeles:20241111T213000
DTSTAMP:20260425T074757
CREATED:20241003T222033Z
LAST-MODIFIED:20241112T050728Z
UID:10000876-1731353400-1731360600@icfbayarea.com
SUMMARY:Badminton (For Men)
DESCRIPTION:(E_000025)
URL:https://icfbayarea.com/event/badminton-for-men-11/
LOCATION:Masjid Zakariya (Gym)
END:VEVENT
BEGIN:VEVENT
DTSTART;TZID=America/Los_Angeles:20241110T140000
DTEND;TZID=America/Los_Angeles:20241110T170000
DTSTAMP:20260425T074757
CREATED:20241003T222033Z
LAST-MODIFIED:20241111T003145Z
UID:10000874-1731247200-1731258000@icfbayarea.com
SUMMARY:Muslim Gamechanger Network (MGN)
DESCRIPTION:
URL:https://icfbayarea.com/event/muslim-gamechanger-network-mgn-4/
LOCATION:ILM Academy
END:VEVENT
BEGIN:VEVENT
DTSTART;TZID=America/Los_Angeles:20241109T110000
DTEND;TZID=America/Los_Angeles:20241109T120000
DTSTAMP:20260425T074757
CREATED:20241003T222033Z
LAST-MODIFIED:20241109T194111Z
UID:10000873-1731150000-1731153600@icfbayarea.com
SUMMARY:Fitness Class for Sisters
DESCRIPTION:Get fit and stay active!\nhttps://www.simplipayapp.com/spay/?programId=3619\n(E_000003)
URL:https://icfbayarea.com/event/fitness-class-for-sisters-6/
LOCATION:Masjid Zakariya (Gym)
END:VEVENT
BEGIN:VEVENT
DTSTART;TZID=America/Los_Angeles:20241109T100000
DTEND;TZID=America/Los_Angeles:20241109T133000
DTSTAMP:20260425T074757
CREATED:20241003T222033Z
LAST-MODIFIED:20241109T205315Z
UID:10000872-1731146400-1731159000@icfbayarea.com
SUMMARY:Barakah Food Distribution (Sisters)
DESCRIPTION:ICF Sisters Program to distribute grocery packages to the needy\n(E_000011)
URL:https://icfbayarea.com/event/barakah-food-distribution-sisters-3/
LOCATION:Masjid Zakariya (Gym)
END:VEVENT
BEGIN:VEVENT
DTSTART;TZID=America/Los_Angeles:20241109T090000
DTEND;TZID=America/Los_Angeles:20241109T100000
DTSTAMP:20260425T074757
CREATED:20241003T222033Z
LAST-MODIFIED:20241109T172421Z
UID:10000871-1731142800-1731146400@icfbayarea.com
SUMMARY:Men's Badminton
DESCRIPTION:
URL:https://icfbayarea.com/event/mens-badminton-6/
LOCATION:Masjid Zakariya (Gym)
END:VEVENT
BEGIN:VEVENT
DTSTART;TZID=America/Los_Angeles:20241108T190000
DTEND;TZID=America/Los_Angeles:20241108T230000
DTSTAMP:20260425T074757
CREATED:20241003T222033Z
LAST-MODIFIED:20241109T065443Z
UID:10000869-1731092400-1731106800@icfbayarea.com
SUMMARY:Family Night
DESCRIPTION:(E_000010)
URL:https://icfbayarea.com/event/family-night-6/
LOCATION:Masjid Zakariya\, 42412 Albrae St\, Fremont\, CA\, 94538\, United States
END:VEVENT
BEGIN:VEVENT
DTSTART;TZID=America/Los_Angeles:20241108T183000
DTEND;TZID=America/Los_Angeles:20241108T200000
DTSTAMP:20260425T074757
CREATED:20241003T222033Z
LAST-MODIFIED:20241109T034240Z
UID:10000870-1731090600-1731096000@icfbayarea.com
SUMMARY:Quranic Literacy Program: Sisters' Class
DESCRIPTION:Adult Quran Class for sisters at Masjid Zakariya.\nFor more information\, please contact: imamshadman@icfbayarea.com\n(E_000067)
URL:https://icfbayarea.com/event/quranic-literacy-program-sisters-class-6/
LOCATION:Masjid Zakariya (ICF-Albrae)\, 42472 Albrae St\, Fremont\, CA\, United States
GEO:37.514829;-121.977139
X-APPLE-STRUCTURED-LOCATION;VALUE=URI;X-ADDRESS=Masjid Zakariya (ICF-Albrae) 42472 Albrae St Fremont CA United States;X-APPLE-RADIUS=500;X-TITLE=42472 Albrae St:geo:-121.977139,37.514829
END:VEVENT
BEGIN:VEVENT
DTSTART;TZID=America/Los_Angeles:20241108T130000
DTEND;TZID=America/Los_Angeles:20241108T140000
DTSTAMP:20260425T074757
CREATED:20241003T222033Z
LAST-MODIFIED:20241108T200842Z
UID:10000868-1731070800-1731074400@icfbayarea.com
SUMMARY:Friday Bayaan at ICF
DESCRIPTION:Friday Bayaan at ICF\nhttps://stream.masjidiapp.com/icfbayaans/listen-live/\n(E_000027)
URL:https://icfbayarea.com/event/friday-bayaan-at-icf-6/
LOCATION:ICF\, 4039 Irvington Avenue\, Fremont\, CA\, 94538\, United States
END:VEVENT
BEGIN:VEVENT
DTSTART;TZID=America/Los_Angeles:20241108T123000
DTEND;TZID=America/Los_Angeles:20241108T133000
DTSTAMP:20260425T074757
CREATED:20241108T203758Z
LAST-MODIFIED:20241108T210802Z
UID:10001211-1731069000-1731072600@icfbayarea.com
SUMMARY:Friday Bayaan at ICF
DESCRIPTION:Friday Bayaan at ICF\nhttps://stream.masjidiapp.com/icfbayaans/listen-live/\n(E_000027)
URL:https://icfbayarea.com/event/friday-bayaan-at-icf-35/
LOCATION:ICF\, 4039 Irvington Avenue\, Fremont\, CA\, 94538\, United States
END:VEVENT
BEGIN:VEVENT
DTSTART;TZID=America/Los_Angeles:20241108T053000
DTEND;TZID=America/Los_Angeles:20241108T063000
DTSTAMP:20260425T074757
CREATED:20240719T053520Z
LAST-MODIFIED:20241003T222017Z
UID:10000670-1731043800-1731047400@icfbayarea.com
SUMMARY:Koffee with Kahf
DESCRIPTION:Join us every Friday after Fajr at Masjid Zakariya for some coffee and pastries while we read Surah Kahf! All boys ages 14+ recommended to join. \n \n 
URL:https://icfbayarea.com/event/koffee-with-kahf/2024-11-08/
LOCATION:CA
END:VEVENT
END:VCALENDAR