BEGIN:VCALENDAR
VERSION:2.0
PRODID:-//Islamic Center of Fremont - ECPv6.15.20//NONSGML v1.0//EN
CALSCALE:GREGORIAN
METHOD:PUBLISH
X-WR-CALNAME:Islamic Center of Fremont
X-ORIGINAL-URL:https://icfbayarea.com
X-WR-CALDESC:Events for Islamic Center of Fremont
REFRESH-INTERVAL;VALUE=DURATION:PT1H
X-Robots-Tag:noindex
X-PUBLISHED-TTL:PT1H
BEGIN:VTIMEZONE
TZID:America/Los_Angeles
BEGIN:DAYLIGHT
TZOFFSETFROM:-0800
TZOFFSETTO:-0700
TZNAME:PDT
DTSTART:20240310T100000
END:DAYLIGHT
BEGIN:STANDARD
TZOFFSETFROM:-0700
TZOFFSETTO:-0800
TZNAME:PST
DTSTART:20241103T090000
END:STANDARD
BEGIN:DAYLIGHT
TZOFFSETFROM:-0800
TZOFFSETTO:-0700
TZNAME:PDT
DTSTART:20250309T100000
END:DAYLIGHT
BEGIN:STANDARD
TZOFFSETFROM:-0700
TZOFFSETTO:-0800
TZNAME:PST
DTSTART:20251102T090000
END:STANDARD
BEGIN:DAYLIGHT
TZOFFSETFROM:-0800
TZOFFSETTO:-0700
TZNAME:PDT
DTSTART:20260308T100000
END:DAYLIGHT
BEGIN:STANDARD
TZOFFSETFROM:-0700
TZOFFSETTO:-0800
TZNAME:PST
DTSTART:20261101T090000
END:STANDARD
END:VTIMEZONE
BEGIN:VEVENT
DTSTART;TZID=America/Los_Angeles:20250502T183000
DTEND;TZID=America/Los_Angeles:20250502T200000
DTSTAMP:20260425T032243
CREATED:20241003T222049Z
LAST-MODIFIED:20250430T065152Z
UID:10001114-1746210600-1746216000@icfbayarea.com
SUMMARY:Quranic Literacy Program: Sisters' Class
DESCRIPTION:Adult Quran Class for sisters at Masjid Zakariya.\nFor more information\, please contact: imamshadman@icfbayarea.com\n(E_000067)
URL:https://icfbayarea.com/event/quranic-literacy-program-sisters-class-31/
LOCATION:Masjid Zakariya (ICF-Albrae)\, 42472 Albrae St\, Fremont\, CA\, United States
GEO:37.514829;-121.977139
X-APPLE-STRUCTURED-LOCATION;VALUE=URI;X-ADDRESS=Masjid Zakariya (ICF-Albrae) 42472 Albrae St Fremont CA United States;X-APPLE-RADIUS=500;X-TITLE=42472 Albrae St:geo:-121.977139,37.514829
END:VEVENT
BEGIN:VEVENT
DTSTART;TZID=America/Los_Angeles:20250502T190000
DTEND;TZID=America/Los_Angeles:20250502T230000
DTSTAMP:20260425T032243
CREATED:20241003T222049Z
LAST-MODIFIED:20250123T011726Z
UID:10001113-1746212400-1746226800@icfbayarea.com
SUMMARY:Family Night
DESCRIPTION:(E_000010)
URL:https://icfbayarea.com/event/family-night-31/
LOCATION:Masjid Zakariya\, 42412 Albrae St\, Fremont\, CA\, 94538\, United States
END:VEVENT
BEGIN:VEVENT
DTSTART;TZID=America/Los_Angeles:20250503T110000
DTEND;TZID=America/Los_Angeles:20250503T120000
DTSTAMP:20260425T032243
CREATED:20241004T033552Z
LAST-MODIFIED:20250118T160546Z
UID:10001116-1746270000-1746273600@icfbayarea.com
SUMMARY:Fitness Class for Sisters
DESCRIPTION:Get fit and stay active!\nhttps://www.simplipayapp.com/spay/?programId=3619\n(E_000003)
URL:https://icfbayarea.com/event/fitness-class-for-sisters-31/
LOCATION:Masjid Zakariya (Gym)
END:VEVENT
BEGIN:VEVENT
DTSTART;TZID=America/Los_Angeles:20250505T203000
DTEND;TZID=America/Los_Angeles:20250505T220000
DTSTAMP:20260425T032243
CREATED:20241004T213428Z
LAST-MODIFIED:20250430T065152Z
UID:10001117-1746477000-1746482400@icfbayarea.com
SUMMARY:Quranic Literacy Program: Brother's Class
DESCRIPTION:Adult Quran Class for brothers taught by Imam Yahya Mulla. \nFor more information\, please see:  \nQuranic Literacy Program \n\n(E_000060)
URL:https://icfbayarea.com/event/quranic-literacy-program-brothers-class-31/
LOCATION:Islamic Center of Fremont (ICF-Irvington)\, 4039 Irvington Ave\, Fremont\, CA\, United States
GEO:37.531181;-121.959565
X-APPLE-STRUCTURED-LOCATION;VALUE=URI;X-ADDRESS=Islamic Center of Fremont (ICF-Irvington) 4039 Irvington Ave Fremont CA United States;X-APPLE-RADIUS=500;X-TITLE=4039 Irvington Ave:geo:-121.959565,37.531181
END:VEVENT
BEGIN:VEVENT
DTSTART;TZID=America/Los_Angeles:20250508T193000
DTEND;TZID=America/Los_Angeles:20250508T203000
DTSTAMP:20260425T032243
CREATED:20241005T170357Z
LAST-MODIFIED:20250509T030956Z
UID:10001120-1746732600-1746736200@icfbayarea.com
SUMMARY:Quranic Compass: Navigating Challenges for Youth by Shaykh Shadman
DESCRIPTION:Join us for an enlightening journey as we delve into the depths of the Quran to address the pressing concerns of today’s youth.\nQuranic Compass is a weekly lecture series that invites you to explore the Islamic aspect of gender interactions\, the Quranic view on LGBTQ+ matters\, atheism\, and other contemporary issues.\nFB: http://facebook.com/MasjidZakariya\nIG: http://instagram.com/icfyouthbayarea\nYT: http://youtube.com/@islamiccenteroffremont\n(E_000059)
URL:https://icfbayarea.com/event/quranic-compass-navigating-challenges-for-youth-by-shaykh-shadman-32/
LOCATION:Masjid Zakariya\, 42412 Albrae St\, Fremont\, CA\, 94538\, United States
END:VEVENT
BEGIN:VEVENT
DTSTART;TZID=America/Los_Angeles:20250509T123000
DTEND;TZID=America/Los_Angeles:20250509T133000
DTSTAMP:20260425T032243
CREATED:20241111T010236Z
LAST-MODIFIED:20250509T202550Z
UID:10001239-1746793800-1746797400@icfbayarea.com
SUMMARY:Friday Bayaan at ICF
DESCRIPTION:Friday Bayaan at ICF\nhttps://stream.masjidiapp.com/icfbayaans/listen-live/\n(E_000027)
URL:https://icfbayarea.com/event/friday-bayaan-at-icf-61/
LOCATION:ICF\, 4039 Irvington Avenue\, Fremont\, CA\, 94538\, United States
END:VEVENT
BEGIN:VEVENT
DTSTART;TZID=America/Los_Angeles:20250509T183000
DTEND;TZID=America/Los_Angeles:20250509T200000
DTSTAMP:20260425T032243
CREATED:20241008T043333Z
LAST-MODIFIED:20250510T024016Z
UID:10001122-1746815400-1746820800@icfbayarea.com
SUMMARY:Quranic Literacy Program: Sisters' Class
DESCRIPTION:Adult Quran Class for sisters at Masjid Zakariya.\nFor more information\, please contact: imamshadman@icfbayarea.com\n(E_000067)
URL:https://icfbayarea.com/event/quranic-literacy-program-sisters-class-32/
LOCATION:Masjid Zakariya (ICF-Albrae)\, 42472 Albrae St\, Fremont\, CA\, United States
GEO:37.514829;-121.977139
X-APPLE-STRUCTURED-LOCATION;VALUE=URI;X-ADDRESS=Masjid Zakariya (ICF-Albrae) 42472 Albrae St Fremont CA United States;X-APPLE-RADIUS=500;X-TITLE=42472 Albrae St:geo:-121.977139,37.514829
END:VEVENT
BEGIN:VEVENT
DTSTART;TZID=America/Los_Angeles:20250509T190000
DTEND;TZID=America/Los_Angeles:20250509T230000
DTSTAMP:20260425T032243
CREATED:20241008T050245Z
LAST-MODIFIED:20250123T011726Z
UID:10001123-1746817200-1746831600@icfbayarea.com
SUMMARY:Family Night
DESCRIPTION:(E_000010)
URL:https://icfbayarea.com/event/family-night-32/
LOCATION:Masjid Zakariya\, 42412 Albrae St\, Fremont\, CA\, 94538\, United States
END:VEVENT
BEGIN:VEVENT
DTSTART;TZID=America/Los_Angeles:20250510T100000
DTEND;TZID=America/Los_Angeles:20250510T133000
DTSTAMP:20260425T032243
CREATED:20241011T210721Z
LAST-MODIFIED:20250510T201126Z
UID:10001126-1746871200-1746883800@icfbayarea.com
SUMMARY:Barakah Food Distribution (Sisters)
DESCRIPTION:ICF Sisters Program to distribute grocery packages to the needy\n(E_000011)
URL:https://icfbayarea.com/event/barakah-food-distribution-sisters-15/
LOCATION:Masjid Zakariya (Gym)
END:VEVENT
BEGIN:VEVENT
DTSTART;TZID=America/Los_Angeles:20250510T110000
DTEND;TZID=America/Los_Angeles:20250510T120000
DTSTAMP:20260425T032243
CREATED:20241010T043257Z
LAST-MODIFIED:20250118T160547Z
UID:10001124-1746874800-1746878400@icfbayarea.com
SUMMARY:Fitness Class for Sisters
DESCRIPTION:Get fit and stay active!\nhttps://www.simplipayapp.com/spay/?programId=3619\n(E_000003)
URL:https://icfbayarea.com/event/fitness-class-for-sisters-32/
LOCATION:Masjid Zakariya (Gym)
END:VEVENT
BEGIN:VEVENT
DTSTART;TZID=America/Los_Angeles:20250510T140000
DTEND;TZID=America/Los_Angeles:20250510T180000
DTSTAMP:20260425T032243
CREATED:20250507T065548Z
LAST-MODIFIED:20250511T005639Z
UID:10001662-1746885600-1746900000@icfbayarea.com
SUMMARY:Intentful Career Accelerator with coach Maqbul Khan @ ILM
DESCRIPTION:
URL:https://icfbayarea.com/event/intentful-career-accelerator-with-coach-maqbul-khan-ilm/
LOCATION:CA
END:VEVENT
BEGIN:VEVENT
DTSTART;TZID=America/Los_Angeles:20250510T160000
DTEND;TZID=America/Los_Angeles:20250510T200000
DTSTAMP:20260425T032243
CREATED:20250429T030832Z
LAST-MODIFIED:20250511T022513Z
UID:10001660-1746892800-1746907200@icfbayarea.com
SUMMARY:ICF Kids Basketball Tournament
DESCRIPTION:ICF Kids Basketball Tournament
URL:https://icfbayarea.com/event/icf-kids-basketball-tournament/
LOCATION:Islamic Center of Fremont (ICF-Irvington)\, 4039 Irvington Ave\, Fremont\, CA\, United States
GEO:37.531181;-121.959565
X-APPLE-STRUCTURED-LOCATION;VALUE=URI;X-ADDRESS=Islamic Center of Fremont (ICF-Irvington) 4039 Irvington Ave Fremont CA United States;X-APPLE-RADIUS=500;X-TITLE=4039 Irvington Ave:geo:-121.959565,37.531181
END:VEVENT
BEGIN:VEVENT
DTSTART;TZID=America/Los_Angeles:20250511T140000
DTEND;TZID=America/Los_Angeles:20250511T180000
DTSTAMP:20260425T032243
CREATED:20250507T065548Z
LAST-MODIFIED:20250512T002812Z
UID:10001663-1746972000-1746986400@icfbayarea.com
SUMMARY:Intentful Career Accelerator with coach Maqbul Khan @ ILM
DESCRIPTION:
URL:https://icfbayarea.com/event/intentful-career-accelerator-with-coach-maqbul-khan-ilm-2/
LOCATION:CA
END:VEVENT
BEGIN:VEVENT
DTSTART;TZID=America/Los_Angeles:20250511T160000
DTEND;TZID=America/Los_Angeles:20250511T200000
DTSTAMP:20260425T032243
CREATED:20250429T030832Z
LAST-MODIFIED:20250512T024018Z
UID:10001661-1746979200-1746993600@icfbayarea.com
SUMMARY:ICF Kids Basketball Tournament
DESCRIPTION:ICF kids Basketball Tiurnament
URL:https://icfbayarea.com/event/icf-kids-basketball-tournament-2/
LOCATION:Islamic Center of Fremont (ICF-Irvington)\, 4039 Irvington Ave\, Fremont\, CA\, United States
GEO:37.531181;-121.959565
X-APPLE-STRUCTURED-LOCATION;VALUE=URI;X-ADDRESS=Islamic Center of Fremont (ICF-Irvington) 4039 Irvington Ave Fremont CA United States;X-APPLE-RADIUS=500;X-TITLE=4039 Irvington Ave:geo:-121.959565,37.531181
END:VEVENT
BEGIN:VEVENT
DTSTART;TZID=America/Los_Angeles:20250512T203000
DTEND;TZID=America/Los_Angeles:20250512T220000
DTSTAMP:20260425T032243
CREATED:20241012T030742Z
LAST-MODIFIED:20250513T044516Z
UID:10001127-1747081800-1747087200@icfbayarea.com
SUMMARY:Quranic Literacy Program: Brother's Class
DESCRIPTION:Adult Quran Class for brothers taught by Imam Yahya Mulla. \nFor more information\, please see:  \nQuranic Literacy Program \n\n(E_000060)
URL:https://icfbayarea.com/event/quranic-literacy-program-brothers-class-32/
LOCATION:Islamic Center of Fremont (ICF-Irvington)\, 4039 Irvington Ave\, Fremont\, CA\, United States
GEO:37.531181;-121.959565
X-APPLE-STRUCTURED-LOCATION;VALUE=URI;X-ADDRESS=Islamic Center of Fremont (ICF-Irvington) 4039 Irvington Ave Fremont CA United States;X-APPLE-RADIUS=500;X-TITLE=4039 Irvington Ave:geo:-121.959565,37.531181
END:VEVENT
BEGIN:VEVENT
DTSTART;TZID=America/Los_Angeles:20250513T180000
DTEND;TZID=America/Los_Angeles:20250513T200000
DTSTAMP:20260425T032243
CREATED:20250507T065548Z
LAST-MODIFIED:20250514T025932Z
UID:10001664-1747159200-1747166400@icfbayarea.com
SUMMARY:Intentful Career Accelerator with coach Maqbul Khan @ ILM
DESCRIPTION:
URL:https://icfbayarea.com/event/intentful-career-accelerator-with-coach-maqbul-khan-ilm-3/
LOCATION:CA
END:VEVENT
BEGIN:VEVENT
DTSTART;TZID=America/Los_Angeles:20250515T180000
DTEND;TZID=America/Los_Angeles:20250515T200000
DTSTAMP:20260425T032243
CREATED:20250507T065548Z
LAST-MODIFIED:20250516T023111Z
UID:10001665-1747332000-1747339200@icfbayarea.com
SUMMARY:Intentful Career Accelerator with coach Maqbul Khan @ ILM
DESCRIPTION:Join with Google Meet: https://meet.google.com/cwh-ebis-fnm\nOr dial: (US) +1 518-663-2565 PIN: 659723790#\nMore phone numbers: https://tel.meet/cwh-ebis-fnm?pin=4103909530661&hs=7\nLearn more about Meet at: https://support.google.com/a/users/answer/9282720
URL:https://icfbayarea.com/event/intentful-career-accelerator-with-coach-maqbul-khan-ilm-4/
LOCATION:CA
END:VEVENT
BEGIN:VEVENT
DTSTART;TZID=America/Los_Angeles:20250515T193000
DTEND;TZID=America/Los_Angeles:20250515T203000
DTSTAMP:20260425T032243
CREATED:20241012T192107Z
LAST-MODIFIED:20250516T031437Z
UID:10001130-1747337400-1747341000@icfbayarea.com
SUMMARY:Quranic Compass: Navigating Challenges for Youth by Shaykh Shadman
DESCRIPTION:Join us for an enlightening journey as we delve into the depths of the Quran to address the pressing concerns of today’s youth.\nQuranic Compass is a weekly lecture series that invites you to explore the Islamic aspect of gender interactions\, the Quranic view on LGBTQ+ matters\, atheism\, and other contemporary issues.\nFB: http://facebook.com/MasjidZakariya\nIG: http://instagram.com/icfyouthbayarea\nYT: http://youtube.com/@islamiccenteroffremont\n(E_000059)
URL:https://icfbayarea.com/event/quranic-compass-navigating-challenges-for-youth-by-shaykh-shadman-33/
LOCATION:Masjid Zakariya\, 42412 Albrae St\, Fremont\, CA\, 94538\, United States
END:VEVENT
BEGIN:VEVENT
DTSTART;TZID=America/Los_Angeles:20250516T123000
DTEND;TZID=America/Los_Angeles:20250516T133000
DTSTAMP:20260425T032243
CREATED:20241117T012337Z
LAST-MODIFIED:20250516T201440Z
UID:10001243-1747398600-1747402200@icfbayarea.com
SUMMARY:Friday Bayaan at ICF
DESCRIPTION:Friday Bayaan at ICF\nhttps://stream.masjidiapp.com/icfbayaans/listen-live/\n(E_000027)
URL:https://icfbayarea.com/event/friday-bayaan-at-icf-62/
LOCATION:ICF\, 4039 Irvington Avenue\, Fremont\, CA\, 94538\, United States
END:VEVENT
BEGIN:VEVENT
DTSTART;TZID=America/Los_Angeles:20250516T183000
DTEND;TZID=America/Los_Angeles:20250516T200000
DTSTAMP:20260425T032243
CREATED:20241015T053704Z
LAST-MODIFIED:20250517T024408Z
UID:10001133-1747420200-1747425600@icfbayarea.com
SUMMARY:Quranic Literacy Program: Sisters' Class
DESCRIPTION:Adult Quran Class for sisters at Masjid Zakariya.\nFor more information\, please contact: imamshadman@icfbayarea.com\n(E_000067)
URL:https://icfbayarea.com/event/quranic-literacy-program-sisters-class-33/
LOCATION:Masjid Zakariya (ICF-Albrae)\, 42472 Albrae St\, Fremont\, CA\, United States
GEO:37.514829;-121.977139
X-APPLE-STRUCTURED-LOCATION;VALUE=URI;X-ADDRESS=Masjid Zakariya (ICF-Albrae) 42472 Albrae St Fremont CA United States;X-APPLE-RADIUS=500;X-TITLE=42472 Albrae St:geo:-121.977139,37.514829
END:VEVENT
BEGIN:VEVENT
DTSTART;TZID=America/Los_Angeles:20250516T190000
DTEND;TZID=America/Los_Angeles:20250516T230000
DTSTAMP:20260425T032243
CREATED:20241015T045514Z
LAST-MODIFIED:20250123T011727Z
UID:10001132-1747422000-1747436400@icfbayarea.com
SUMMARY:Family Night
DESCRIPTION:(E_000010)
URL:https://icfbayarea.com/event/family-night-33/
LOCATION:Masjid Zakariya\, 42412 Albrae St\, Fremont\, CA\, 94538\, United States
END:VEVENT
BEGIN:VEVENT
DTSTART;TZID=America/Los_Angeles:20250517T100000
DTEND;TZID=America/Los_Angeles:20250517T133000
DTSTAMP:20260425T032243
CREATED:20241018T034957Z
LAST-MODIFIED:20250517T201439Z
UID:10001136-1747476000-1747488600@icfbayarea.com
SUMMARY:Barakah Food Distribution (Sisters)
DESCRIPTION:ICF Sisters Program to distribute grocery packages to the needy\n(E_000011)
URL:https://icfbayarea.com/event/barakah-food-distribution-sisters-16/
LOCATION:Masjid Zakariya (Gym)
END:VEVENT
BEGIN:VEVENT
DTSTART;TZID=America/Los_Angeles:20250517T110000
DTEND;TZID=America/Los_Angeles:20250517T120000
DTSTAMP:20260425T032243
CREATED:20241018T034957Z
LAST-MODIFIED:20250118T160547Z
UID:10001135-1747479600-1747483200@icfbayarea.com
SUMMARY:Fitness Class for Sisters
DESCRIPTION:Get fit and stay active!\nhttps://www.simplipayapp.com/spay/?programId=3619\n(E_000003)
URL:https://icfbayarea.com/event/fitness-class-for-sisters-33/
LOCATION:Masjid Zakariya (Gym)
END:VEVENT
BEGIN:VEVENT
DTSTART;TZID=America/Los_Angeles:20250519T203000
DTEND;TZID=America/Los_Angeles:20250519T220000
DTSTAMP:20260425T032243
CREATED:20241019T063229Z
LAST-MODIFIED:20250519T061510Z
UID:10001138-1747686600-1747692000@icfbayarea.com
SUMMARY:Quranic Literacy Program: Brother's Class
DESCRIPTION:Adult Quran Class for brothers taught by Imam Yahya Mulla. \nFor more information\, please see:  \nQuranic Literacy Program \n\n(E_000060)
URL:https://icfbayarea.com/event/quranic-literacy-program-brothers-class-33/
LOCATION:Islamic Center of Fremont (ICF-Irvington)\, 4039 Irvington Ave\, Fremont\, CA\, United States
GEO:37.531181;-121.959565
X-APPLE-STRUCTURED-LOCATION;VALUE=URI;X-ADDRESS=Islamic Center of Fremont (ICF-Irvington) 4039 Irvington Ave Fremont CA United States;X-APPLE-RADIUS=500;X-TITLE=4039 Irvington Ave:geo:-121.959565,37.531181
END:VEVENT
BEGIN:VEVENT
DTSTART;TZID=America/Los_Angeles:20250520T180000
DTEND;TZID=America/Los_Angeles:20250520T200000
DTSTAMP:20260425T032243
CREATED:20250507T065548Z
LAST-MODIFIED:20250519T061510Z
UID:10001666-1747764000-1747771200@icfbayarea.com
SUMMARY:Intentful Career Accelerator with coach Maqbul Khan @ ILM
DESCRIPTION:
URL:https://icfbayarea.com/event/intentful-career-accelerator-with-coach-maqbul-khan-ilm-5/
LOCATION:CA
END:VEVENT
BEGIN:VEVENT
DTSTART;TZID=America/Los_Angeles:20250522T180000
DTEND;TZID=America/Los_Angeles:20250522T200000
DTSTAMP:20260425T032243
CREATED:20250507T065549Z
LAST-MODIFIED:20250519T061510Z
UID:10001667-1747936800-1747944000@icfbayarea.com
SUMMARY:Intentful Career Accelerator with coach Maqbul Khan @ ILM
DESCRIPTION:
URL:https://icfbayarea.com/event/intentful-career-accelerator-with-coach-maqbul-khan-ilm-6/
LOCATION:CA
END:VEVENT
BEGIN:VEVENT
DTSTART;TZID=America/Los_Angeles:20250522T193000
DTEND;TZID=America/Los_Angeles:20250522T203000
DTSTAMP:20260425T032243
CREATED:20241019T190518Z
LAST-MODIFIED:20250519T061510Z
UID:10001140-1747942200-1747945800@icfbayarea.com
SUMMARY:Quranic Compass: Navigating Challenges for Youth by Shaykh Shadman
DESCRIPTION:Join us for an enlightening journey as we delve into the depths of the Quran to address the pressing concerns of today’s youth.\nQuranic Compass is a weekly lecture series that invites you to explore the Islamic aspect of gender interactions\, the Quranic view on LGBTQ+ matters\, atheism\, and other contemporary issues.\nFB: http://facebook.com/MasjidZakariya\nIG: http://instagram.com/icfyouthbayarea\nYT: http://youtube.com/@islamiccenteroffremont\n(E_000059)
URL:https://icfbayarea.com/event/quranic-compass-navigating-challenges-for-youth-by-shaykh-shadman-34/
LOCATION:Masjid Zakariya\, 42412 Albrae St\, Fremont\, CA\, 94538\, United States
END:VEVENT
BEGIN:VEVENT
DTSTART;TZID=America/Los_Angeles:20250523T123000
DTEND;TZID=America/Los_Angeles:20250523T133000
DTSTAMP:20260425T032243
CREATED:20241123T212200Z
LAST-MODIFIED:20250519T061510Z
UID:10001246-1748003400-1748007000@icfbayarea.com
SUMMARY:Friday Bayaan at ICF
DESCRIPTION:Friday Bayaan at ICF\nhttps://stream.masjidiapp.com/icfbayaans/listen-live/\n(E_000027)
URL:https://icfbayarea.com/event/friday-bayaan-at-icf-63/
LOCATION:ICF\, 4039 Irvington Avenue\, Fremont\, CA\, 94538\, United States
END:VEVENT
BEGIN:VEVENT
DTSTART;TZID=America/Los_Angeles:20250523T183000
DTEND;TZID=America/Los_Angeles:20250523T200000
DTSTAMP:20260425T032243
CREATED:20241021T000932Z
LAST-MODIFIED:20250519T061510Z
UID:10001142-1748025000-1748030400@icfbayarea.com
SUMMARY:Quranic Literacy Program: Sisters' Class
DESCRIPTION:Adult Quran Class for sisters at Masjid Zakariya.\nFor more information\, please contact: imamshadman@icfbayarea.com\n(E_000067)
URL:https://icfbayarea.com/event/quranic-literacy-program-sisters-class-34/
LOCATION:Masjid Zakariya (ICF-Albrae)\, 42472 Albrae St\, Fremont\, CA\, United States
GEO:37.514829;-121.977139
X-APPLE-STRUCTURED-LOCATION;VALUE=URI;X-ADDRESS=Masjid Zakariya (ICF-Albrae) 42472 Albrae St Fremont CA United States;X-APPLE-RADIUS=500;X-TITLE=42472 Albrae St:geo:-121.977139,37.514829
END:VEVENT
BEGIN:VEVENT
DTSTART;TZID=America/Los_Angeles:20250523T190000
DTEND;TZID=America/Los_Angeles:20250523T230000
DTSTAMP:20260425T032243
CREATED:20241022T002851Z
LAST-MODIFIED:20250123T011727Z
UID:10001143-1748026800-1748041200@icfbayarea.com
SUMMARY:Family Night
DESCRIPTION:(E_000010)
URL:https://icfbayarea.com/event/family-night-34/
LOCATION:Masjid Zakariya\, 42412 Albrae St\, Fremont\, CA\, 94538\, United States
END:VEVENT
END:VCALENDAR