BEGIN:VCALENDAR
VERSION:2.0
PRODID:-//Islamic Center of Fremont - ECPv6.15.20//NONSGML v1.0//EN
CALSCALE:GREGORIAN
METHOD:PUBLISH
X-WR-CALNAME:Islamic Center of Fremont
X-ORIGINAL-URL:https://icfbayarea.com
X-WR-CALDESC:Events for Islamic Center of Fremont
REFRESH-INTERVAL;VALUE=DURATION:PT1H
X-Robots-Tag:noindex
X-PUBLISHED-TTL:PT1H
BEGIN:VTIMEZONE
TZID:America/Los_Angeles
BEGIN:DAYLIGHT
TZOFFSETFROM:-0800
TZOFFSETTO:-0700
TZNAME:PDT
DTSTART:20230312T100000
END:DAYLIGHT
BEGIN:STANDARD
TZOFFSETFROM:-0700
TZOFFSETTO:-0800
TZNAME:PST
DTSTART:20231105T090000
END:STANDARD
BEGIN:DAYLIGHT
TZOFFSETFROM:-0800
TZOFFSETTO:-0700
TZNAME:PDT
DTSTART:20240310T100000
END:DAYLIGHT
BEGIN:STANDARD
TZOFFSETFROM:-0700
TZOFFSETTO:-0800
TZNAME:PST
DTSTART:20241103T090000
END:STANDARD
BEGIN:DAYLIGHT
TZOFFSETFROM:-0800
TZOFFSETTO:-0700
TZNAME:PDT
DTSTART:20250309T100000
END:DAYLIGHT
BEGIN:STANDARD
TZOFFSETFROM:-0700
TZOFFSETTO:-0800
TZNAME:PST
DTSTART:20251102T090000
END:STANDARD
END:VTIMEZONE
BEGIN:VEVENT
DTSTART;TZID=America/Los_Angeles:20241004T190000
DTEND;TZID=America/Los_Angeles:20241004T230000
DTSTAMP:20260425T091328
CREATED:20241003T222027Z
LAST-MODIFIED:20241005T053350Z
UID:10000818-1728068400-1728082800@icfbayarea.com
SUMMARY:Family Night
DESCRIPTION:(E_000010)
URL:https://icfbayarea.com/event/family-night/
LOCATION:Masjid Zakariya\, 42412 Albrae St\, Fremont\, CA\, 94538\, United States
END:VEVENT
BEGIN:VEVENT
DTSTART;TZID=America/Los_Angeles:20241004T183000
DTEND;TZID=America/Los_Angeles:20241004T200000
DTSTAMP:20260425T091328
CREATED:20241003T222027Z
LAST-MODIFIED:20241005T024942Z
UID:10000819-1728066600-1728072000@icfbayarea.com
SUMMARY:Quranic Literacy Program: Sisters' Class
DESCRIPTION:Adult Quran Class for sisters at Masjid Zakariya.\nFor more information\, please contact: imamshadman@icfbayarea.com\n(E_000067)
URL:https://icfbayarea.com/event/quranic-literacy-program-sisters-class/
LOCATION:Masjid Zakariya (ICF-Albrae)\, 42472 Albrae St\, Fremont\, CA\, United States
GEO:37.514829;-121.977139
X-APPLE-STRUCTURED-LOCATION;VALUE=URI;X-ADDRESS=Masjid Zakariya (ICF-Albrae) 42472 Albrae St Fremont CA United States;X-APPLE-RADIUS=500;X-TITLE=42472 Albrae St:geo:-121.977139,37.514829
END:VEVENT
BEGIN:VEVENT
DTSTART;TZID=America/Los_Angeles:20241004T130000
DTEND;TZID=America/Los_Angeles:20241004T140000
DTSTAMP:20260425T091328
CREATED:20241003T222027Z
LAST-MODIFIED:20241004T205143Z
UID:10000817-1728046800-1728050400@icfbayarea.com
SUMMARY:Friday Bayaan at ICF
DESCRIPTION:Friday Bayaan at ICF\nhttps://stream.masjidiapp.com/icfbayaans/listen-live/\n(E_000027)
URL:https://icfbayarea.com/event/friday-bayaan-at-icf/
LOCATION:ICF\, 4039 Irvington Avenue\, Fremont\, CA\, 94538\, United States
END:VEVENT
BEGIN:VEVENT
DTSTART;TZID=America/Los_Angeles:20241004T053000
DTEND;TZID=America/Los_Angeles:20241004T063000
DTSTAMP:20260425T091328
CREATED:20240719T053520Z
LAST-MODIFIED:20241003T222017Z
UID:10000665-1728019800-1728023400@icfbayarea.com
SUMMARY:Koffee with Kahf
DESCRIPTION:Join us every Friday after Fajr at Masjid Zakariya for some coffee and pastries while we read Surah Kahf! All boys ages 14+ recommended to join. \n \n 
URL:https://icfbayarea.com/event/koffee-with-kahf/2024-10-04/
LOCATION:CA
END:VEVENT
BEGIN:VEVENT
DTSTART;TZID=America/Los_Angeles:20241003T193000
DTEND;TZID=America/Los_Angeles:20241003T203000
DTSTAMP:20260425T091328
CREATED:20241003T222026Z
LAST-MODIFIED:20241004T030417Z
UID:10000816-1727983800-1727987400@icfbayarea.com
SUMMARY:Quranic Compass: Navigating Challenges for Youth by Shaykh Shadman
DESCRIPTION:Join us for an enlightening journey as we delve into the depths of the Quran to address the pressing concerns of today’s youth.\nQuranic Compass is a weekly lecture series that invites you to explore the Islamic aspect of gender interactions\, the Quranic view on LGBTQ+ matters\, atheism\, and other contemporary issues.\nFB: http://facebook.com/MasjidZakariya\nIG: http://instagram.com/icfyouthbayarea\nYT: http://youtube.com/@islamiccenteroffremont\n(E_000059)
URL:https://icfbayarea.com/event/quranic-compass-navigating-challenges-for-youth-by-shaykh-shadman/
LOCATION:Masjid Zakariya\, 42412 Albrae St\, Fremont\, CA\, 94538\, United States
END:VEVENT
BEGIN:VEVENT
DTSTART;TZID=America/Los_Angeles:20240927T053000
DTEND;TZID=America/Los_Angeles:20240927T063000
DTSTAMP:20260425T091328
CREATED:20240719T053520Z
LAST-MODIFIED:20241003T222017Z
UID:10000664-1727415000-1727418600@icfbayarea.com
SUMMARY:Koffee with Kahf
DESCRIPTION:Join us every Friday after Fajr at Masjid Zakariya for some coffee and pastries while we read Surah Kahf! All boys ages 14+ recommended to join. \n \n 
URL:https://icfbayarea.com/event/koffee-with-kahf/2024-09-27/
LOCATION:CA
END:VEVENT
BEGIN:VEVENT
DTSTART;TZID=America/Los_Angeles:20240920T053000
DTEND;TZID=America/Los_Angeles:20240920T063000
DTSTAMP:20260425T091328
CREATED:20240719T053520Z
LAST-MODIFIED:20241003T222017Z
UID:10000663-1726810200-1726813800@icfbayarea.com
SUMMARY:Koffee with Kahf
DESCRIPTION:Join us every Friday after Fajr at Masjid Zakariya for some coffee and pastries while we read Surah Kahf! All boys ages 14+ recommended to join. \n \n 
URL:https://icfbayarea.com/event/koffee-with-kahf/2024-09-20/
LOCATION:CA
END:VEVENT
BEGIN:VEVENT
DTSTART;TZID=America/Los_Angeles:20240913T053000
DTEND;TZID=America/Los_Angeles:20240913T063000
DTSTAMP:20260425T091328
CREATED:20240719T053520Z
LAST-MODIFIED:20241003T222017Z
UID:10000662-1726205400-1726209000@icfbayarea.com
SUMMARY:Koffee with Kahf
DESCRIPTION:Join us every Friday after Fajr at Masjid Zakariya for some coffee and pastries while we read Surah Kahf! All boys ages 14+ recommended to join. \n \n 
URL:https://icfbayarea.com/event/koffee-with-kahf/2024-09-13/
LOCATION:CA
END:VEVENT
BEGIN:VEVENT
DTSTART;TZID=America/Los_Angeles:20240906T053000
DTEND;TZID=America/Los_Angeles:20240906T063000
DTSTAMP:20260425T091328
CREATED:20240719T053520Z
LAST-MODIFIED:20241003T222017Z
UID:10000661-1725600600-1725604200@icfbayarea.com
SUMMARY:Koffee with Kahf
DESCRIPTION:Join us every Friday after Fajr at Masjid Zakariya for some coffee and pastries while we read Surah Kahf! All boys ages 14+ recommended to join. \n \n 
URL:https://icfbayarea.com/event/koffee-with-kahf/2024-09-06/
LOCATION:CA
END:VEVENT
BEGIN:VEVENT
DTSTART;TZID=America/Los_Angeles:20240830T053000
DTEND;TZID=America/Los_Angeles:20240830T063000
DTSTAMP:20260425T091328
CREATED:20240719T053520Z
LAST-MODIFIED:20241003T222017Z
UID:10000660-1724995800-1724999400@icfbayarea.com
SUMMARY:Koffee with Kahf
DESCRIPTION:Join us every Friday after Fajr at Masjid Zakariya for some coffee and pastries while we read Surah Kahf! All boys ages 14+ recommended to join. \n \n 
URL:https://icfbayarea.com/event/koffee-with-kahf/2024-08-30/
LOCATION:CA
END:VEVENT
BEGIN:VEVENT
DTSTART;TZID=America/Los_Angeles:20240823T053000
DTEND;TZID=America/Los_Angeles:20240823T063000
DTSTAMP:20260425T091328
CREATED:20240719T053520Z
LAST-MODIFIED:20241003T222017Z
UID:10000659-1724391000-1724394600@icfbayarea.com
SUMMARY:Koffee with Kahf
DESCRIPTION:Join us every Friday after Fajr at Masjid Zakariya for some coffee and pastries while we read Surah Kahf! All boys ages 14+ recommended to join. \n \n 
URL:https://icfbayarea.com/event/koffee-with-kahf/2024-08-23/
LOCATION:CA
END:VEVENT
BEGIN:VEVENT
DTSTART;TZID=America/Los_Angeles:20240816T053000
DTEND;TZID=America/Los_Angeles:20240816T063000
DTSTAMP:20260425T091328
CREATED:20240719T053520Z
LAST-MODIFIED:20241003T222017Z
UID:10000658-1723786200-1723789800@icfbayarea.com
SUMMARY:Koffee with Kahf
DESCRIPTION:Join us every Friday after Fajr at Masjid Zakariya for some coffee and pastries while we read Surah Kahf! All boys ages 14+ recommended to join. \n \n 
URL:https://icfbayarea.com/event/koffee-with-kahf/2024-08-16/
LOCATION:CA
END:VEVENT
BEGIN:VEVENT
DTSTART;TZID=America/Los_Angeles:20240809T053000
DTEND;TZID=America/Los_Angeles:20240809T063000
DTSTAMP:20260425T091328
CREATED:20240719T053520Z
LAST-MODIFIED:20241003T222017Z
UID:10000657-1723181400-1723185000@icfbayarea.com
SUMMARY:Koffee with Kahf
DESCRIPTION:Join us every Friday after Fajr at Masjid Zakariya for some coffee and pastries while we read Surah Kahf! All boys ages 14+ recommended to join. \n \n 
URL:https://icfbayarea.com/event/koffee-with-kahf/2024-08-09/
LOCATION:CA
END:VEVENT
BEGIN:VEVENT
DTSTART;TZID=America/Los_Angeles:20240802T053000
DTEND;TZID=America/Los_Angeles:20240802T063000
DTSTAMP:20260425T091328
CREATED:20240719T053520Z
LAST-MODIFIED:20241003T222017Z
UID:10000656-1722576600-1722580200@icfbayarea.com
SUMMARY:Koffee with Kahf
DESCRIPTION:Join us every Friday after Fajr at Masjid Zakariya for some coffee and pastries while we read Surah Kahf! All boys ages 14+ recommended to join. \n \n 
URL:https://icfbayarea.com/event/koffee-with-kahf/2024-08-02/
LOCATION:CA
END:VEVENT
BEGIN:VEVENT
DTSTART;TZID=America/Los_Angeles:20240726T053000
DTEND;TZID=America/Los_Angeles:20240726T063000
DTSTAMP:20260425T091328
CREATED:20240719T053520Z
LAST-MODIFIED:20241003T222017Z
UID:10000655-1721971800-1721975400@icfbayarea.com
SUMMARY:Koffee with Kahf
DESCRIPTION:Join us every Friday after Fajr at Masjid Zakariya for some coffee and pastries while we read Surah Kahf! All boys ages 14+ recommended to join. \n \n 
URL:https://icfbayarea.com/event/koffee-with-kahf/2024-07-26/
LOCATION:CA
END:VEVENT
BEGIN:VEVENT
DTSTART;TZID=America/Los_Angeles:20240719T053000
DTEND;TZID=America/Los_Angeles:20240719T063000
DTSTAMP:20260425T091328
CREATED:20240719T053520Z
LAST-MODIFIED:20241003T222017Z
UID:10000654-1721367000-1721370600@icfbayarea.com
SUMMARY:Koffee with Kahf
DESCRIPTION:Join us every Friday after Fajr at Masjid Zakariya for some coffee and pastries while we read Surah Kahf! All boys ages 14+ recommended to join. \n \n 
URL:https://icfbayarea.com/event/koffee-with-kahf/2024-07-19/
LOCATION:CA
END:VEVENT
END:VCALENDAR