BEGIN:VCALENDAR
VERSION:2.0
PRODID:-//Islamic Center of Fremont - ECPv6.15.20//NONSGML v1.0//EN
CALSCALE:GREGORIAN
METHOD:PUBLISH
X-WR-CALNAME:Islamic Center of Fremont
X-ORIGINAL-URL:https://icfbayarea.com
X-WR-CALDESC:Events for Islamic Center of Fremont
REFRESH-INTERVAL;VALUE=DURATION:PT1H
X-Robots-Tag:noindex
X-PUBLISHED-TTL:PT1H
BEGIN:VTIMEZONE
TZID:America/Los_Angeles
BEGIN:DAYLIGHT
TZOFFSETFROM:-0800
TZOFFSETTO:-0700
TZNAME:PDT
DTSTART:20230312T100000
END:DAYLIGHT
BEGIN:STANDARD
TZOFFSETFROM:-0700
TZOFFSETTO:-0800
TZNAME:PST
DTSTART:20231105T090000
END:STANDARD
BEGIN:DAYLIGHT
TZOFFSETFROM:-0800
TZOFFSETTO:-0700
TZNAME:PDT
DTSTART:20240310T100000
END:DAYLIGHT
BEGIN:STANDARD
TZOFFSETFROM:-0700
TZOFFSETTO:-0800
TZNAME:PST
DTSTART:20241103T090000
END:STANDARD
BEGIN:DAYLIGHT
TZOFFSETFROM:-0800
TZOFFSETTO:-0700
TZNAME:PDT
DTSTART:20250309T100000
END:DAYLIGHT
BEGIN:STANDARD
TZOFFSETFROM:-0700
TZOFFSETTO:-0800
TZNAME:PST
DTSTART:20251102T090000
END:STANDARD
END:VTIMEZONE
BEGIN:VEVENT
DTSTART;TZID=America/Los_Angeles:20241019T110000
DTEND;TZID=America/Los_Angeles:20241019T120000
DTSTAMP:20260425T091938
CREATED:20241003T222031Z
LAST-MODIFIED:20241019T183329Z
UID:10000839-1729335600-1729339200@icfbayarea.com
SUMMARY:Fitness Class for Sisters
DESCRIPTION:Get fit and stay active!\nhttps://www.simplipayapp.com/spay/?programId=3619\n(E_000003)
URL:https://icfbayarea.com/event/fitness-class-for-sisters-3/
LOCATION:Masjid Zakariya (Gym)
END:VEVENT
BEGIN:VEVENT
DTSTART;TZID=America/Los_Angeles:20241019T100000
DTEND;TZID=America/Los_Angeles:20241019T133000
DTSTAMP:20260425T091938
CREATED:20241003T222031Z
LAST-MODIFIED:20241019T200643Z
UID:10000840-1729332000-1729344600@icfbayarea.com
SUMMARY:Barakah Food Distribution (Sisters)
DESCRIPTION:ICF Sisters Program to distribute grocery packages to the needy\n(E_000011)
URL:https://icfbayarea.com/event/barakah-food-distribution-sisters-2/
LOCATION:Masjid Zakariya (Gym)
END:VEVENT
BEGIN:VEVENT
DTSTART;TZID=America/Los_Angeles:20241019T090000
DTEND;TZID=America/Los_Angeles:20241019T100000
DTSTAMP:20260425T091938
CREATED:20241003T222031Z
LAST-MODIFIED:20241019T164914Z
UID:10000841-1729328400-1729332000@icfbayarea.com
SUMMARY:Men's Badminton
DESCRIPTION:
URL:https://icfbayarea.com/event/mens-badminton-3/
LOCATION:Masjid Zakariya (Gym)
END:VEVENT
BEGIN:VEVENT
DTSTART;TZID=America/Los_Angeles:20241018T190000
DTEND;TZID=America/Los_Angeles:20241018T230000
DTSTAMP:20260425T091938
CREATED:20241003T222031Z
LAST-MODIFIED:20241019T052114Z
UID:10000838-1729278000-1729292400@icfbayarea.com
SUMMARY:Family Night
DESCRIPTION:(E_000010)
URL:https://icfbayarea.com/event/family-night-3/
LOCATION:Masjid Zakariya\, 42412 Albrae St\, Fremont\, CA\, 94538\, United States
END:VEVENT
BEGIN:VEVENT
DTSTART;TZID=America/Los_Angeles:20241018T183000
DTEND;TZID=America/Los_Angeles:20241018T200000
DTSTAMP:20260425T091938
CREATED:20241003T222031Z
LAST-MODIFIED:20241019T025157Z
UID:10000837-1729276200-1729281600@icfbayarea.com
SUMMARY:Quranic Literacy Program: Sisters' Class
DESCRIPTION:Adult Quran Class for sisters at Masjid Zakariya.\nFor more information\, please contact: imamshadman@icfbayarea.com\n(E_000067)
URL:https://icfbayarea.com/event/quranic-literacy-program-sisters-class-3/
LOCATION:Masjid Zakariya (ICF-Albrae)\, 42472 Albrae St\, Fremont\, CA\, United States
GEO:37.514829;-121.977139
X-APPLE-STRUCTURED-LOCATION;VALUE=URI;X-ADDRESS=Masjid Zakariya (ICF-Albrae) 42472 Albrae St Fremont CA United States;X-APPLE-RADIUS=500;X-TITLE=42472 Albrae St:geo:-121.977139,37.514829
END:VEVENT
BEGIN:VEVENT
DTSTART;TZID=America/Los_Angeles:20241018T130000
DTEND;TZID=America/Los_Angeles:20241018T140000
DTSTAMP:20260425T091938
CREATED:20241003T222031Z
LAST-MODIFIED:20241018T204805Z
UID:10000836-1729256400-1729260000@icfbayarea.com
SUMMARY:Friday Bayaan at ICF
DESCRIPTION:Friday Bayaan at ICF\nhttps://stream.masjidiapp.com/icfbayaans/listen-live/\n(E_000027)
URL:https://icfbayarea.com/event/friday-bayaan-at-icf-3/
LOCATION:ICF\, 4039 Irvington Avenue\, Fremont\, CA\, 94538\, United States
END:VEVENT
BEGIN:VEVENT
DTSTART;TZID=America/Los_Angeles:20241018T053000
DTEND;TZID=America/Los_Angeles:20241018T063000
DTSTAMP:20260425T091938
CREATED:20240719T053520Z
LAST-MODIFIED:20241003T222017Z
UID:10000667-1729229400-1729233000@icfbayarea.com
SUMMARY:Koffee with Kahf
DESCRIPTION:Join us every Friday after Fajr at Masjid Zakariya for some coffee and pastries while we read Surah Kahf! All boys ages 14+ recommended to join. \n \n 
URL:https://icfbayarea.com/event/koffee-with-kahf/2024-10-18/
LOCATION:CA
END:VEVENT
BEGIN:VEVENT
DTSTART;TZID=America/Los_Angeles:20241017T193000
DTEND;TZID=America/Los_Angeles:20241017T203000
DTSTAMP:20260425T091938
CREATED:20241003T222031Z
LAST-MODIFIED:20241018T031805Z
UID:10000835-1729193400-1729197000@icfbayarea.com
SUMMARY:Quranic Compass: Navigating Challenges for Youth by Shaykh Shadman
DESCRIPTION:Join us for an enlightening journey as we delve into the depths of the Quran to address the pressing concerns of today’s youth.\nQuranic Compass is a weekly lecture series that invites you to explore the Islamic aspect of gender interactions\, the Quranic view on LGBTQ+ matters\, atheism\, and other contemporary issues.\nFB: http://facebook.com/MasjidZakariya\nIG: http://instagram.com/icfyouthbayarea\nYT: http://youtube.com/@islamiccenteroffremont\n(E_000059)
URL:https://icfbayarea.com/event/quranic-compass-navigating-challenges-for-youth-by-shaykh-shadman-3/
LOCATION:Masjid Zakariya\, 42412 Albrae St\, Fremont\, CA\, 94538\, United States
END:VEVENT
BEGIN:VEVENT
DTSTART;TZID=America/Los_Angeles:20241016T193000
DTEND;TZID=America/Los_Angeles:20241016T213000
DTSTAMP:20260425T091938
CREATED:20241003T222031Z
LAST-MODIFIED:20241017T040642Z
UID:10000834-1729107000-1729114200@icfbayarea.com
SUMMARY:Badminton (For Men)
DESCRIPTION:(E_000025)
URL:https://icfbayarea.com/event/badminton-for-men-4/
LOCATION:Masjid Zakariya (Gym)
END:VEVENT
BEGIN:VEVENT
DTSTART;TZID=America/Los_Angeles:20241014T203000
DTEND;TZID=America/Los_Angeles:20241014T220000
DTSTAMP:20260425T091938
CREATED:20241003T222031Z
LAST-MODIFIED:20241015T045456Z
UID:10000833-1728937800-1728943200@icfbayarea.com
SUMMARY:Quranic Literacy Program: Brother's Class
DESCRIPTION:Adult Quran Class for brothers taught by Imam Yahya Mulla. \nFor more information\, please see:  \nQuranic Literacy Program \n\n(E_000060)
URL:https://icfbayarea.com/event/quranic-literacy-program-brothers-class-2/
LOCATION:Islamic Center of Fremont (ICF-Irvington)\, 4039 Irvington Ave\, Fremont\, CA\, United States
GEO:37.531181;-121.959565
X-APPLE-STRUCTURED-LOCATION;VALUE=URI;X-ADDRESS=Islamic Center of Fremont (ICF-Irvington) 4039 Irvington Ave Fremont CA United States;X-APPLE-RADIUS=500;X-TITLE=4039 Irvington Ave:geo:-121.959565,37.531181
END:VEVENT
BEGIN:VEVENT
DTSTART;TZID=America/Los_Angeles:20241014T193000
DTEND;TZID=America/Los_Angeles:20241014T213000
DTSTAMP:20260425T091938
CREATED:20241003T222031Z
LAST-MODIFIED:20241015T041757Z
UID:10000832-1728934200-1728941400@icfbayarea.com
SUMMARY:Badminton (For Men)
DESCRIPTION:(E_000025)
URL:https://icfbayarea.com/event/badminton-for-men-3/
LOCATION:Masjid Zakariya (Gym)
END:VEVENT
BEGIN:VEVENT
DTSTART;TZID=America/Los_Angeles:20241012T110000
DTEND;TZID=America/Los_Angeles:20241012T120000
DTSTAMP:20260425T091938
CREATED:20241003T222031Z
LAST-MODIFIED:20241012T183709Z
UID:10000831-1728730800-1728734400@icfbayarea.com
SUMMARY:Fitness Class for Sisters
DESCRIPTION:Get fit and stay active!\nhttps://www.simplipayapp.com/spay/?programId=3619\n(E_000003)
URL:https://icfbayarea.com/event/fitness-class-for-sisters-2/
LOCATION:Masjid Zakariya (Gym)
END:VEVENT
BEGIN:VEVENT
DTSTART;TZID=America/Los_Angeles:20241012T100000
DTEND;TZID=America/Los_Angeles:20241012T133000
DTSTAMP:20260425T091938
CREATED:20241003T222031Z
LAST-MODIFIED:20241012T194852Z
UID:10000830-1728727200-1728739800@icfbayarea.com
SUMMARY:Barakah Food Distribution (Sisters)
DESCRIPTION:ICF Sisters Program to distribute grocery packages to the needy\n(E_000011)
URL:https://icfbayarea.com/event/barakah-food-distribution-sisters/
LOCATION:Masjid Zakariya (Gym)
END:VEVENT
BEGIN:VEVENT
DTSTART;TZID=America/Los_Angeles:20241012T090000
DTEND;TZID=America/Los_Angeles:20241012T100000
DTSTAMP:20260425T091938
CREATED:20241003T222031Z
LAST-MODIFIED:20241012T164804Z
UID:10000829-1728723600-1728727200@icfbayarea.com
SUMMARY:Men's Badminton
DESCRIPTION:
URL:https://icfbayarea.com/event/mens-badminton-2/
LOCATION:Masjid Zakariya (Gym)
END:VEVENT
BEGIN:VEVENT
DTSTART;TZID=America/Los_Angeles:20241011T190000
DTEND;TZID=America/Los_Angeles:20241011T230000
DTSTAMP:20260425T091938
CREATED:20241003T222031Z
LAST-MODIFIED:20241012T054850Z
UID:10000828-1728673200-1728687600@icfbayarea.com
SUMMARY:Family Night
DESCRIPTION:(E_000010)
URL:https://icfbayarea.com/event/family-night-2/
LOCATION:Masjid Zakariya\, 42412 Albrae St\, Fremont\, CA\, 94538\, United States
END:VEVENT
BEGIN:VEVENT
DTSTART;TZID=America/Los_Angeles:20241011T183000
DTEND;TZID=America/Los_Angeles:20241011T200000
DTSTAMP:20260425T091938
CREATED:20241003T222031Z
LAST-MODIFIED:20241012T023405Z
UID:10000827-1728671400-1728676800@icfbayarea.com
SUMMARY:Quranic Literacy Program: Sisters' Class
DESCRIPTION:Adult Quran Class for sisters at Masjid Zakariya.\nFor more information\, please contact: imamshadman@icfbayarea.com\n(E_000067)
URL:https://icfbayarea.com/event/quranic-literacy-program-sisters-class-2/
LOCATION:Masjid Zakariya (ICF-Albrae)\, 42472 Albrae St\, Fremont\, CA\, United States
GEO:37.514829;-121.977139
X-APPLE-STRUCTURED-LOCATION;VALUE=URI;X-ADDRESS=Masjid Zakariya (ICF-Albrae) 42472 Albrae St Fremont CA United States;X-APPLE-RADIUS=500;X-TITLE=42472 Albrae St:geo:-121.977139,37.514829
END:VEVENT
BEGIN:VEVENT
DTSTART;TZID=America/Los_Angeles:20241011T130000
DTEND;TZID=America/Los_Angeles:20241011T140000
DTSTAMP:20260425T091938
CREATED:20241003T222031Z
LAST-MODIFIED:20241011T203252Z
UID:10000826-1728651600-1728655200@icfbayarea.com
SUMMARY:Friday Bayaan at ICF
DESCRIPTION:Friday Bayaan at ICF\nhttps://stream.masjidiapp.com/icfbayaans/listen-live/\n(E_000027)
URL:https://icfbayarea.com/event/friday-bayaan-at-icf-2/
LOCATION:ICF\, 4039 Irvington Avenue\, Fremont\, CA\, 94538\, United States
END:VEVENT
BEGIN:VEVENT
DTSTART;TZID=America/Los_Angeles:20241011T053000
DTEND;TZID=America/Los_Angeles:20241011T063000
DTSTAMP:20260425T091938
CREATED:20240719T053520Z
LAST-MODIFIED:20241003T222017Z
UID:10000666-1728624600-1728628200@icfbayarea.com
SUMMARY:Koffee with Kahf
DESCRIPTION:Join us every Friday after Fajr at Masjid Zakariya for some coffee and pastries while we read Surah Kahf! All boys ages 14+ recommended to join. \n \n 
URL:https://icfbayarea.com/event/koffee-with-kahf/2024-10-11/
LOCATION:CA
END:VEVENT
BEGIN:VEVENT
DTSTART;TZID=America/Los_Angeles:20241010T193000
DTEND;TZID=America/Los_Angeles:20241010T203000
DTSTAMP:20260425T091938
CREATED:20241003T222028Z
LAST-MODIFIED:20241011T032647Z
UID:10000825-1728588600-1728592200@icfbayarea.com
SUMMARY:Quranic Compass: Navigating Challenges for Youth by Shaykh Shadman
DESCRIPTION:Join us for an enlightening journey as we delve into the depths of the Quran to address the pressing concerns of today’s youth.\nQuranic Compass is a weekly lecture series that invites you to explore the Islamic aspect of gender interactions\, the Quranic view on LGBTQ+ matters\, atheism\, and other contemporary issues.\nFB: http://facebook.com/MasjidZakariya\nIG: http://instagram.com/icfyouthbayarea\nYT: http://youtube.com/@islamiccenteroffremont\n(E_000059)
URL:https://icfbayarea.com/event/quranic-compass-navigating-challenges-for-youth-by-shaykh-shadman-2/
LOCATION:Masjid Zakariya\, 42412 Albrae St\, Fremont\, CA\, 94538\, United States
END:VEVENT
BEGIN:VEVENT
DTSTART;TZID=America/Los_Angeles:20241009T193000
DTEND;TZID=America/Los_Angeles:20241009T213000
DTSTAMP:20260425T091938
CREATED:20241003T222027Z
LAST-MODIFIED:20241010T034904Z
UID:10000824-1728502200-1728509400@icfbayarea.com
SUMMARY:Badminton (For Men)
DESCRIPTION:(E_000025)
URL:https://icfbayarea.com/event/badminton-for-men-2/
LOCATION:Masjid Zakariya (Gym)
END:VEVENT
BEGIN:VEVENT
DTSTART;TZID=America/Los_Angeles:20241007T203000
DTEND;TZID=America/Los_Angeles:20241007T220000
DTSTAMP:20260425T091938
CREATED:20241003T222027Z
LAST-MODIFIED:20241008T043232Z
UID:10000822-1728333000-1728338400@icfbayarea.com
SUMMARY:Quranic Literacy Program: Brother's Class
DESCRIPTION:Adult Quran Class for brothers taught by Imam Yahya Mulla. \nFor more information\, please see:  \nQuranic Literacy Program \n\n(E_000060)
URL:https://icfbayarea.com/event/quranic-literacy-program-brothers-class/
LOCATION:Islamic Center of Fremont (ICF-Irvington)\, 4039 Irvington Ave\, Fremont\, CA\, United States
GEO:37.531181;-121.959565
X-APPLE-STRUCTURED-LOCATION;VALUE=URI;X-ADDRESS=Islamic Center of Fremont (ICF-Irvington) 4039 Irvington Ave Fremont CA United States;X-APPLE-RADIUS=500;X-TITLE=4039 Irvington Ave:geo:-121.959565,37.531181
END:VEVENT
BEGIN:VEVENT
DTSTART;TZID=America/Los_Angeles:20241007T193000
DTEND;TZID=America/Los_Angeles:20241007T213000
DTSTAMP:20260425T091938
CREATED:20241003T222027Z
LAST-MODIFIED:20241008T040608Z
UID:10000823-1728329400-1728336600@icfbayarea.com
SUMMARY:Badminton (For Men)
DESCRIPTION:(E_000025)
URL:https://icfbayarea.com/event/badminton-for-men/
LOCATION:Masjid Zakariya (Gym)
END:VEVENT
BEGIN:VEVENT
DTSTART;TZID=America/Los_Angeles:20241005T110000
DTEND;TZID=America/Los_Angeles:20241005T120000
DTSTAMP:20260425T091938
CREATED:20241003T222027Z
LAST-MODIFIED:20241005T184843Z
UID:10000821-1728126000-1728129600@icfbayarea.com
SUMMARY:Fitness Class for Sisters
DESCRIPTION:Get fit and stay active!\nhttps://www.simplipayapp.com/spay/?programId=3619\n(E_000003)
URL:https://icfbayarea.com/event/fitness-class-for-sisters/
LOCATION:Masjid Zakariya (Gym)
END:VEVENT
BEGIN:VEVENT
DTSTART;TZID=America/Los_Angeles:20241005T090000
DTEND;TZID=America/Los_Angeles:20241005T100000
DTSTAMP:20260425T091938
CREATED:20241003T222027Z
LAST-MODIFIED:20241005T163356Z
UID:10000820-1728118800-1728122400@icfbayarea.com
SUMMARY:Men's Badminton
DESCRIPTION:
URL:https://icfbayarea.com/event/mens-badminton/
LOCATION:Masjid Zakariya (Gym)
END:VEVENT
BEGIN:VEVENT
DTSTART;TZID=America/Los_Angeles:20241004T190000
DTEND;TZID=America/Los_Angeles:20241004T230000
DTSTAMP:20260425T091938
CREATED:20241003T222027Z
LAST-MODIFIED:20241005T053350Z
UID:10000818-1728068400-1728082800@icfbayarea.com
SUMMARY:Family Night
DESCRIPTION:(E_000010)
URL:https://icfbayarea.com/event/family-night/
LOCATION:Masjid Zakariya\, 42412 Albrae St\, Fremont\, CA\, 94538\, United States
END:VEVENT
BEGIN:VEVENT
DTSTART;TZID=America/Los_Angeles:20241004T183000
DTEND;TZID=America/Los_Angeles:20241004T200000
DTSTAMP:20260425T091938
CREATED:20241003T222027Z
LAST-MODIFIED:20241005T024942Z
UID:10000819-1728066600-1728072000@icfbayarea.com
SUMMARY:Quranic Literacy Program: Sisters' Class
DESCRIPTION:Adult Quran Class for sisters at Masjid Zakariya.\nFor more information\, please contact: imamshadman@icfbayarea.com\n(E_000067)
URL:https://icfbayarea.com/event/quranic-literacy-program-sisters-class/
LOCATION:Masjid Zakariya (ICF-Albrae)\, 42472 Albrae St\, Fremont\, CA\, United States
GEO:37.514829;-121.977139
X-APPLE-STRUCTURED-LOCATION;VALUE=URI;X-ADDRESS=Masjid Zakariya (ICF-Albrae) 42472 Albrae St Fremont CA United States;X-APPLE-RADIUS=500;X-TITLE=42472 Albrae St:geo:-121.977139,37.514829
END:VEVENT
BEGIN:VEVENT
DTSTART;TZID=America/Los_Angeles:20241004T130000
DTEND;TZID=America/Los_Angeles:20241004T140000
DTSTAMP:20260425T091938
CREATED:20241003T222027Z
LAST-MODIFIED:20241004T205143Z
UID:10000817-1728046800-1728050400@icfbayarea.com
SUMMARY:Friday Bayaan at ICF
DESCRIPTION:Friday Bayaan at ICF\nhttps://stream.masjidiapp.com/icfbayaans/listen-live/\n(E_000027)
URL:https://icfbayarea.com/event/friday-bayaan-at-icf/
LOCATION:ICF\, 4039 Irvington Avenue\, Fremont\, CA\, 94538\, United States
END:VEVENT
BEGIN:VEVENT
DTSTART;TZID=America/Los_Angeles:20241004T053000
DTEND;TZID=America/Los_Angeles:20241004T063000
DTSTAMP:20260425T091938
CREATED:20240719T053520Z
LAST-MODIFIED:20241003T222017Z
UID:10000665-1728019800-1728023400@icfbayarea.com
SUMMARY:Koffee with Kahf
DESCRIPTION:Join us every Friday after Fajr at Masjid Zakariya for some coffee and pastries while we read Surah Kahf! All boys ages 14+ recommended to join. \n \n 
URL:https://icfbayarea.com/event/koffee-with-kahf/2024-10-04/
LOCATION:CA
END:VEVENT
BEGIN:VEVENT
DTSTART;TZID=America/Los_Angeles:20241003T193000
DTEND;TZID=America/Los_Angeles:20241003T203000
DTSTAMP:20260425T091938
CREATED:20241003T222026Z
LAST-MODIFIED:20241004T030417Z
UID:10000816-1727983800-1727987400@icfbayarea.com
SUMMARY:Quranic Compass: Navigating Challenges for Youth by Shaykh Shadman
DESCRIPTION:Join us for an enlightening journey as we delve into the depths of the Quran to address the pressing concerns of today’s youth.\nQuranic Compass is a weekly lecture series that invites you to explore the Islamic aspect of gender interactions\, the Quranic view on LGBTQ+ matters\, atheism\, and other contemporary issues.\nFB: http://facebook.com/MasjidZakariya\nIG: http://instagram.com/icfyouthbayarea\nYT: http://youtube.com/@islamiccenteroffremont\n(E_000059)
URL:https://icfbayarea.com/event/quranic-compass-navigating-challenges-for-youth-by-shaykh-shadman/
LOCATION:Masjid Zakariya\, 42412 Albrae St\, Fremont\, CA\, 94538\, United States
END:VEVENT
BEGIN:VEVENT
DTSTART;TZID=America/Los_Angeles:20240927T053000
DTEND;TZID=America/Los_Angeles:20240927T063000
DTSTAMP:20260425T091938
CREATED:20240719T053520Z
LAST-MODIFIED:20241003T222017Z
UID:10000664-1727415000-1727418600@icfbayarea.com
SUMMARY:Koffee with Kahf
DESCRIPTION:Join us every Friday after Fajr at Masjid Zakariya for some coffee and pastries while we read Surah Kahf! All boys ages 14+ recommended to join. \n \n 
URL:https://icfbayarea.com/event/koffee-with-kahf/2024-09-27/
LOCATION:CA
END:VEVENT
END:VCALENDAR